{"text_format":"3","workbook":"xlsx","n_sheets":2,"sheets":["raw_Data","Transactioncosts"],"not_rendered":{"macros":1,"defined_names":116},"read":"whole","date_system":"1900"}

{"sheet":"raw_Data","index":0,"n_rows":1785,"n_cols":7,"rows_kept":1785}
["Stock Market Data Used in \"Irrational Exuberance\" Princeton University Press, 2000, 2005, 2015, updated"]
["Robert J. Shiller "]
[]
[{"$nulls":4},"  Consumer"]
[null,"S&P",null,null,"Price",null,"Long"]
[null,"Comp.","Dividend","Earnings","Index","Date  ","Interest"]
["Date","P","D","E","CPI","Fraction","Rate GS10"]
[1871.01,4.44,0.26,{"v":0.4,"d":"0.40"},{"v":12.46406116,"d":"12.46"},{"$f":"1871+1/24","v":{"v":1871.0416666666667,"d":"1871.04"}},5.32]
[1871.02,{"v":4.5,"d":"4.50"},0.26,{"v":0.4,"d":"0.40"},{"v":12.84464132,"d":"12.84"},{"$f":"F8+1/12","v":{"v":1871.125,"d":"1871.13"}},{"$f":"G8*11/12+G20*1/12","v":{"v":5.323333333333333,"d":"5.32"}}]
[1871.03,4.61,0.26,{"v":0.4,"d":"0.40"},{"v":13.0349719,"d":"13.03"},{"v":1871.2083333333333,"d":"1871.21"},{"$f":"G8*10/12+G20*2/12","v":{"v":5.326666666666667,"d":"5.33"}}]
[1871.04,4.74,0.26,{"v":0.4,"d":"0.40"},{"v":12.55922645,"d":"12.56"},{"v":1871.2916666666665,"d":"1871.29"},{"$f":"G8*9/12+G20*3/12","v":5.33}]
[1871.05,4.86,0.26,{"v":0.4,"d":"0.40"},{"v":12.27381157,"d":"12.27"},{"v":1871.3749999999998,"d":"1871.38"},{"$f":"G8*8/12+G20*4/12","v":{"v":5.333333333333334,"d":"5.33"}}]
[1871.06,4.82,0.26,{"v":0.4,"d":"0.40"},{"v":12.08348099,"d":"12.08"},{"v":1871.458333333333,"d":"1871.46"},{"$f":"G8*7/12+G20*5/12","v":{"v":5.336666666666667,"d":"5.34"}}]
[1871.07,4.73,0.26,{"v":0.4,"d":"0.40"},{"v":12.08348099,"d":"12.08"},{"v":1871.5416666666663,"d":"1871.54"},{"$f":"G8*6/12+G20*6/12","v":5.34}]
[1871.08,4.79,0.26,{"v":0.4,"d":"0.40"},{"v":11.8932314,"d":"11.89"},{"v":1871.6249999999995,"d":"1871.63"},{"$f":"G8*5/12+G20*7/12","v":{"v":5.343333333333334,"d":"5.34"}}]
[1871.09,4.84,0.26,{"v":0.4,"d":"0.40"},{"v":12.17864628,"d":"12.18"},{"v":1871.7083333333328,"d":"1871.71"},{"$f":"G8*4/12+G20*8/12","v":{"v":5.346666666666668,"d":"5.35"}}]
[{"v":1871.1,"d":"1871.10"},4.59,0.26,{"v":0.4,"d":"0.40"},{"v":12.36889587,"d":"12.37"},{"v":1871.791666666666,"d":"1871.79"},{"$f":"G8*3/12+G20*9/12","v":{"v":5.3500000000000005,"d":"5.35"}}]
[1871.11,4.64,0.26,{"v":0.4,"d":"0.40"},{"v":12.36889587,"d":"12.37"},{"v":1871.8749999999993,"d":"1871.88"},{"$f":"G8*2/12+G20*10/12","v":{"v":5.3533333333333335,"d":"5.35"}}]
[1871.12,4.74,0.26,{"v":0.4,"d":"0.40"},{"v":12.65439174,"d":"12.65"},{"v":1871.9583333333326,"d":"1871.96"},{"$f":"G8*1/12+G20*11/12","v":{"v":5.3566666666666665,"d":"5.36"}}]
[1872.01,4.86,{"v":0.2633,"d":"0.26"},{"v":0.4025,"d":"0.40"},{"v":12.65439174,"d":"12.65"},{"v":1872.0416666666658,"d":"1872.04"},5.36]
[1872.02,4.88,{"v":0.2667,"d":"0.27"},{"v":0.405,"d":"0.41"},{"v":12.65439174,"d":"12.65"},{"v":1872.124999999999,"d":"1872.13"},{"$f":"G20*11/12+G32*1/12","v":{"v":5.378333333333333,"d":"5.38"}}]
[1872.03,5.04,0.27,{"v":0.4075,"d":"0.41"},{"v":12.84464132,"d":"12.84"},{"v":1872.2083333333323,"d":"1872.21"},{"$f":"G20*10/12+G32*2/12","v":{"v":5.3966666666666665,"d":"5.40"}}]
[1872.04,5.18,{"v":0.2733,"d":"0.27"},0.41,{"v":13.13013719,"d":"13.13"},{"v":1872.2916666666656,"d":"1872.29"},{"$f":"G20*9/12+G32*3/12","v":{"v":5.415000000000001,"d":"5.42"}}]
[1872.05,5.18,{"v":0.2767,"d":"0.28"},{"v":0.4125,"d":"0.41"},{"v":13.13013719,"d":"13.13"},{"v":1872.3749999999989,"d":"1872.38"},{"$f":"G20*8/12+G32*4/12","v":{"v":5.433333333333334,"d":"5.43"}}]
[1872.06,5.13,0.28,{"v":0.415,"d":"0.42"},{"v":13.0349719,"d":"13.03"},{"v":1872.4583333333321,"d":"1872.46"},{"$f":"G20*7/12+G32*5/12","v":{"v":5.451666666666666,"d":"5.45"}}]
[1872.07,{"v":5.1,"d":"5.10"},{"v":0.2833,"d":"0.28"},{"v":0.4175,"d":"0.42"},{"v":12.84464132,"d":"12.84"},{"v":1872.5416666666654,"d":"1872.54"},{"$f":"G20*6/12+G32*6/12","v":{"v":5.470000000000001,"d":"5.47"}}]
[1872.08,5.04,{"v":0.2867,"d":"0.29"},0.42,{"v":12.93980661,"d":"12.94"},{"v":1872.6249999999986,"d":"1872.63"},{"$f":"G20*5/12+G32*7/12","v":{"v":5.488333333333333,"d":"5.49"}}]
[1872.09,4.95,0.29,{"v":0.4225,"d":"0.42"},{"v":13.0349719,"d":"13.03"},{"v":1872.708333333332,"d":"1872.71"},{"$f":"G20*4/12+G32*8/12","v":{"v":5.506666666666667,"d":"5.51"}}]
[{"v":1872.1,"d":"1872.10"},4.97,{"v":0.2933,"d":"0.29"},{"v":0.425,"d":"0.43"},{"v":12.74947603,"d":"12.75"},{"v":1872.7916666666652,"d":"1872.79"},{"$f":"G20*3/12+G32*9/12","v":{"v":5.5249999999999995,"d":"5.53"}}]
[1872.11,4.95,{"v":0.2967,"d":"0.30"},{"v":0.4275,"d":"0.43"},{"v":13.13013719,"d":"13.13"},{"v":1872.8749999999984,"d":"1872.88"},{"$f":"G20*2/12+G32*10/12","v":{"v":5.543333333333333,"d":"5.54"}}]
[1872.12,5.07,{"v":0.3,"d":"0.30"},0.43,{"v":12.93980661,"d":"12.94"},{"v":1872.9583333333317,"d":"1872.96"},{"$f":"G20*1/12+G32*11/12","v":{"v":5.5616666666666665,"d":"5.56"}}]
[1873.01,5.11,{"v":0.3025,"d":"0.30"},{"v":0.4325,"d":"0.43"},{"v":12.93980661,"d":"12.94"},{"v":1873.041666666665,"d":"1873.04"},5.58]
[1873.02,5.15,{"v":0.305,"d":"0.31"},{"v":0.435,"d":"0.44"},{"v":13.22522149,"d":"13.23"},{"v":1873.1249999999982,"d":"1873.13"},{"$f":"G32*11/12+G44*1/12","v":{"v":5.570833333333334,"d":"5.57"}}]
[1873.03,5.11,{"v":0.3075,"d":"0.31"},{"v":0.4375,"d":"0.44"},{"v":13.22522149,"d":"13.23"},{"v":1873.2083333333314,"d":"1873.21"},{"$f":"G32*10/12+G44*2/12","v":{"v":5.561666666666666,"d":"5.56"}}]
[1873.04,5.04,0.31,0.44,{"v":13.22522149,"d":"13.23"},{"v":1873.2916666666647,"d":"1873.29"},{"$f":"G32*9/12+G44*3/12","v":{"v":5.552499999999999,"d":"5.55"}}]
[1873.05,5.05,{"v":0.3125,"d":"0.31"},{"v":0.4425,"d":"0.44"},{"v":12.93980661,"d":"12.94"},{"v":1873.374999999998,"d":"1873.38"},{"$f":"G32*8/12+G44*4/12","v":{"v":5.543333333333333,"d":"5.54"}}]
[1873.06,4.98,{"v":0.315,"d":"0.32"},{"v":0.445,"d":"0.45"},{"v":12.55922645,"d":"12.56"},{"v":1873.4583333333312,"d":"1873.46"},{"$f":"G32*7/12+G44*5/12","v":{"v":5.534166666666667,"d":"5.53"}}]
[1873.07,4.97,{"v":0.3175,"d":"0.32"},{"v":0.4475,"d":"0.45"},{"v":12.55922645,"d":"12.56"},{"v":1873.5416666666645,"d":"1873.54"},{"$f":"G32*6/12+G44*6/12","v":{"v":5.525,"d":"5.53"}}]
[1873.08,4.97,0.32,0.45,{"v":12.55922645,"d":"12.56"},{"v":1873.6249999999977,"d":"1873.63"},{"$f":"G32*5/12+G44*7/12","v":{"v":5.515833333333333,"d":"5.52"}}]
[1873.09,4.59,{"v":0.3225,"d":"0.32"},{"v":0.4525,"d":"0.45"},{"v":12.55922645,"d":"12.56"},{"v":1873.708333333331,"d":"1873.71"},{"$f":"G32*4/12+G44*8/12","v":{"v":5.506666666666667,"d":"5.51"}}]
[{"v":1873.1,"d":"1873.10"},4.19,{"v":0.325,"d":"0.33"},{"v":0.455,"d":"0.46"},{"v":12.27381157,"d":"12.27"},{"v":1873.7916666666642,"d":"1873.79"},{"$f":"G32*3/12+G44*9/12","v":{"v":5.4975000000000005,"d":"5.50"}}]
[1873.11,4.04,{"v":0.3275,"d":"0.33"},{"v":0.4575,"d":"0.46"},{"v":11.8932314,"d":"11.89"},{"v":1873.8749999999975,"d":"1873.88"},{"$f":"G32*2/12+G44*10/12","v":{"v":5.488333333333332,"d":"5.49"}}]
[1873.12,4.42,0.33,0.46,{"v":12.17864628,"d":"12.18"},{"v":1873.9583333333308,"d":"1873.96"},{"$f":"G32*1/12+G44*11/12","v":{"v":5.479166666666666,"d":"5.48"}}]
[1874.01,4.66,0.33,0.46,{"v":12.36889587,"d":"12.37"},{"v":1874.041666666664,"d":"1874.04"},5.47]
[1874.02,{"v":4.8,"d":"4.80"},0.33,0.46,{"v":12.36889587,"d":"12.37"},{"v":1874.1249999999973,"d":"1874.13"},{"$f":"G44*11/12+G56*1/12","v":{"v":5.4366666666666665,"d":"5.44"}}]
[1874.03,4.73,0.33,0.46,{"v":12.36889587,"d":"12.37"},{"v":1874.2083333333305,"d":"1874.21"},{"$f":"G44*10/12+G56*2/12","v":{"v":5.403333333333332,"d":"5.40"}}]
[1874.04,{"v":4.6,"d":"4.60"},0.33,0.46,{"v":12.17864628,"d":"12.18"},{"v":1874.2916666666638,"d":"1874.29"},{"$f":"G44*9/12+G56*3/12","v":5.37}]
[1874.05,4.48,0.33,0.46,{"v":12.08348099,"d":"12.08"},{"v":1874.374999999997,"d":"1874.38"},{"$f":"G44*8/12+G56*4/12","v":{"v":5.336666666666667,"d":"5.34"}}]
[1874.06,4.46,0.33,0.46,{"v":11.79806612,"d":"11.80"},{"v":1874.4583333333303,"d":"1874.46"},{"$f":"G44*7/12+G56*5/12","v":{"v":5.303333333333334,"d":"5.30"}}]
[1874.07,4.46,0.33,0.46,{"v":11.8932314,"d":"11.89"},{"v":1874.5416666666636,"d":"1874.54"},{"$f":"G44*6/12+G56*6/12","v":5.27}]
[1874.08,4.47,0.33,0.46,{"v":11.79806612,"d":"11.80"},{"v":1874.6249999999968,"d":"1874.63"},{"$f":"G44*5/12+G56*7/12","v":{"v":5.236666666666666,"d":"5.24"}}]
[1874.09,4.54,0.33,0.46,{"v":11.79806612,"d":"11.80"},{"v":1874.70833333333,"d":"1874.71"},{"$f":"G44*4/12+G56*8/12","v":{"v":5.203333333333333,"d":"5.20"}}]
[{"v":1874.1,"d":"1874.10"},4.53,0.33,0.46,{"v":11.60773554,"d":"11.61"},{"v":1874.7916666666633,"d":"1874.79"},{"$f":"G44*3/12+G56*9/12","v":5.17}]
[1874.11,4.57,0.33,0.46,{"v":11.51265124,"d":"11.51"},{"v":1874.8749999999966,"d":"1874.88"},{"$f":"G44*2/12+G56*10/12","v":{"v":5.136666666666667,"d":"5.14"}}]
[1874.12,4.54,0.33,0.46,{"v":11.51265124,"d":"11.51"},{"v":1874.9583333333298,"d":"1874.96"},{"$f":"G44*1/12+G56*11/12","v":{"v":5.1033333333333335,"d":"5.10"}}]
[1875.01,4.54,{"v":0.3275,"d":"0.33"},{"v":0.4517,"d":"0.45"},{"v":11.51265124,"d":"11.51"},{"v":1875.041666666663,"d":"1875.04"},5.07]
[1875.02,4.53,{"v":0.325,"d":"0.33"},{"v":0.4433,"d":"0.44"},{"v":11.51265124,"d":"11.51"},{"v":1875.1249999999964,"d":"1875.13"},{"$f":"G56*11/12+G68*1/12","v":5.03}]
[1875.03,4.59,{"v":0.3225,"d":"0.32"},{"v":0.435,"d":"0.44"},{"v":11.51265124,"d":"11.51"},{"v":1875.2083333333296,"d":"1875.21"},{"$f":"G56*10/12+G68*2/12","v":4.99}]
[1875.04,4.65,0.32,{"v":0.4267,"d":"0.43"},{"v":11.60773554,"d":"11.61"},{"v":1875.2916666666629,"d":"1875.29"},{"$f":"G56*9/12+G68*3/12","v":4.95}]
[1875.05,4.47,{"v":0.3175,"d":"0.32"},{"v":0.4183,"d":"0.42"},{"v":11.32232066,"d":"11.32"},{"v":1875.3749999999961,"d":"1875.38"},{"$f":"G56*8/12+G68*4/12","v":4.91}]
[1875.06,4.38,{"v":0.315,"d":"0.32"},0.41,{"v":11.13207107,"d":"11.13"},{"v":1875.4583333333294,"d":"1875.46"},{"$f":"G56*7/12+G68*5/12","v":4.87}]
[1875.07,4.39,{"v":0.3125,"d":"0.31"},{"v":0.4017,"d":"0.40"},{"v":11.13207107,"d":"11.13"},{"v":1875.5416666666626,"d":"1875.54"},{"$f":"G56*6/12+G68*6/12","v":4.83}]
[1875.08,4.41,0.31,{"v":0.3933,"d":"0.39"},{"v":11.22715537,"d":"11.23"},{"v":1875.624999999996,"d":"1875.63"},{"$f":"G56*5/12+G68*7/12","v":4.79}]
[1875.09,4.37,{"v":0.3075,"d":"0.31"},{"v":0.385,"d":"0.39"},{"v":11.13207107,"d":"11.13"},{"v":1875.7083333333292,"d":"1875.71"},{"$f":"G56*4/12+G68*8/12","v":4.75}]
[{"v":1875.1,"d":"1875.10"},{"v":4.3,"d":"4.30"},{"v":0.305,"d":"0.31"},{"v":0.3767,"d":"0.38"},{"v":11.13207107,"d":"11.13"},{"v":1875.7916666666624,"d":"1875.79"},{"$f":"G56*3/12+G68*9/12","v":{"v":4.710000000000001,"d":"4.71"}}]
[1875.11,4.37,{"v":0.3025,"d":"0.30"},{"v":0.3683,"d":"0.37"},{"v":11.03690579,"d":"11.04"},{"v":1875.8749999999957,"d":"1875.88"},{"$f":"G56*2/12+G68*10/12","v":4.67}]
[1875.12,4.37,{"v":0.3,"d":"0.30"},0.36,{"v":10.9417405,"d":"10.94"},{"v":1875.958333333329,"d":"1875.96"},{"$f":"G56*1/12+G68*11/12","v":4.63}]
[1876.01,4.46,{"v":0.3,"d":"0.30"},{"v":0.3533,"d":"0.35"},{"v":10.84657521,"d":"10.85"},{"v":1876.0416666666622,"d":"1876.04"},4.59]
[1876.02,4.52,{"v":0.3,"d":"0.30"},{"v":0.3467,"d":"0.35"},{"v":10.84657521,"d":"10.85"},{"v":1876.1249999999955,"d":"1876.13"},{"$f":"G68*11/12+G80*1/12","v":{"v":4.578333333333333,"d":"4.58"}}]
[1876.03,4.51,{"v":0.3,"d":"0.30"},0.34,{"v":10.84657521,"d":"10.85"},{"v":1876.2083333333287,"d":"1876.21"},{"$f":"G68*10/12+G80*2/12","v":{"v":4.566666666666666,"d":"4.57"}}]
[1876.04,4.34,{"v":0.3,"d":"0.30"},{"v":0.3333,"d":"0.33"},{"v":10.75149091,"d":"10.75"},{"v":1876.291666666662,"d":"1876.29"},{"$f":"G68*9/12+G80*3/12","v":{"v":4.555000000000001,"d":"4.56"}}]
[1876.05,4.18,{"v":0.3,"d":"0.30"},{"v":0.3267,"d":"0.33"},{"v":10.37091074,"d":"10.37"},{"v":1876.3749999999952,"d":"1876.38"},{"$f":"G68*8/12+G80*4/12","v":{"v":4.543333333333333,"d":"4.54"}}]
[1876.06,4.15,{"v":0.3,"d":"0.30"},0.32,{"v":10.08541488,"d":"10.09"},{"$f":"F72+1/12","v":{"v":1876.4583333333285,"d":"1876.46"}},{"$f":"G68*7/12+G80*5/12","v":{"v":4.531666666666666,"d":"4.53"}}]
[1876.07,{"v":4.1,"d":"4.10"},{"v":0.3,"d":"0.30"},{"v":0.3133,"d":"0.31"},{"v":10.08541488,"d":"10.09"},{"v":1876.5416666666617,"d":"1876.54"},{"$f":"G68*6/12+G80*6/12","v":4.52}]
[1876.08,3.93,{"v":0.3,"d":"0.30"},{"v":0.3067,"d":"0.31"},{"v":10.18058017,"d":"10.18"},{"v":1876.624999999995,"d":"1876.62"},{"$f":"G68*5/12+G80*7/12","v":{"v":4.508333333333334,"d":"4.51"}}]
[1876.09,3.69,{"v":0.3,"d":"0.30"},{"v":0.3,"d":"0.30"},{"v":10.27574545,"d":"10.28"},{"v":1876.7083333333283,"d":"1876.71"},{"$f":"G68*4/12+G80*8/12","v":{"v":4.496666666666667,"d":"4.50"}}]
[{"v":1876.1,"d":"1876.10"},3.67,{"v":0.3,"d":"0.30"},{"v":0.2933,"d":"0.29"},{"v":10.46599504,"d":"10.47"},{"v":1876.7916666666615,"d":"1876.79"},{"$f":"G68*3/12+G80*9/12","v":{"v":4.485,"d":"4.49"}}]
[1876.11,{"v":3.6,"d":"3.60"},{"v":0.3,"d":"0.30"},{"v":0.2867,"d":"0.29"},{"v":10.56116033,"d":"10.56"},{"v":1876.8749999999948,"d":"1876.87"},{"$f":"G68*2/12+G80*10/12","v":{"v":4.473333333333334,"d":"4.47"}}]
[1876.12,3.58,{"v":0.3,"d":"0.30"},0.28,{"v":10.75149091,"d":"10.75"},{"v":1876.958333333328,"d":"1876.96"},{"$f":"G68*1/12+G80*11/12","v":{"v":4.461666666666667,"d":"4.46"}}]
[1877.01,3.55,{"v":0.2908,"d":"0.29"},{"v":0.2817,"d":"0.28"},{"v":10.9417405,"d":"10.94"},{"v":1877.0416666666613,"d":"1877.04"},4.45]
[1877.02,3.34,{"v":0.2817,"d":"0.28"},{"v":0.2833,"d":"0.28"},{"v":10.65632562,"d":"10.66"},{"v":1877.1249999999945,"d":"1877.12"},{"$f":"G80*11/12+G92*1/12","v":{"v":4.440833333333333,"d":"4.44"}}]
[1877.03,3.17,{"v":0.2725,"d":"0.27"},{"v":0.285,"d":"0.29"},{"v":10.18058017,"d":"10.18"},{"v":1877.2083333333278,"d":"1877.21"},{"$f":"G80*10/12+G92*2/12","v":{"v":4.431666666666667,"d":"4.43"}}]
[1877.04,2.94,{"v":0.2633,"d":"0.26"},{"v":0.2867,"d":"0.29"},{"v":10.46599504,"d":"10.47"},{"v":1877.291666666661,"d":"1877.29"},{"$f":"G80*9/12+G92*3/12","v":{"v":4.4225,"d":"4.42"}}]
[1877.05,2.94,{"v":0.2542,"d":"0.25"},{"v":0.2883,"d":"0.29"},{"v":10.65632562,"d":"10.66"},{"v":1877.3749999999943,"d":"1877.37"},{"$f":"G80*8/12+G92*4/12","v":{"v":4.413333333333333,"d":"4.41"}}]
[1877.06,2.73,{"v":0.245,"d":"0.25"},0.29,{"v":10.08541488,"d":"10.09"},{"v":1877.4583333333276,"d":"1877.46"},{"$f":"G80*7/12+G92*5/12","v":{"v":4.404166666666667,"d":"4.40"}}]
[1877.07,2.85,{"v":0.2358,"d":"0.24"},{"v":0.2917,"d":"0.29"},{"v":10.18058017,"d":"10.18"},{"v":1877.5416666666608,"d":"1877.54"},{"$f":"G80*6/12+G92*6/12","v":{"v":4.395,"d":"4.40"}}]
[1877.08,3.05,{"v":0.2267,"d":"0.23"},{"v":0.2933,"d":"0.29"},{"v":9.8,"d":"9.80"},{"v":1877.624999999994,"d":"1877.62"},{"$f":"G80*5/12+G92*7/12","v":{"v":4.385833333333333,"d":"4.39"}}]
[1877.09,3.24,{"v":0.2175,"d":"0.22"},{"v":0.295,"d":"0.30"},{"v":9.704834711,"d":"9.70"},{"v":1877.7083333333273,"d":"1877.71"},{"$f":"G80*4/12+G92*8/12","v":{"v":4.376666666666667,"d":"4.38"}}]
[{"v":1877.1,"d":"1877.10"},3.31,{"v":0.2083,"d":"0.21"},{"v":0.2967,"d":"0.30"},{"v":9.704834711,"d":"9.70"},{"v":1877.7916666666606,"d":"1877.79"},{"$f":"G80*3/12+G92*9/12","v":{"v":4.367500000000001,"d":"4.37"}}]
[1877.11,3.26,{"v":0.1992,"d":"0.20"},{"v":0.2983,"d":"0.30"},{"v":9.514585124,"d":"9.51"},{"v":1877.8749999999939,"d":"1877.87"},{"$f":"G80*2/12+G92*10/12","v":{"v":4.358333333333333,"d":"4.36"}}]
[1877.12,3.25,0.19,{"v":0.3,"d":"0.30"},{"v":9.514585124,"d":"9.51"},{"v":1877.9583333333271,"d":"1877.96"},{"$f":"G80*1/12+G92*11/12","v":{"v":4.349166666666666,"d":"4.35"}}]
[1878.01,3.25,{"v":0.1892,"d":"0.19"},{"v":0.3008,"d":"0.30"},{"v":9.229089256,"d":"9.23"},{"v":1878.0416666666604,"d":"1878.04"},4.34]
[1878.02,3.18,{"v":0.1883,"d":"0.19"},{"v":0.3017,"d":"0.30"},{"v":9.134004959,"d":"9.13"},{"v":1878.1249999999936,"d":"1878.12"},{"$f":"G92*11/12+G104*1/12","v":4.33}]
[1878.03,3.24,{"v":0.1875,"d":"0.19"},{"v":0.3025,"d":"0.30"},{"v":8.94367438,"d":"8.94"},{"v":1878.208333333327,"d":"1878.21"},{"$f":"G92*10/12+G104*2/12","v":4.32}]
[1878.04,3.33,{"v":0.1867,"d":"0.19"},{"v":0.3033,"d":"0.30"},{"v":8.848509091,"d":"8.85"},{"v":1878.2916666666601,"d":"1878.29"},{"$f":"G92*9/12+G104*3/12","v":{"v":4.3100000000000005,"d":"4.31"}}]
[1878.05,3.34,{"v":0.1858,"d":"0.19"},{"v":0.3042,"d":"0.30"},{"v":8.563094215,"d":"8.56"},{"v":1878.3749999999934,"d":"1878.37"},{"$f":"G92*8/12+G104*4/12","v":{"v":4.3,"d":"4.30"}}]
[1878.06,3.41,{"v":0.185,"d":"0.19"},{"v":0.305,"d":"0.31"},{"v":8.372844628,"d":"8.37"},{"v":1878.4583333333267,"d":"1878.46"},{"$f":"G92*7/12+G104*5/12","v":4.29}]
[1878.07,3.48,{"v":0.1842,"d":"0.18"},{"v":0.3058,"d":"0.31"},{"v":8.467928926,"d":"8.47"},{"v":1878.54166666666,"d":"1878.54"},{"$f":"G92*6/12+G104*6/12","v":{"v":4.279999999999999,"d":"4.28"}}]
[1878.08,3.45,{"v":0.1833,"d":"0.18"},{"v":0.3067,"d":"0.31"},{"v":8.563094215,"d":"8.56"},{"v":1878.6249999999932,"d":"1878.62"},{"$f":"G92*5/12+G104*7/12","v":4.27}]
[1878.09,3.52,{"v":0.1825,"d":"0.18"},{"v":0.3075,"d":"0.31"},{"v":8.563094215,"d":"8.56"},{"v":1878.7083333333264,"d":"1878.71"},{"$f":"G92*4/12+G104*8/12","v":4.26}]
[{"v":1878.1,"d":"1878.10"},3.48,{"v":0.1817,"d":"0.18"},{"v":0.3083,"d":"0.31"},{"v":8.467928926,"d":"8.47"},{"v":1878.7916666666597,"d":"1878.79"},{"$f":"G92*3/12+G104*9/12","v":4.25}]
[1878.11,3.47,{"v":0.1808,"d":"0.18"},{"v":0.3092,"d":"0.31"},{"v":8.372844628,"d":"8.37"},{"v":1878.874999999993,"d":"1878.87"},{"$f":"G92*2/12+G104*10/12","v":{"v":4.239999999999999,"d":"4.24"}}]
[1878.12,3.45,0.18,0.31,{"v":8.18251405,"d":"8.18"},{"v":1878.9583333333262,"d":"1878.96"},{"$f":"G92*1/12+G104*11/12","v":{"v":4.2299999999999995,"d":"4.23"}}]
[1879.01,3.58,{"v":0.1817,"d":"0.18"},{"v":0.3158,"d":"0.32"},{"v":8.277679339,"d":"8.28"},{"v":1879.0416666666595,"d":"1879.04"},4.22]
[1879.02,3.71,{"v":0.1833,"d":"0.18"},{"v":0.3217,"d":"0.32"},{"v":8.372844628,"d":"8.37"},{"v":1879.1249999999927,"d":"1879.12"},{"$f":"G104*11/12+G116*1/12","v":{"v":4.203333333333333,"d":"4.20"}}]
[1879.03,3.65,{"v":0.185,"d":"0.19"},{"v":0.3275,"d":"0.33"},{"v":8.277679339,"d":"8.28"},{"v":1879.208333333326,"d":"1879.21"},{"$f":"G104*10/12+G116*2/12","v":{"v":4.186666666666666,"d":"4.19"}}]
[1879.04,3.77,{"v":0.1867,"d":"0.19"},{"v":0.3333,"d":"0.33"},{"v":8.18251405,"d":"8.18"},{"v":1879.2916666666592,"d":"1879.29"},{"$f":"G104*9/12+G116*3/12","v":4.17}]
[1879.05,3.94,{"v":0.1883,"d":"0.19"},{"v":0.3392,"d":"0.34"},{"v":8.18251405,"d":"8.18"},{"v":1879.3749999999925,"d":"1879.37"},{"$f":"G104*8/12+G116*4/12","v":{"v":4.153333333333332,"d":"4.15"}}]
[1879.06,3.96,0.19,{"v":0.345,"d":"0.35"},{"v":8.087381157,"d":"8.09"},{"v":1879.4583333333258,"d":"1879.46"},{"$f":"G104*7/12+G116*5/12","v":{"v":4.136666666666667,"d":"4.14"}}]
[1879.07,4.04,{"v":0.1917,"d":"0.19"},{"v":0.3508,"d":"0.35"},{"v":8.18251405,"d":"8.18"},{"v":1879.541666666659,"d":"1879.54"},{"$f":"G104*6/12+G116*6/12","v":{"v":4.119999999999999,"d":"4.12"}}]
[1879.08,4.07,{"v":0.1933,"d":"0.19"},{"v":0.3567,"d":"0.36"},{"v":8.18251405,"d":"8.18"},{"v":1879.6249999999923,"d":"1879.62"},{"$f":"G104*5/12+G116*7/12","v":{"v":4.103333333333333,"d":"4.10"}}]
[1879.09,4.22,{"v":0.195,"d":"0.20"},{"v":0.3625,"d":"0.36"},{"v":8.467928926,"d":"8.47"},{"v":1879.7083333333255,"d":"1879.71"},{"$f":"G104*4/12+G116*8/12","v":{"v":4.086666666666666,"d":"4.09"}}]
[{"v":1879.1,"d":"1879.10"},4.68,{"v":0.1967,"d":"0.20"},{"v":0.3683,"d":"0.37"},{"v":8.94367438,"d":"8.94"},{"v":1879.7916666666588,"d":"1879.79"},{"$f":"G104*3/12+G116*9/12","v":{"v":4.069999999999999,"d":"4.07"}}]
[1879.11,4.93,{"v":0.1983,"d":"0.20"},{"v":0.3742,"d":"0.37"},{"v":9.419419835,"d":"9.42"},{"v":1879.874999999992,"d":"1879.87"},{"$f":"G104*2/12+G116*10/12","v":{"v":4.053333333333333,"d":"4.05"}}]
[1879.12,4.92,{"v":0.2,"d":"0.20"},0.38,{"v":9.704834711,"d":"9.70"},{"v":1879.9583333333253,"d":"1879.96"},{"$f":"G104*1/12+G116*11/12","v":{"v":4.036666666666667,"d":"4.04"}}]
[1880.01,5.11,{"v":0.205,"d":"0.21"},{"v":0.3892,"d":"0.39"},{"v":9.990330579,"d":"9.99"},{"v":1880.0416666666586,"d":"1880.04"},4.02]
[1880.02,{"v":5.2,"d":"5.20"},0.21,{"v":0.3983,"d":"0.40"},{"v":9.990330579,"d":"9.99"},{"v":1880.1249999999918,"d":"1880.12"},{"$f":"G116*11/12+G128*1/12","v":{"v":3.993333333333333,"d":"3.99"}}]
[1880.03,{"v":5.3,"d":"5.30"},{"v":0.215,"d":"0.22"},{"v":0.4075,"d":"0.41"},{"v":10.08541488,"d":"10.09"},{"v":1880.208333333325,"d":"1880.21"},{"$f":"G116*10/12+G128*2/12","v":{"v":3.9666666666666663,"d":"3.97"}}]
[1880.04,5.18,0.22,{"v":0.4167,"d":"0.42"},{"v":9.704834711,"d":"9.70"},{"v":1880.2916666666583,"d":"1880.29"},{"$f":"G116*9/12+G128*3/12","v":{"v":3.9399999999999995,"d":"3.94"}}]
[1880.05,4.77,{"v":0.225,"d":"0.23"},{"v":0.4258,"d":"0.43"},{"v":9.419419835,"d":"9.42"},{"v":1880.3749999999916,"d":"1880.37"},{"$f":"G116*8/12+G128*4/12","v":{"v":3.913333333333333,"d":"3.91"}}]
[1880.06,4.79,0.23,{"v":0.435,"d":"0.44"},{"v":9.229089256,"d":"9.23"},{"v":1880.4583333333248,"d":"1880.46"},{"$f":"G116*7/12+G128*5/12","v":{"v":3.8866666666666667,"d":"3.89"}}]
[1880.07,5.01,{"v":0.235,"d":"0.24"},{"v":0.4442,"d":"0.44"},{"v":9.229089256,"d":"9.23"},{"v":1880.541666666658,"d":"1880.54"},{"$f":"G116*6/12+G128*6/12","v":{"v":3.8600000000000003,"d":"3.86"}}]
[1880.08,5.19,0.24,{"v":0.4533,"d":"0.45"},{"v":9.229089256,"d":"9.23"},{"v":1880.6249999999914,"d":"1880.62"},{"$f":"G116*5/12+G128*7/12","v":{"v":3.8333333333333335,"d":"3.83"}}]
[1880.09,5.18,{"v":0.245,"d":"0.25"},{"v":0.4625,"d":"0.46"},{"v":9.324254545,"d":"9.32"},{"v":1880.7083333333246,"d":"1880.71"},{"$f":"G116*4/12+G128*8/12","v":{"v":3.8066666666666666,"d":"3.81"}}]
[{"v":1880.1,"d":"1880.10"},5.33,0.25,{"v":0.4717,"d":"0.47"},{"v":9.324254545,"d":"9.32"},{"v":1880.7916666666579,"d":"1880.79"},{"$f":"G116*3/12+G128*9/12","v":{"v":3.7800000000000002,"d":"3.78"}}]
[1880.11,5.61,{"v":0.255,"d":"0.26"},{"v":0.4808,"d":"0.48"},{"v":9.419419835,"d":"9.42"},{"v":1880.8749999999911,"d":"1880.87"},{"$f":"G116*2/12+G128*10/12","v":{"v":3.7533333333333334,"d":"3.75"}}]
[1880.12,5.84,0.26,0.49,{"v":9.514585124,"d":"9.51"},{"v":1880.9583333333244,"d":"1880.96"},{"$f":"G116*1/12+G128*11/12","v":{"v":3.726666666666667,"d":"3.73"}}]
[1881.01,6.19,{"v":0.265,"d":"0.27"},{"v":0.4858,"d":"0.49"},{"v":9.419419835,"d":"9.42"},{"v":1881.0416666666576,"d":"1881.04"},{"v":3.7,"d":"3.70"}]
[1881.02,6.17,0.27,{"v":0.4817,"d":"0.48"},{"v":9.514585124,"d":"9.51"},{"v":1881.124999999991,"d":"1881.12"},{"$f":"G128*11/12+G140*1/12","v":{"v":3.693333333333334,"d":"3.69"}}]
[1881.03,6.24,{"v":0.275,"d":"0.28"},{"v":0.4775,"d":"0.48"},{"v":9.514585124,"d":"9.51"},{"v":1881.2083333333242,"d":"1881.21"},{"$f":"G128*10/12+G140*2/12","v":{"v":3.686666666666667,"d":"3.69"}}]
[1881.04,6.22,0.28,{"v":0.4733,"d":"0.47"},{"v":9.609669421,"d":"9.61"},{"v":1881.2916666666574,"d":"1881.29"},{"$f":"G128*9/12+G140*3/12","v":3.68}]
[1881.05,{"v":6.5,"d":"6.50"},{"v":0.285,"d":"0.29"},{"v":0.4692,"d":"0.47"},{"v":9.514585124,"d":"9.51"},{"v":1881.3749999999907,"d":"1881.37"},{"$f":"G128*8/12+G140*4/12","v":{"v":3.673333333333334,"d":"3.67"}}]
[1881.06,6.58,0.29,{"v":0.465,"d":"0.47"},{"v":9.514585124,"d":"9.51"},{"v":1881.458333333324,"d":"1881.46"},{"$f":"G128*7/12+G140*5/12","v":{"v":3.666666666666667,"d":"3.67"}}]
[1881.07,6.35,{"v":0.295,"d":"0.30"},{"v":0.4608,"d":"0.46"},{"v":9.609669421,"d":"9.61"},{"v":1881.5416666666572,"d":"1881.54"},{"$f":"G128*6/12+G140*6/12","v":3.66}]
[1881.08,{"v":6.2,"d":"6.20"},{"v":0.3,"d":"0.30"},{"v":0.4567,"d":"0.46"},{"v":9.8,"d":"9.80"},{"v":1881.6249999999905,"d":"1881.62"},{"$f":"G128*5/12+G140*7/12","v":{"v":3.6533333333333333,"d":"3.65"}}]
[1881.09,6.25,{"v":0.305,"d":"0.31"},{"v":0.4525,"d":"0.45"},{"v":10.18058017,"d":"10.18"},{"v":1881.7083333333237,"d":"1881.71"},{"$f":"G128*4/12+G140*8/12","v":{"v":3.646666666666667,"d":"3.65"}}]
[{"v":1881.1,"d":"1881.10"},6.15,0.31,{"v":0.4483,"d":"0.45"},{"v":10.27574545,"d":"10.28"},{"$f":"F136+1/12","v":{"v":1881.791666666657,"d":"1881.79"}},{"$f":"G128*3/12+G140*9/12","v":3.64}]
[1881.11,6.19,{"v":0.315,"d":"0.32"},{"v":0.4442,"d":"0.44"},{"v":10.18058017,"d":"10.18"},{"v":1881.8749999999902,"d":"1881.87"},{"$f":"G128*2/12+G140*10/12","v":{"v":3.6333333333333337,"d":"3.63"}}]
[1881.12,6.01,0.32,0.44,{"v":10.18058017,"d":"10.18"},{"v":1881.9583333333235,"d":"1881.96"},{"$f":"G128*1/12+G140*11/12","v":{"v":3.626666666666667,"d":"3.63"}}]
[1882.01,5.92,0.32,{"v":0.4392,"d":"0.44"},{"v":10.18058017,"d":"10.18"},{"v":1882.0416666666567,"d":"1882.04"},3.62]
[1882.02,5.79,0.32,{"v":0.4383,"d":"0.44"},{"v":10.27574545,"d":"10.28"},{"v":1882.12499999999,"d":"1882.12"},{"$f":"G140*11/12+G152*1/12","v":{"v":3.6208333333333336,"d":"3.62"}}]
[1882.03,5.78,0.32,{"v":0.4375,"d":"0.44"},{"v":10.27574545,"d":"10.28"},{"v":1882.2083333333233,"d":"1882.21"},{"$f":"G140*10/12+G152*2/12","v":{"v":3.621666666666667,"d":"3.62"}}]
[1882.04,5.78,0.32,{"v":0.4367,"d":"0.44"},{"v":10.37091074,"d":"10.37"},{"v":1882.2916666666565,"d":"1882.29"},{"$f":"G140*9/12+G152*3/12","v":{"v":3.6225,"d":"3.62"}}]
[1882.05,5.71,0.32,{"v":0.4358,"d":"0.44"},{"v":10.46599504,"d":"10.47"},{"v":1882.3749999999898,"d":"1882.37"},{"$f":"G140*8/12+G152*4/12","v":{"v":3.6233333333333335,"d":"3.62"}}]
[1882.06,5.68,0.32,{"v":0.435,"d":"0.44"},{"v":10.56116033,"d":"10.56"},{"v":1882.458333333323,"d":"1882.46"},{"$f":"G140*7/12+G152*5/12","v":{"v":3.6241666666666665,"d":"3.62"}}]
[1882.07,{"v":6,"d":"6.00"},0.32,{"v":0.4342,"d":"0.43"},{"v":10.46599504,"d":"10.47"},{"v":1882.5416666666563,"d":"1882.54"},{"$f":"G140*6/12+G152*6/12","v":{"v":3.625,"d":"3.63"}}]
[1882.08,6.18,0.32,{"v":0.4333,"d":"0.43"},{"v":10.56116033,"d":"10.56"},{"v":1882.6249999999895,"d":"1882.62"},{"$f":"G140*5/12+G152*7/12","v":{"v":3.6258333333333335,"d":"3.63"}}]
[1882.09,6.24,0.32,{"v":0.4325,"d":"0.43"},{"v":10.27574545,"d":"10.28"},{"v":1882.7083333333228,"d":"1882.71"},{"$f":"G140*4/12+G152*8/12","v":{"v":3.626666666666667,"d":"3.63"}}]
[{"v":1882.1,"d":"1882.10"},6.07,0.32,{"v":0.4317,"d":"0.43"},{"v":10.18058017,"d":"10.18"},{"v":1882.791666666656,"d":"1882.79"},{"$f":"G140*3/12+G152*9/12","v":{"v":3.6275,"d":"3.63"}}]
[1882.11,5.81,0.32,{"v":0.4308,"d":"0.43"},{"v":10.08541488,"d":"10.09"},{"v":1882.8749999999893,"d":"1882.87"},{"$f":"G140*2/12+G152*10/12","v":{"v":3.6283333333333334,"d":"3.63"}}]
[1882.12,5.84,0.32,0.43,{"v":9.990330579,"d":"9.99"},{"v":1882.9583333333226,"d":"1882.96"},{"$f":"G140*1/12+G152*11/12","v":{"v":3.629166666666667,"d":"3.63"}}]
[1883.01,5.81,{"v":0.3208,"d":"0.32"},{"v":0.4275,"d":"0.43"},{"v":9.990330579,"d":"9.99"},{"v":1883.0416666666558,"d":"1883.04"},3.63]
[1883.02,5.68,{"v":0.3217,"d":"0.32"},{"v":0.425,"d":"0.43"},{"v":10.08541488,"d":"10.09"},{"v":1883.124999999989,"d":"1883.12"},{"$f":"G152*11/12+G164*1/12","v":{"v":3.629166666666667,"d":"3.63"}}]
[1883.03,5.75,{"v":0.3225,"d":"0.32"},{"v":0.4225,"d":"0.42"},{"v":9.990330579,"d":"9.99"},{"v":1883.2083333333223,"d":"1883.21"},{"$f":"G152*10/12+G164*2/12","v":{"v":3.6283333333333334,"d":"3.63"}}]
[1883.04,5.87,{"v":0.3233,"d":"0.32"},0.42,{"v":9.895165289,"d":"9.90"},{"v":1883.2916666666556,"d":"1883.29"},{"$f":"G152*9/12+G164*3/12","v":{"v":3.6275,"d":"3.63"}}]
[1883.05,5.77,{"v":0.3242,"d":"0.32"},{"v":0.4175,"d":"0.42"},{"v":9.8,"d":"9.80"},{"v":1883.3749999999889,"d":"1883.37"},{"$f":"G152*8/12+G164*4/12","v":{"v":3.626666666666667,"d":"3.63"}}]
[1883.06,5.82,{"v":0.325,"d":"0.33"},{"v":0.415,"d":"0.42"},{"v":9.514585124,"d":"9.51"},{"v":1883.4583333333221,"d":"1883.46"},{"$f":"G152*7/12+G164*5/12","v":{"v":3.6258333333333335,"d":"3.63"}}]
[1883.07,5.73,{"v":0.3258,"d":"0.33"},{"v":0.4125,"d":"0.41"},{"v":9.324254545,"d":"9.32"},{"v":1883.5416666666554,"d":"1883.54"},{"$f":"G152*6/12+G164*6/12","v":{"v":3.625,"d":"3.63"}}]
[1883.08,5.47,{"v":0.3267,"d":"0.33"},0.41,{"v":9.324254545,"d":"9.32"},{"v":1883.6249999999886,"d":"1883.62"},{"$f":"G152*5/12+G164*7/12","v":{"v":3.6241666666666665,"d":"3.62"}}]
[1883.09,5.53,{"v":0.3275,"d":"0.33"},{"v":0.4075,"d":"0.41"},{"v":9.229089256,"d":"9.23"},{"v":1883.708333333322,"d":"1883.71"},{"$f":"G152*4/12+G164*8/12","v":{"v":3.6233333333333335,"d":"3.62"}}]
[{"v":1883.1,"d":"1883.10"},5.38,{"v":0.3283,"d":"0.33"},{"v":0.405,"d":"0.41"},{"v":9.229089256,"d":"9.23"},{"v":1883.7916666666551,"d":"1883.79"},{"$f":"G152*3/12+G164*9/12","v":{"v":3.6225,"d":"3.62"}}]
[1883.11,5.46,{"v":0.3292,"d":"0.33"},{"v":0.4025,"d":"0.40"},{"v":9.134004959,"d":"9.13"},{"v":1883.8749999999884,"d":"1883.87"},{"$f":"G152*2/12+G164*10/12","v":{"v":3.621666666666667,"d":"3.62"}}]
[1883.12,5.34,0.33,{"v":0.4,"d":"0.40"},{"v":9.229089256,"d":"9.23"},{"v":1883.9583333333217,"d":"1883.96"},{"$f":"G152*1/12+G164*11/12","v":{"v":3.6208333333333336,"d":"3.62"}}]
[1884.01,5.18,{"v":0.3283,"d":"0.33"},{"v":0.3925,"d":"0.39"},{"v":9.229089256,"d":"9.23"},{"v":1884.041666666655,"d":"1884.04"},3.62]
[1884.02,5.32,{"v":0.3267,"d":"0.33"},{"v":0.385,"d":"0.39"},{"v":9.229089256,"d":"9.23"},{"v":1884.1249999999882,"d":"1884.12"},{"$f":"G164*11/12+G176*1/12","v":{"v":3.611666666666667,"d":"3.61"}}]
[1884.03,{"v":5.3,"d":"5.30"},{"v":0.325,"d":"0.33"},{"v":0.3775,"d":"0.38"},{"v":9.229089256,"d":"9.23"},{"v":1884.2083333333214,"d":"1884.21"},{"$f":"G164*10/12+G176*2/12","v":{"v":3.6033333333333335,"d":"3.60"}}]
[1884.04,5.06,{"v":0.3233,"d":"0.32"},0.37,{"v":9.038839669,"d":"9.04"},{"v":1884.2916666666547,"d":"1884.29"},{"$f":"G164*9/12+G176*3/12","v":{"v":3.5949999999999998,"d":"3.60"}}]
[1884.05,4.65,{"v":0.3217,"d":"0.32"},{"v":0.3625,"d":"0.36"},{"v":8.848509091,"d":"8.85"},{"v":1884.374999999988,"d":"1884.37"},{"$f":"G164*8/12+G176*4/12","v":{"v":3.586666666666667,"d":"3.59"}}]
[1884.06,4.46,0.32,{"v":0.355,"d":"0.36"},{"v":8.848509091,"d":"8.85"},{"v":1884.4583333333212,"d":"1884.46"},{"$f":"G164*7/12+G176*5/12","v":{"v":3.5783333333333336,"d":"3.58"}}]
[1884.07,4.46,{"v":0.3183,"d":"0.32"},{"v":0.3475,"d":"0.35"},{"v":8.753424793,"d":"8.75"},{"v":1884.5416666666545,"d":"1884.54"},{"$f":"G164*6/12+G176*6/12","v":3.57}]
[1884.08,4.74,{"v":0.3167,"d":"0.32"},0.34,{"v":8.753424793,"d":"8.75"},{"v":1884.6249999999877,"d":"1884.62"},{"$f":"G164*5/12+G176*7/12","v":{"v":3.5616666666666665,"d":"3.56"}}]
[1884.09,4.59,{"v":0.315,"d":"0.32"},{"v":0.3325,"d":"0.33"},{"v":8.658259504,"d":"8.66"},{"v":1884.708333333321,"d":"1884.71"},{"$f":"G164*4/12+G176*8/12","v":{"v":3.5533333333333337,"d":"3.55"}}]
[{"v":1884.1,"d":"1884.10"},4.44,{"v":0.3133,"d":"0.31"},{"v":0.325,"d":"0.33"},{"v":8.563094215,"d":"8.56"},{"v":1884.7916666666542,"d":"1884.79"},{"$f":"G164*3/12+G176*9/12","v":{"v":3.545,"d":"3.55"}}]
[1884.11,4.35,{"v":0.3117,"d":"0.31"},{"v":0.3175,"d":"0.32"},{"v":8.372844628,"d":"8.37"},{"v":1884.8749999999875,"d":"1884.87"},{"$f":"G164*2/12+G176*10/12","v":{"v":3.536666666666667,"d":"3.54"}}]
[1884.12,4.34,0.31,0.31,{"v":8.277679339,"d":"8.28"},{"v":1884.9583333333208,"d":"1884.96"},{"$f":"G164*1/12+G176*11/12","v":{"v":3.5283333333333333,"d":"3.53"}}]
[1885.01,4.24,{"v":0.3042,"d":"0.30"},{"v":0.3067,"d":"0.31"},{"v":8.277679339,"d":"8.28"},{"v":1885.041666666654,"d":"1885.04"},3.52]
[1885.02,4.37,{"v":0.2983,"d":"0.30"},{"v":0.3033,"d":"0.30"},{"v":8.372844628,"d":"8.37"},{"v":1885.1249999999873,"d":"1885.12"},{"$f":"G176*11/12+G188*1/12","v":{"v":3.5075,"d":"3.51"}}]
[1885.03,4.38,{"v":0.2925,"d":"0.29"},{"v":0.3,"d":"0.30"},{"v":8.18251405,"d":"8.18"},{"v":1885.2083333333205,"d":"1885.21"},{"$f":"G176*10/12+G188*2/12","v":{"v":3.495,"d":"3.50"}}]
[1885.04,4.37,{"v":0.2867,"d":"0.29"},{"v":0.2967,"d":"0.30"},{"v":8.277679339,"d":"8.28"},{"v":1885.2916666666538,"d":"1885.29"},{"$f":"G176*9/12+G188*3/12","v":{"v":3.4825,"d":"3.48"}}]
[1885.05,4.32,{"v":0.2808,"d":"0.28"},{"v":0.2933,"d":"0.29"},{"v":8.087381157,"d":"8.09"},{"v":1885.374999999987,"d":"1885.37"},{"$f":"G176*8/12+G188*4/12","v":{"v":3.4699999999999998,"d":"3.47"}}]
[1885.06,{"v":4.3,"d":"4.30"},{"v":0.275,"d":"0.28"},0.29,{"v":7.897091074,"d":"7.90"},{"v":1885.4583333333203,"d":"1885.46"},{"$f":"G176*7/12+G188*5/12","v":{"v":3.4575,"d":"3.46"}}]
[1885.07,4.46,{"v":0.2692,"d":"0.27"},{"v":0.2867,"d":"0.29"},{"v":7.992232066,"d":"7.99"},{"v":1885.5416666666536,"d":"1885.54"},{"$f":"G176*6/12+G188*6/12","v":{"v":3.445,"d":"3.45"}}]
[1885.08,4.71,{"v":0.2633,"d":"0.26"},{"v":0.2833,"d":"0.28"},{"v":7.992232066,"d":"7.99"},{"v":1885.6249999999868,"d":"1885.62"},{"$f":"G176*5/12+G188*7/12","v":{"v":3.4325,"d":"3.43"}}]
[1885.09,4.65,{"v":0.2575,"d":"0.26"},0.28,{"v":7.897091074,"d":"7.90"},{"v":1885.70833333332,"d":"1885.71"},{"$f":"G176*4/12+G188*8/12","v":3.42}]
[{"v":1885.1,"d":"1885.10"},4.92,{"v":0.2517,"d":"0.25"},{"v":0.2767,"d":"0.28"},{"v":7.897091074,"d":"7.90"},{"v":1885.7916666666533,"d":"1885.79"},{"$f":"G176*3/12+G188*9/12","v":{"v":3.4075,"d":"3.41"}}]
[1885.11,5.24,{"v":0.2458,"d":"0.25"},{"v":0.2733,"d":"0.27"},{"v":7.992232066,"d":"7.99"},{"v":1885.8749999999866,"d":"1885.87"},{"$f":"G176*2/12+G188*10/12","v":{"v":3.3950000000000005,"d":"3.40"}}]
[1885.12,{"v":5.2,"d":"5.20"},0.24,0.27,{"v":8.18251405,"d":"8.18"},{"v":1885.9583333333198,"d":"1885.96"},{"$f":"G176*1/12+G188*11/12","v":{"v":3.3825000000000003,"d":"3.38"}}]
[1886.01,{"v":5.2,"d":"5.20"},{"v":0.2383,"d":"0.24"},{"v":0.275,"d":"0.28"},{"v":7.992232066,"d":"7.99"},{"v":1886.041666666653,"d":"1886.04"},3.37]
[1886.02,{"v":5.3,"d":"5.30"},{"v":0.2367,"d":"0.24"},0.28,{"v":7.992232066,"d":"7.99"},{"v":1886.1249999999864,"d":"1886.12"},{"$f":"G188*11/12+G200*1/12","v":{"v":3.3825000000000003,"d":"3.38"}}]
[1886.03,5.19,{"v":0.235,"d":"0.24"},{"v":0.285,"d":"0.29"},{"v":7.897091074,"d":"7.90"},{"v":1886.2083333333196,"d":"1886.21"},{"$f":"G188*10/12+G200*2/12","v":{"v":3.3950000000000005,"d":"3.40"}}]
[1886.04,5.12,{"v":0.2333,"d":"0.23"},0.29,{"v":7.801941983,"d":"7.80"},{"v":1886.2916666666529,"d":"1886.29"},{"$f":"G188*9/12+G200*3/12","v":{"v":3.4075,"d":"3.41"}}]
[1886.05,5.02,{"v":0.2317,"d":"0.23"},{"v":0.295,"d":"0.30"},{"v":7.611651901,"d":"7.61"},{"v":1886.3749999999861,"d":"1886.37"},{"$f":"G188*8/12+G200*4/12","v":3.42}]
[1886.06,5.25,0.23,{"v":0.3,"d":"0.30"},{"v":7.51650281,"d":"7.52"},{"v":1886.4583333333194,"d":"1886.46"},{"$f":"G188*7/12+G200*5/12","v":{"v":3.4325,"d":"3.43"}}]
[1886.07,5.33,{"v":0.2283,"d":"0.23"},{"v":0.305,"d":"0.31"},{"v":7.611651901,"d":"7.61"},{"v":1886.5416666666526,"d":"1886.54"},{"$f":"G188*6/12+G200*6/12","v":{"v":3.445,"d":"3.45"}}]
[1886.08,5.37,{"v":0.2267,"d":"0.23"},0.31,{"v":7.706792893,"d":"7.71"},{"v":1886.624999999986,"d":"1886.62"},{"$f":"G188*5/12+G200*7/12","v":{"v":3.4575,"d":"3.46"}}]
[1886.09,5.51,{"v":0.225,"d":"0.23"},{"v":0.315,"d":"0.32"},{"v":7.706792893,"d":"7.71"},{"v":1886.7083333333192,"d":"1886.71"},{"$f":"G188*4/12+G200*8/12","v":{"v":3.4699999999999998,"d":"3.47"}}]
[{"v":1886.1,"d":"1886.10"},5.65,{"v":0.2233,"d":"0.22"},0.32,{"v":7.706792893,"d":"7.71"},{"v":1886.7916666666524,"d":"1886.79"},{"$f":"G188*3/12+G200*9/12","v":{"v":3.4825,"d":"3.48"}}]
[1886.11,5.79,{"v":0.2217,"d":"0.22"},{"v":0.325,"d":"0.33"},{"v":7.706792893,"d":"7.71"},{"v":1886.8749999999857,"d":"1886.87"},{"$f":"G188*2/12+G200*10/12","v":{"v":3.495,"d":"3.50"}}]
[1886.12,5.64,0.22,0.33,{"v":7.801941983,"d":"7.80"},{"v":1886.958333333319,"d":"1886.96"},{"$f":"G188*1/12+G200*11/12","v":{"v":3.5075,"d":"3.51"}}]
[1887.01,5.58,{"v":0.2225,"d":"0.22"},{"v":0.3325,"d":"0.33"},{"v":7.992232066,"d":"7.99"},{"v":1887.0416666666522,"d":"1887.04"},3.52]
[1887.02,5.54,{"v":0.225,"d":"0.23"},{"v":0.335,"d":"0.34"},{"v":8.087381157,"d":"8.09"},{"$f":"F200+1/12","v":{"v":1887.1249999999854,"d":"1887.12"}},{"$f":"G200*11/12+G212*1/12","v":{"v":3.5324999999999998,"d":"3.53"}}]
[1887.03,5.67,{"v":0.2275,"d":"0.23"},{"v":0.3375,"d":"0.34"},{"v":8.087381157,"d":"8.09"},{"v":1887.2083333333187,"d":"1887.21"},{"$f":"G200*10/12+G212*2/12","v":{"v":3.5450000000000004,"d":"3.55"}}]
[1887.04,{"v":5.8,"d":"5.80"},0.23,0.34,{"v":8.087381157,"d":"8.09"},{"v":1887.291666666652,"d":"1887.29"},{"$f":"G200*9/12+G212*3/12","v":{"v":3.5575,"d":"3.56"}}]
[1887.05,{"v":5.9,"d":"5.90"},{"v":0.2325,"d":"0.23"},{"v":0.3425,"d":"0.34"},{"v":8.087381157,"d":"8.09"},{"v":1887.3749999999852,"d":"1887.37"},{"$f":"G200*8/12+G212*4/12","v":{"v":3.5700000000000003,"d":"3.57"}}]
[1887.06,5.73,{"v":0.235,"d":"0.24"},{"v":0.345,"d":"0.35"},{"v":7.992232066,"d":"7.99"},{"v":1887.4583333333185,"d":"1887.46"},{"$f":"G200*7/12+G212*5/12","v":{"v":3.5825,"d":"3.58"}}]
[1887.07,5.59,{"v":0.2375,"d":"0.24"},{"v":0.3475,"d":"0.35"},{"v":7.897091074,"d":"7.90"},{"v":1887.5416666666517,"d":"1887.54"},{"$f":"G200*6/12+G212*6/12","v":{"v":3.5949999999999998,"d":"3.60"}}]
[1887.08,5.45,0.24,0.35,{"v":7.992232066,"d":"7.99"},{"v":1887.624999999985,"d":"1887.62"},{"$f":"G200*5/12+G212*7/12","v":{"v":3.6075,"d":"3.61"}}]
[1887.09,5.38,{"v":0.2425,"d":"0.24"},{"v":0.3525,"d":"0.35"},{"v":7.897091074,"d":"7.90"},{"v":1887.7083333333183,"d":"1887.71"},{"$f":"G200*4/12+G212*8/12","v":3.62}]
[{"v":1887.1,"d":"1887.10"},{"v":5.2,"d":"5.20"},{"v":0.245,"d":"0.25"},{"v":0.355,"d":"0.36"},{"v":7.992232066,"d":"7.99"},{"v":1887.7916666666515,"d":"1887.79"},{"$f":"G200*3/12+G212*9/12","v":{"v":3.6325,"d":"3.63"}}]
[1887.11,{"v":5.3,"d":"5.30"},{"v":0.2475,"d":"0.25"},{"v":0.3575,"d":"0.36"},{"v":8.087381157,"d":"8.09"},{"v":1887.8749999999848,"d":"1887.87"},{"$f":"G200*2/12+G212*10/12","v":{"v":3.6450000000000005,"d":"3.65"}}]
[1887.12,5.27,0.25,0.36,{"v":8.277679339,"d":"8.28"},{"v":1887.958333333318,"d":"1887.96"},{"$f":"G200*1/12+G212*11/12","v":{"v":3.6574999999999998,"d":"3.66"}}]
[1888.01,5.31,{"v":0.2483,"d":"0.25"},{"v":0.3517,"d":"0.35"},{"v":8.372844628,"d":"8.37"},{"v":1888.0416666666513,"d":"1888.04"},3.67]
[1888.02,5.28,{"v":0.2467,"d":"0.25"},{"v":0.3433,"d":"0.34"},{"v":8.277679339,"d":"8.28"},{"v":1888.1249999999845,"d":"1888.12"},{"$f":"G212*11/12+G224*1/12","v":{"v":3.6516666666666664,"d":"3.65"}}]
[1888.03,5.08,{"v":0.245,"d":"0.25"},{"v":0.335,"d":"0.34"},{"v":8.277679339,"d":"8.28"},{"v":1888.2083333333178,"d":"1888.21"},{"$f":"G212*10/12+G224*2/12","v":{"v":3.6333333333333337,"d":"3.63"}}]
[1888.04,{"v":5.1,"d":"5.10"},{"v":0.2433,"d":"0.24"},{"v":0.3267,"d":"0.33"},{"v":8.18251405,"d":"8.18"},{"v":1888.291666666651,"d":"1888.29"},{"$f":"G212*9/12+G224*3/12","v":{"v":3.615,"d":"3.62"}}]
[1888.05,5.17,{"v":0.2417,"d":"0.24"},{"v":0.3183,"d":"0.32"},{"v":8.087381157,"d":"8.09"},{"v":1888.3749999999843,"d":"1888.37"},{"$f":"G212*8/12+G224*4/12","v":{"v":3.5966666666666667,"d":"3.60"}}]
[1888.06,5.01,0.24,0.31,{"v":7.992232066,"d":"7.99"},{"v":1888.4583333333176,"d":"1888.46"},{"$f":"G212*7/12+G224*5/12","v":{"v":3.578333333333333,"d":"3.58"}}]
[1888.07,5.14,{"v":0.2383,"d":"0.24"},{"v":0.3017,"d":"0.30"},{"v":8.087381157,"d":"8.09"},{"v":1888.5416666666508,"d":"1888.54"},{"$f":"G212*6/12+G224*6/12","v":{"v":3.5600000000000005,"d":"3.56"}}]
[1888.08,5.25,{"v":0.2367,"d":"0.24"},{"v":0.2933,"d":"0.29"},{"v":8.087381157,"d":"8.09"},{"v":1888.624999999984,"d":"1888.62"},{"$f":"G212*5/12+G224*7/12","v":{"v":3.541666666666667,"d":"3.54"}}]
[1888.09,5.38,{"v":0.235,"d":"0.24"},{"v":0.285,"d":"0.29"},{"v":8.087381157,"d":"8.09"},{"v":1888.7083333333173,"d":"1888.71"},{"$f":"G212*4/12+G224*8/12","v":{"v":3.5233333333333334,"d":"3.52"}}]
[{"v":1888.1,"d":"1888.10"},5.35,{"v":0.2333,"d":"0.23"},{"v":0.2767,"d":"0.28"},{"v":8.18251405,"d":"8.18"},{"v":1888.7916666666506,"d":"1888.79"},{"$f":"G212*3/12+G224*9/12","v":{"v":3.505,"d":"3.51"}}]
[1888.11,5.24,{"v":0.2317,"d":"0.23"},{"v":0.2683,"d":"0.27"},{"v":8.277679339,"d":"8.28"},{"v":1888.8749999999839,"d":"1888.87"},{"$f":"G212*2/12+G224*10/12","v":{"v":3.486666666666667,"d":"3.49"}}]
[1888.12,5.14,0.23,0.26,{"v":8.277679339,"d":"8.28"},{"v":1888.9583333333171,"d":"1888.96"},{"$f":"G212*1/12+G224*11/12","v":{"v":3.4683333333333333,"d":"3.47"}}]
[1889.01,5.24,{"v":0.2292,"d":"0.23"},{"v":0.2633,"d":"0.26"},{"v":7.992232066,"d":"7.99"},{"v":1889.0416666666504,"d":"1889.04"},3.45]
[1889.02,{"v":5.3,"d":"5.30"},{"v":0.2283,"d":"0.23"},{"v":0.2667,"d":"0.27"},{"v":7.897091074,"d":"7.90"},{"v":1889.1249999999836,"d":"1889.12"},{"$f":"G224*11/12+G236*1/12","v":{"v":3.4475000000000002,"d":"3.45"}}]
[1889.03,5.19,{"v":0.2275,"d":"0.23"},0.27,{"v":7.801941983,"d":"7.80"},{"v":1889.208333333317,"d":"1889.21"},{"$f":"G224*10/12+G236*2/12","v":{"v":3.445,"d":"3.45"}}]
[1889.04,5.18,{"v":0.2267,"d":"0.23"},{"v":0.2733,"d":"0.27"},{"v":7.801941983,"d":"7.80"},{"v":1889.2916666666501,"d":"1889.29"},{"$f":"G224*9/12+G236*3/12","v":{"v":3.4425,"d":"3.44"}}]
[1889.05,5.32,{"v":0.2258,"d":"0.23"},{"v":0.2767,"d":"0.28"},{"v":7.611651901,"d":"7.61"},{"v":1889.3749999999834,"d":"1889.37"},{"$f":"G224*8/12+G236*4/12","v":{"v":3.4400000000000004,"d":"3.44"}}]
[1889.06,5.41,{"v":0.225,"d":"0.23"},0.28,{"v":7.611651901,"d":"7.61"},{"v":1889.4583333333167,"d":"1889.46"},{"$f":"G224*7/12+G236*5/12","v":{"v":3.4375,"d":"3.44"}}]
[1889.07,{"v":5.3,"d":"5.30"},{"v":0.2242,"d":"0.22"},{"v":0.2833,"d":"0.28"},{"v":7.611651901,"d":"7.61"},{"v":1889.54166666665,"d":"1889.54"},{"$f":"G224*6/12+G236*6/12","v":{"v":3.4350000000000005,"d":"3.44"}}]
[1889.08,5.37,{"v":0.2233,"d":"0.22"},{"v":0.2867,"d":"0.29"},{"v":7.611651901,"d":"7.61"},{"v":1889.6249999999832,"d":"1889.62"},{"$f":"G224*5/12+G236*7/12","v":{"v":3.4325,"d":"3.43"}}]
[1889.09,{"v":5.5,"d":"5.50"},{"v":0.2225,"d":"0.22"},0.29,{"v":7.706792893,"d":"7.71"},{"v":1889.7083333333164,"d":"1889.71"},{"$f":"G224*4/12+G236*8/12","v":{"v":3.4299999999999997,"d":"3.43"}}]
[{"v":1889.1,"d":"1889.10"},{"v":5.4,"d":"5.40"},{"v":0.2217,"d":"0.22"},{"v":0.2933,"d":"0.29"},{"v":7.706792893,"d":"7.71"},{"v":1889.7916666666497,"d":"1889.79"},{"$f":"G224*3/12+G236*9/12","v":{"v":3.4275,"d":"3.43"}}]
[1889.11,5.35,{"v":0.2208,"d":"0.22"},{"v":0.2967,"d":"0.30"},{"v":7.706792893,"d":"7.71"},{"v":1889.874999999983,"d":"1889.87"},{"$f":"G224*2/12+G236*10/12","v":{"v":3.4250000000000003,"d":"3.43"}}]
[1889.12,5.32,0.22,{"v":0.3,"d":"0.30"},{"v":7.801941983,"d":"7.80"},{"v":1889.9583333333162,"d":"1889.96"},{"$f":"G224*1/12+G236*11/12","v":{"v":3.4225,"d":"3.42"}}]
[1890.01,5.38,0.22,{"v":0.2992,"d":"0.30"},{"v":7.611651901,"d":"7.61"},{"v":1890.0416666666495,"d":"1890.04"},3.42]
[1890.02,5.32,0.22,{"v":0.2983,"d":"0.30"},{"v":7.611651901,"d":"7.61"},{"v":1890.1249999999827,"d":"1890.12"},{"$f":"G236*11/12+G248*1/12","v":{"v":3.4366666666666665,"d":"3.44"}}]
[1890.03,5.28,0.22,{"v":0.2975,"d":"0.30"},{"v":7.611651901,"d":"7.61"},{"v":1890.208333333316,"d":"1890.21"},{"$f":"G236*10/12+G248*2/12","v":{"v":3.4533333333333336,"d":"3.45"}}]
[1890.04,5.39,0.22,{"v":0.2967,"d":"0.30"},{"v":7.611651901,"d":"7.61"},{"v":1890.2916666666492,"d":"1890.29"},{"$f":"G236*9/12+G248*3/12","v":{"v":3.4699999999999998,"d":"3.47"}}]
[1890.05,5.62,0.22,{"v":0.2958,"d":"0.30"},{"v":7.706792893,"d":"7.71"},{"v":1890.3749999999825,"d":"1890.37"},{"$f":"G236*8/12+G248*4/12","v":{"v":3.4866666666666664,"d":"3.49"}}]
[1890.06,5.58,0.22,{"v":0.295,"d":"0.30"},{"v":7.706792893,"d":"7.71"},{"v":1890.4583333333157,"d":"1890.46"},{"$f":"G236*7/12+G248*5/12","v":{"v":3.5033333333333334,"d":"3.50"}}]
[1890.07,5.54,0.22,{"v":0.2942,"d":"0.29"},{"v":7.706792893,"d":"7.71"},{"v":1890.541666666649,"d":"1890.54"},{"$f":"G236*6/12+G248*6/12","v":{"v":3.5199999999999996,"d":"3.52"}}]
[1890.08,5.41,0.22,{"v":0.2933,"d":"0.29"},{"v":7.992232066,"d":"7.99"},{"v":1890.6249999999823,"d":"1890.62"},{"$f":"G236*5/12+G248*7/12","v":{"v":3.536666666666667,"d":"3.54"}}]
[1890.09,5.32,0.22,{"v":0.2925,"d":"0.29"},{"v":8.087381157,"d":"8.09"},{"v":1890.7083333333155,"d":"1890.71"},{"$f":"G236*4/12+G248*8/12","v":{"v":3.5533333333333337,"d":"3.55"}}]
[{"v":1890.1,"d":"1890.10"},5.08,0.22,{"v":0.2917,"d":"0.29"},{"v":8.087381157,"d":"8.09"},{"v":1890.7916666666488,"d":"1890.79"},{"$f":"G236*3/12+G248*9/12","v":3.57}]
[1890.11,4.71,0.22,{"v":0.2908,"d":"0.29"},{"v":7.897091074,"d":"7.90"},{"v":1890.874999999982,"d":"1890.87"},{"$f":"G236*2/12+G248*10/12","v":{"v":3.586666666666667,"d":"3.59"}}]
[1890.12,{"v":4.6,"d":"4.60"},0.22,0.29,{"v":7.897091074,"d":"7.90"},{"v":1890.9583333333153,"d":"1890.96"},{"$f":"G236*1/12+G248*11/12","v":{"v":3.6033333333333335,"d":"3.60"}}]
[1891.01,4.84,0.22,{"v":0.2942,"d":"0.29"},{"v":7.801941983,"d":"7.80"},{"v":1891.0416666666486,"d":"1891.04"},3.62]
[1891.02,{"v":4.9,"d":"4.90"},0.22,{"v":0.2983,"d":"0.30"},{"v":7.897091074,"d":"7.90"},{"v":1891.1249999999818,"d":"1891.12"},{"$f":"G248*11/12+G260*1/12","v":{"v":3.618333333333333,"d":"3.62"}}]
[1891.03,4.81,0.22,{"v":0.3025,"d":"0.30"},{"v":7.992232066,"d":"7.99"},{"v":1891.208333333315,"d":"1891.21"},{"$f":"G248*10/12+G260*2/12","v":{"v":3.616666666666667,"d":"3.62"}}]
[1891.04,4.97,0.22,{"v":0.3067,"d":"0.31"},{"v":8.087381157,"d":"8.09"},{"v":1891.2916666666483,"d":"1891.29"},{"$f":"G248*9/12+G260*3/12","v":{"v":3.6149999999999998,"d":"3.62"}}]
[1891.05,4.95,0.22,{"v":0.3108,"d":"0.31"},{"v":7.992232066,"d":"7.99"},{"v":1891.3749999999816,"d":"1891.37"},{"$f":"G248*8/12+G260*4/12","v":{"v":3.6133333333333333,"d":"3.61"}}]
[1891.06,4.85,0.22,{"v":0.315,"d":"0.32"},{"v":7.801941983,"d":"7.80"},{"v":1891.4583333333148,"d":"1891.46"},{"$f":"G248*7/12+G260*5/12","v":{"v":3.611666666666667,"d":"3.61"}}]
[1891.07,4.77,0.22,{"v":0.3192,"d":"0.32"},{"v":7.706792893,"d":"7.71"},{"v":1891.541666666648,"d":"1891.54"},{"$f":"G248*6/12+G260*6/12","v":3.61}]
[1891.08,4.93,0.22,{"v":0.3233,"d":"0.32"},{"v":7.706792893,"d":"7.71"},{"v":1891.6249999999814,"d":"1891.62"},{"$f":"G248*5/12+G260*7/12","v":{"v":3.6083333333333334,"d":"3.61"}}]
[1891.09,5.33,0.22,{"v":0.3275,"d":"0.33"},{"v":7.611651901,"d":"7.61"},{"v":1891.7083333333146,"d":"1891.71"},{"$f":"G248*4/12+G260*8/12","v":{"v":3.6066666666666665,"d":"3.61"}}]
[{"v":1891.1,"d":"1891.10"},5.33,0.22,{"v":0.3317,"d":"0.33"},{"v":7.611651901,"d":"7.61"},{"v":1891.7916666666479,"d":"1891.79"},{"$f":"G248*3/12+G260*9/12","v":{"v":3.6049999999999995,"d":"3.61"}}]
[1891.11,5.25,0.22,{"v":0.3358,"d":"0.34"},{"v":7.51650281,"d":"7.52"},{"v":1891.8749999999811,"d":"1891.87"},{"$f":"G248*2/12+G260*10/12","v":{"v":3.6033333333333335,"d":"3.60"}}]
[1891.12,5.41,0.22,0.34,{"v":7.51650281,"d":"7.52"},{"v":1891.9583333333144,"d":"1891.96"},{"$f":"G248*1/12+G260*11/12","v":{"v":3.601666666666667,"d":"3.60"}}]
[1892.01,5.51,{"v":0.2217,"d":"0.22"},{"v":0.3425,"d":"0.34"},{"v":7.326212727,"d":"7.33"},{"v":1892.0416666666476,"d":"1892.04"},{"v":3.6,"d":"3.60"}]
[1892.02,5.52,{"v":0.2233,"d":"0.22"},{"v":0.345,"d":"0.35"},{"v":7.326212727,"d":"7.33"},{"v":1892.124999999981,"d":"1892.12"},{"$f":"G260*11/12+G272*1/12","v":{"v":3.6125000000000003,"d":"3.61"}}]
[1892.03,5.58,{"v":0.225,"d":"0.23"},{"v":0.3475,"d":"0.35"},{"v":7.135922645,"d":"7.14"},{"v":1892.2083333333142,"d":"1892.21"},{"$f":"G260*10/12+G272*2/12","v":{"v":3.625,"d":"3.63"}}]
[1892.04,5.57,{"v":0.2267,"d":"0.23"},0.35,{"v":7.040773554,"d":"7.04"},{"v":1892.2916666666474,"d":"1892.29"},{"$f":"G260*9/12+G272*3/12","v":{"v":3.6374999999999997,"d":"3.64"}}]
[1892.05,5.57,{"v":0.2283,"d":"0.23"},{"v":0.3525,"d":"0.35"},{"v":7.040773554,"d":"7.04"},{"v":1892.3749999999807,"d":"1892.37"},{"$f":"G260*8/12+G272*4/12","v":3.65}]
[1892.06,5.54,0.23,{"v":0.355,"d":"0.36"},{"v":7.040773554,"d":"7.04"},{"$f":"F264+1/12","v":{"v":1892.458333333314,"d":"1892.46"}},{"$f":"G260*7/12+G272*5/12","v":{"v":3.6625,"d":"3.66"}}]
[1892.07,5.54,{"v":0.2317,"d":"0.23"},{"v":0.3575,"d":"0.36"},{"v":7.231071736,"d":"7.23"},{"v":1892.5416666666472,"d":"1892.54"},{"$f":"G260*6/12+G272*6/12","v":{"v":3.675,"d":"3.68"}}]
[1892.08,5.62,{"v":0.2333,"d":"0.23"},0.36,{"v":7.326212727,"d":"7.33"},{"v":1892.6249999999804,"d":"1892.62"},{"$f":"G260*5/12+G272*7/12","v":{"v":3.6875,"d":"3.69"}}]
[1892.09,5.48,{"v":0.235,"d":"0.24"},{"v":0.3625,"d":"0.36"},{"v":7.326212727,"d":"7.33"},{"v":1892.7083333333137,"d":"1892.71"},{"$f":"G260*4/12+G272*8/12","v":{"v":3.7,"d":"3.70"}}]
[{"v":1892.1,"d":"1892.10"},5.59,{"v":0.2367,"d":"0.24"},{"v":0.365,"d":"0.37"},{"v":7.326212727,"d":"7.33"},{"v":1892.791666666647,"d":"1892.79"},{"$f":"G260*3/12+G272*9/12","v":{"v":3.7125,"d":"3.71"}}]
[1892.11,5.57,{"v":0.2383,"d":"0.24"},{"v":0.3675,"d":"0.37"},{"v":7.51650281,"d":"7.52"},{"v":1892.8749999999802,"d":"1892.87"},{"$f":"G260*2/12+G272*10/12","v":{"v":3.725,"d":"3.73"}}]
[1892.12,5.51,0.24,0.37,{"v":7.611651901,"d":"7.61"},{"v":1892.9583333333135,"d":"1892.96"},{"$f":"G260*1/12+G272*11/12","v":{"v":3.7375,"d":"3.74"}}]
[1893.01,5.61,{"v":0.2408,"d":"0.24"},{"v":0.3608,"d":"0.36"},{"v":7.897091074,"d":"7.90"},{"v":1893.0416666666467,"d":"1893.04"},3.75]
[1893.02,5.51,{"v":0.2417,"d":"0.24"},{"v":0.3517,"d":"0.35"},{"v":7.992232066,"d":"7.99"},{"v":1893.12499999998,"d":"1893.12"},{"$f":"G272*11/12+G284*1/12","v":{"v":3.7458333333333336,"d":"3.75"}}]
[1893.03,5.31,{"v":0.2425,"d":"0.24"},{"v":0.3425,"d":"0.34"},{"v":7.801941983,"d":"7.80"},{"v":1893.2083333333132,"d":"1893.21"},{"$f":"G272*10/12+G284*2/12","v":{"v":3.7416666666666667,"d":"3.74"}}]
[1893.04,5.31,{"v":0.2433,"d":"0.24"},{"v":0.3333,"d":"0.33"},{"v":7.706792893,"d":"7.71"},{"v":1893.2916666666465,"d":"1893.29"},{"$f":"G272*9/12+G284*3/12","v":{"v":3.7375000000000003,"d":"3.74"}}]
[1893.05,4.84,{"v":0.2442,"d":"0.24"},{"v":0.3242,"d":"0.32"},{"v":7.611651901,"d":"7.61"},{"v":1893.3749999999798,"d":"1893.37"},{"$f":"G272*8/12+G284*4/12","v":{"v":3.7333333333333334,"d":"3.73"}}]
[1893.06,4.61,{"v":0.245,"d":"0.25"},{"v":0.315,"d":"0.32"},{"v":7.421361818,"d":"7.42"},{"v":1893.458333333313,"d":"1893.46"},{"$f":"G272*7/12+G284*5/12","v":{"v":3.729166666666667,"d":"3.73"}}]
[1893.07,4.18,{"v":0.2458,"d":"0.25"},{"v":0.3058,"d":"0.31"},{"v":7.231071736,"d":"7.23"},{"v":1893.5416666666463,"d":"1893.54"},{"$f":"G272*6/12+G284*6/12","v":{"v":3.7250000000000005,"d":"3.73"}}]
[1893.08,4.08,{"v":0.2467,"d":"0.25"},{"v":0.2967,"d":"0.30"},{"v":6.945632562,"d":"6.95"},{"v":1893.6249999999795,"d":"1893.62"},{"$f":"G272*5/12+G284*7/12","v":{"v":3.7208333333333337,"d":"3.72"}}]
[1893.09,4.37,{"v":0.2475,"d":"0.25"},{"v":0.2875,"d":"0.29"},{"v":7.231071736,"d":"7.23"},{"v":1893.7083333333128,"d":"1893.71"},{"$f":"G272*4/12+G284*8/12","v":{"v":3.716666666666667,"d":"3.72"}}]
[{"v":1893.1,"d":"1893.10"},{"v":4.5,"d":"4.50"},{"v":0.2483,"d":"0.25"},{"v":0.2783,"d":"0.28"},{"v":7.326212727,"d":"7.33"},{"v":1893.791666666646,"d":"1893.79"},{"$f":"G272*3/12+G284*9/12","v":{"v":3.7125000000000004,"d":"3.71"}}]
[1893.11,4.57,{"v":0.2492,"d":"0.25"},{"v":0.2692,"d":"0.27"},{"v":7.135922645,"d":"7.14"},{"v":1893.8749999999793,"d":"1893.87"},{"$f":"G272*2/12+G284*10/12","v":{"v":3.7083333333333335,"d":"3.71"}}]
[1893.12,4.41,0.25,0.26,{"v":7.040773554,"d":"7.04"},{"v":1893.9583333333126,"d":"1893.96"},{"$f":"G272*1/12+G284*11/12","v":{"v":3.704166666666667,"d":"3.70"}}]
[1894.01,4.32,{"v":0.2467,"d":"0.25"},{"v":0.2517,"d":"0.25"},{"v":6.850483471,"d":"6.85"},{"v":1894.0416666666458,"d":"1894.04"},{"v":3.7,"d":"3.70"}]
[1894.02,4.38,{"v":0.2433,"d":"0.24"},{"v":0.2433,"d":"0.24"},{"v":6.755342479,"d":"6.76"},{"v":1894.124999999979,"d":"1894.12"},{"$f":"G284*11/12+G296*1/12","v":{"v":3.6800000000000006,"d":"3.68"}}]
[1894.03,4.51,0.24,{"v":0.235,"d":"0.24"},{"v":6.565052397,"d":"6.57"},{"v":1894.2083333333123,"d":"1894.21"},{"$f":"G284*10/12+G296*2/12","v":3.66}]
[1894.04,4.57,{"v":0.2367,"d":"0.24"},{"v":0.2267,"d":"0.23"},{"v":6.565052397,"d":"6.57"},{"v":1894.2916666666456,"d":"1894.29"},{"$f":"G284*9/12+G296*3/12","v":3.64}]
[1894.05,{"v":4.4,"d":"4.40"},{"v":0.2333,"d":"0.23"},{"v":0.2183,"d":"0.22"},{"v":6.565052397,"d":"6.57"},{"v":1894.3749999999789,"d":"1894.37"},{"$f":"G284*8/12+G296*4/12","v":3.62}]
[1894.06,4.34,0.23,0.21,{"v":6.565052397,"d":"6.57"},{"v":1894.458333333312,"d":"1894.46"},{"$f":"G284*7/12+G296*5/12","v":{"v":3.6000000000000005,"d":"3.60"}}]
[1894.07,4.25,{"v":0.2267,"d":"0.23"},{"v":0.2017,"d":"0.20"},{"v":6.565052397,"d":"6.57"},{"v":1894.5416666666454,"d":"1894.54"},{"$f":"G284*6/12+G296*6/12","v":3.58}]
[1894.08,4.41,{"v":0.2233,"d":"0.22"},{"v":0.1933,"d":"0.19"},{"v":6.755342479,"d":"6.76"},{"v":1894.6249999999786,"d":"1894.62"},{"$f":"G284*5/12+G296*7/12","v":{"v":3.5599999999999996,"d":"3.56"}}]
[1894.09,4.48,0.22,{"v":0.185,"d":"0.19"},{"v":6.850483471,"d":"6.85"},{"v":1894.7083333333119,"d":"1894.71"},{"$f":"G284*4/12+G296*8/12","v":3.54}]
[{"v":1894.1,"d":"1894.10"},4.34,{"v":0.2167,"d":"0.22"},{"v":0.1767,"d":"0.18"},{"v":6.660193388,"d":"6.66"},{"v":1894.7916666666451,"d":"1894.79"},{"$f":"G284*3/12+G296*9/12","v":{"v":3.5200000000000005,"d":"3.52"}}]
[1894.11,4.34,{"v":0.2133,"d":"0.21"},{"v":0.1683,"d":"0.17"},{"v":6.660193388,"d":"6.66"},{"v":1894.8749999999784,"d":"1894.87"},{"$f":"G284*2/12+G296*10/12","v":{"v":3.5,"d":"3.50"}}]
[1894.12,{"v":4.3,"d":"4.30"},0.21,0.16,{"v":6.565052397,"d":"6.57"},{"v":1894.9583333333117,"d":"1894.96"},{"$f":"G284*1/12+G296*11/12","v":{"v":3.4800000000000004,"d":"3.48"}}]
[1895.01,4.25,{"v":0.2083,"d":"0.21"},{"v":0.1675,"d":"0.17"},{"v":6.565052397,"d":"6.57"},{"v":1895.041666666645,"d":"1895.04"},3.46]
[1895.02,4.19,{"v":0.2067,"d":"0.21"},{"v":0.175,"d":"0.18"},{"v":6.565052397,"d":"6.57"},{"v":1895.1249999999782,"d":"1895.12"},{"$f":"G296*11/12+G308*1/12","v":{"v":3.4716666666666667,"d":"3.47"}}]
[1895.03,4.19,{"v":0.205,"d":"0.21"},{"v":0.1825,"d":"0.18"},{"v":6.565052397,"d":"6.57"},{"v":1895.2083333333114,"d":"1895.21"},{"$f":"G296*10/12+G308*2/12","v":{"v":3.4833333333333334,"d":"3.48"}}]
[1895.04,4.37,{"v":0.2033,"d":"0.20"},0.19,{"v":6.850483471,"d":"6.85"},{"v":1895.2916666666447,"d":"1895.29"},{"$f":"G296*9/12+G308*3/12","v":{"v":3.495,"d":"3.50"}}]
[1895.05,4.61,{"v":0.2017,"d":"0.20"},{"v":0.1975,"d":"0.20"},{"v":6.945632562,"d":"6.95"},{"v":1895.374999999978,"d":"1895.37"},{"$f":"G296*8/12+G308*4/12","v":{"v":3.506666666666667,"d":"3.51"}}]
[1895.06,{"v":4.7,"d":"4.70"},{"v":0.2,"d":"0.20"},{"v":0.205,"d":"0.21"},{"v":7.040773554,"d":"7.04"},{"v":1895.4583333333112,"d":"1895.46"},{"$f":"G296*7/12+G308*5/12","v":{"v":3.518333333333333,"d":"3.52"}}]
[1895.07,4.72,{"v":0.1983,"d":"0.20"},{"v":0.2125,"d":"0.21"},{"v":6.945632562,"d":"6.95"},{"v":1895.5416666666445,"d":"1895.54"},{"$f":"G296*6/12+G308*6/12","v":3.53}]
[1895.08,4.79,{"v":0.1967,"d":"0.20"},0.22,{"v":6.850483471,"d":"6.85"},{"v":1895.6249999999777,"d":"1895.62"},{"$f":"G296*5/12+G308*7/12","v":{"v":3.541666666666667,"d":"3.54"}}]
[1895.09,4.82,{"v":0.195,"d":"0.20"},{"v":0.2275,"d":"0.23"},{"v":6.850483471,"d":"6.85"},{"v":1895.708333333311,"d":"1895.71"},{"$f":"G296*4/12+G308*8/12","v":{"v":3.5533333333333332,"d":"3.55"}}]
[{"v":1895.1,"d":"1895.10"},4.75,{"v":0.1933,"d":"0.19"},{"v":0.235,"d":"0.24"},{"v":6.850483471,"d":"6.85"},{"v":1895.7916666666442,"d":"1895.79"},{"$f":"G296*3/12+G308*9/12","v":{"v":3.5649999999999995,"d":"3.57"}}]
[1895.11,4.59,{"v":0.1917,"d":"0.19"},{"v":0.2425,"d":"0.24"},{"v":6.850483471,"d":"6.85"},{"v":1895.8749999999775,"d":"1895.87"},{"$f":"G296*2/12+G308*10/12","v":{"v":3.5766666666666667,"d":"3.58"}}]
[1895.12,4.32,0.19,0.25,{"v":6.755342479,"d":"6.76"},{"v":1895.9583333333107,"d":"1895.96"},{"$f":"G296*1/12+G308*11/12","v":{"v":3.588333333333334,"d":"3.59"}}]
[1896.01,4.27,{"v":0.1892,"d":"0.19"},{"v":0.2467,"d":"0.25"},{"v":6.660193388,"d":"6.66"},{"v":1896.041666666644,"d":"1896.04"},{"v":3.6,"d":"3.60"}]
[1896.02,4.45,{"v":0.1883,"d":"0.19"},{"v":0.2433,"d":"0.24"},{"v":6.565052397,"d":"6.57"},{"v":1896.1249999999773,"d":"1896.12"},{"$f":"G308*11/12+G320*1/12","v":{"v":3.5833333333333335,"d":"3.58"}}]
[1896.03,4.38,{"v":0.1875,"d":"0.19"},0.24,{"v":6.565052397,"d":"6.57"},{"v":1896.2083333333105,"d":"1896.21"},{"$f":"G308*10/12+G320*2/12","v":{"v":3.5666666666666664,"d":"3.57"}}]
[1896.04,4.42,{"v":0.1867,"d":"0.19"},{"v":0.2367,"d":"0.24"},{"v":6.469903306,"d":"6.47"},{"v":1896.2916666666438,"d":"1896.29"},{"$f":"G308*9/12+G320*3/12","v":3.55}]
[1896.05,{"v":4.4,"d":"4.40"},{"v":0.1858,"d":"0.19"},{"v":0.2333,"d":"0.23"},{"v":6.374754215,"d":"6.37"},{"v":1896.374999999977,"d":"1896.37"},{"$f":"G308*8/12+G320*4/12","v":{"v":3.533333333333333,"d":"3.53"}}]
[1896.06,4.32,{"v":0.185,"d":"0.19"},0.23,{"v":6.279613223,"d":"6.28"},{"v":1896.4583333333103,"d":"1896.46"},{"$f":"G308*7/12+G320*5/12","v":{"v":3.5166666666666666,"d":"3.52"}}]
[1896.07,4.04,{"v":0.1842,"d":"0.18"},{"v":0.2267,"d":"0.23"},{"v":6.279613223,"d":"6.28"},{"v":1896.5416666666436,"d":"1896.54"},{"$f":"G308*6/12+G320*6/12","v":{"v":3.5,"d":"3.50"}}]
[1896.08,3.81,{"v":0.1833,"d":"0.18"},{"v":0.2233,"d":"0.22"},{"v":6.279613223,"d":"6.28"},{"v":1896.6249999999768,"d":"1896.62"},{"$f":"G308*5/12+G320*7/12","v":{"v":3.4833333333333334,"d":"3.48"}}]
[1896.09,4.01,{"v":0.1825,"d":"0.18"},0.22,{"v":6.279613223,"d":"6.28"},{"v":1896.70833333331,"d":"1896.71"},{"$f":"G308*4/12+G320*8/12","v":{"v":3.466666666666667,"d":"3.47"}}]
[{"v":1896.1,"d":"1896.10"},{"v":4.1,"d":"4.10"},{"v":0.1817,"d":"0.18"},{"v":0.2167,"d":"0.22"},{"v":6.469903306,"d":"6.47"},{"v":1896.7916666666433,"d":"1896.79"},{"$f":"G308*3/12+G320*9/12","v":{"v":3.4499999999999997,"d":"3.45"}}]
[1896.11,4.38,{"v":0.1808,"d":"0.18"},{"v":0.2133,"d":"0.21"},{"v":6.660193388,"d":"6.66"},{"v":1896.8749999999766,"d":"1896.87"},{"$f":"G308*2/12+G320*10/12","v":{"v":3.4333333333333336,"d":"3.43"}}]
[1896.12,4.22,0.18,0.21,{"v":6.660193388,"d":"6.66"},{"v":1896.9583333333098,"d":"1896.96"},{"$f":"G308*1/12+G320*11/12","v":{"v":3.4166666666666665,"d":"3.42"}}]
[1897.01,4.22,0.18,{"v":0.2183,"d":"0.22"},{"v":6.469903306,"d":"6.47"},{"v":1897.041666666643,"d":"1897.04"},{"v":3.4,"d":"3.40"}]
[1897.02,4.18,0.18,{"v":0.2267,"d":"0.23"},{"v":6.469903306,"d":"6.47"},{"v":1897.1249999999764,"d":"1897.12"},{"$f":"G320*11/12+G332*1/12","v":{"v":3.3958333333333335,"d":"3.40"}}]
[1897.03,4.19,0.18,{"v":0.235,"d":"0.24"},{"v":6.469903306,"d":"6.47"},{"v":1897.2083333333096,"d":"1897.21"},{"$f":"G320*10/12+G332*2/12","v":{"v":3.3916666666666666,"d":"3.39"}}]
[1897.04,4.06,0.18,{"v":0.2433,"d":"0.24"},{"v":6.374754215,"d":"6.37"},{"v":1897.2916666666429,"d":"1897.29"},{"$f":"G320*9/12+G332*3/12","v":{"v":3.3874999999999997,"d":"3.39"}}]
[1897.05,4.08,0.18,{"v":0.2517,"d":"0.25"},{"v":6.279613223,"d":"6.28"},{"v":1897.3749999999761,"d":"1897.37"},{"$f":"G320*8/12+G332*4/12","v":{"v":3.3833333333333333,"d":"3.38"}}]
[1897.06,4.27,0.18,0.26,{"v":6.279613223,"d":"6.28"},{"v":1897.4583333333094,"d":"1897.46"},{"$f":"G320*7/12+G332*5/12","v":{"v":3.3791666666666664,"d":"3.38"}}]
[1897.07,4.46,0.18,{"v":0.2683,"d":"0.27"},{"v":6.279613223,"d":"6.28"},{"v":1897.5416666666426,"d":"1897.54"},{"$f":"G320*6/12+G332*6/12","v":{"v":3.375,"d":"3.38"}}]
[1897.08,4.75,0.18,{"v":0.2767,"d":"0.28"},{"v":6.565052397,"d":"6.57"},{"v":1897.624999999976,"d":"1897.62"},{"$f":"G320*5/12+G332*7/12","v":{"v":3.3708333333333336,"d":"3.37"}}]
[1897.09,4.98,0.18,{"v":0.285,"d":"0.29"},{"v":6.755342479,"d":"6.76"},{"v":1897.7083333333092,"d":"1897.71"},{"$f":"G320*4/12+G332*8/12","v":{"v":3.3666666666666667,"d":"3.37"}}]
[{"v":1897.1,"d":"1897.10"},4.82,0.18,{"v":0.2933,"d":"0.29"},{"v":6.660193388,"d":"6.66"},{"$f":"F328+1/12","v":{"v":1897.7916666666424,"d":"1897.79"}},{"$f":"G320*3/12+G332*9/12","v":{"v":3.3625000000000003,"d":"3.36"}}]
[1897.11,4.65,0.18,{"v":0.3017,"d":"0.30"},{"v":6.660193388,"d":"6.66"},{"v":1897.8749999999757,"d":"1897.87"},{"$f":"G320*2/12+G332*10/12","v":{"v":3.3583333333333334,"d":"3.36"}}]
[1897.12,4.75,0.18,0.31,{"v":6.660193388,"d":"6.66"},{"v":1897.958333333309,"d":"1897.96"},{"$f":"G320*1/12+G332*11/12","v":{"v":3.3541666666666665,"d":"3.35"}}]
[1898.01,4.88,{"v":0.1817,"d":"0.18"},{"v":0.3133,"d":"0.31"},{"v":6.660193388,"d":"6.66"},{"v":1898.0416666666422,"d":"1898.04"},3.35]
[1898.02,4.87,{"v":0.1833,"d":"0.18"},{"v":0.3167,"d":"0.32"},{"v":6.755342479,"d":"6.76"},{"v":1898.1249999999754,"d":"1898.12"},{"$f":"G332*11/12+G344*1/12","v":{"v":3.3291666666666666,"d":"3.33"}}]
[1898.03,4.65,{"v":0.185,"d":"0.19"},0.32,{"v":6.755342479,"d":"6.76"},{"v":1898.2083333333087,"d":"1898.21"},{"$f":"G332*10/12+G344*2/12","v":{"v":3.308333333333333,"d":"3.31"}}]
[1898.04,4.57,{"v":0.1867,"d":"0.19"},{"v":0.3233,"d":"0.32"},{"v":6.755342479,"d":"6.76"},{"v":1898.291666666642,"d":"1898.29"},{"$f":"G332*9/12+G344*3/12","v":{"v":3.2875,"d":"3.29"}}]
[1898.05,4.87,{"v":0.1883,"d":"0.19"},{"v":0.3267,"d":"0.33"},{"v":7.231071736,"d":"7.23"},{"v":1898.3749999999752,"d":"1898.37"},{"$f":"G332*8/12+G344*4/12","v":{"v":3.2666666666666666,"d":"3.27"}}]
[1898.06,5.06,0.19,0.33,{"v":6.755342479,"d":"6.76"},{"v":1898.4583333333085,"d":"1898.46"},{"$f":"G332*7/12+G344*5/12","v":{"v":3.2458333333333336,"d":"3.25"}}]
[1898.07,5.08,{"v":0.1917,"d":"0.19"},{"v":0.3333,"d":"0.33"},{"v":6.660193388,"d":"6.66"},{"v":1898.5416666666417,"d":"1898.54"},{"$f":"G332*6/12+G344*6/12","v":{"v":3.225,"d":"3.23"}}]
[1898.08,5.27,{"v":0.1933,"d":"0.19"},{"v":0.3367,"d":"0.34"},{"v":6.660193388,"d":"6.66"},{"v":1898.624999999975,"d":"1898.62"},{"$f":"G332*5/12+G344*7/12","v":{"v":3.2041666666666666,"d":"3.20"}}]
[1898.09,5.26,{"v":0.195,"d":"0.20"},0.34,{"v":6.660193388,"d":"6.66"},{"v":1898.7083333333082,"d":"1898.71"},{"$f":"G332*4/12+G344*8/12","v":{"v":3.1833333333333336,"d":"3.18"}}]
[{"v":1898.1,"d":"1898.10"},5.15,{"v":0.1967,"d":"0.20"},{"v":0.3433,"d":"0.34"},{"v":6.660193388,"d":"6.66"},{"v":1898.7916666666415,"d":"1898.79"},{"$f":"G332*3/12+G344*9/12","v":{"v":3.1625,"d":"3.16"}}]
[1898.11,5.32,{"v":0.1983,"d":"0.20"},{"v":0.3467,"d":"0.35"},{"v":6.660193388,"d":"6.66"},{"v":1898.8749999999748,"d":"1898.87"},{"$f":"G332*2/12+G344*10/12","v":{"v":3.1416666666666666,"d":"3.14"}}]
[1898.12,5.65,{"v":0.2,"d":"0.20"},0.35,{"v":6.755342479,"d":"6.76"},{"v":1898.958333333308,"d":"1898.96"},{"$f":"G332*1/12+G344*11/12","v":{"v":3.1208333333333336,"d":"3.12"}}]
[1899.01,6.08,{"v":0.2008,"d":"0.20"},{"v":0.3608,"d":"0.36"},{"v":6.755342479,"d":"6.76"},{"v":1899.0416666666413,"d":"1899.04"},{"v":3.1,"d":"3.10"}]
[1899.02,6.31,{"v":0.2017,"d":"0.20"},{"v":0.3717,"d":"0.37"},{"v":6.945632562,"d":"6.95"},{"v":1899.1249999999745,"d":"1899.12"},{"$f":"G344*11/12+G356*1/12","v":{"v":3.104166666666667,"d":"3.10"}}]
[1899.03,{"v":6.4,"d":"6.40"},{"v":0.2025,"d":"0.20"},{"v":0.3825,"d":"0.38"},{"v":6.945632562,"d":"6.95"},{"v":1899.2083333333078,"d":"1899.21"},{"$f":"G344*10/12+G356*2/12","v":{"v":3.1083333333333334,"d":"3.11"}}]
[1899.04,6.48,{"v":0.2033,"d":"0.20"},{"v":0.3933,"d":"0.39"},{"v":7.040773554,"d":"7.04"},{"v":1899.291666666641,"d":"1899.29"},{"$f":"G344*9/12+G356*3/12","v":{"v":3.1125000000000003,"d":"3.11"}}]
[1899.05,6.21,{"v":0.2042,"d":"0.20"},{"v":0.4042,"d":"0.40"},{"v":7.040773554,"d":"7.04"},{"v":1899.3749999999743,"d":"1899.37"},{"$f":"G344*8/12+G356*4/12","v":{"v":3.116666666666667,"d":"3.12"}}]
[1899.06,6.07,{"v":0.205,"d":"0.21"},{"v":0.415,"d":"0.42"},{"v":7.135922645,"d":"7.14"},{"v":1899.4583333333076,"d":"1899.46"},{"$f":"G344*7/12+G356*5/12","v":{"v":3.1208333333333336,"d":"3.12"}}]
[1899.07,6.28,{"v":0.2058,"d":"0.21"},{"v":0.4258,"d":"0.43"},{"v":7.231071736,"d":"7.23"},{"v":1899.5416666666408,"d":"1899.54"},{"$f":"G344*6/12+G356*6/12","v":{"v":3.125,"d":"3.13"}}]
[1899.08,6.44,{"v":0.2067,"d":"0.21"},{"v":0.4367,"d":"0.44"},{"v":7.326212727,"d":"7.33"},{"v":1899.624999999974,"d":"1899.62"},{"$f":"G344*5/12+G356*7/12","v":{"v":3.129166666666667,"d":"3.13"}}]
[1899.09,6.37,{"v":0.2075,"d":"0.21"},{"v":0.4475,"d":"0.45"},{"v":7.611651901,"d":"7.61"},{"v":1899.7083333333073,"d":"1899.71"},{"$f":"G344*4/12+G356*8/12","v":{"v":3.1333333333333337,"d":"3.13"}}]
[{"v":1899.1,"d":"1899.10"},6.34,{"v":0.2083,"d":"0.21"},{"v":0.4583,"d":"0.46"},{"v":7.706792893,"d":"7.71"},{"v":1899.7916666666406,"d":"1899.79"},{"$f":"G344*3/12+G356*9/12","v":{"v":3.1374999999999997,"d":"3.14"}}]
[1899.11,6.46,{"v":0.2092,"d":"0.21"},{"v":0.4692,"d":"0.47"},{"v":7.801941983,"d":"7.80"},{"v":1899.8749999999739,"d":"1899.87"},{"$f":"G344*2/12+G356*10/12","v":{"v":3.1416666666666666,"d":"3.14"}}]
[1899.12,6.02,0.21,0.48,{"v":7.897091074,"d":"7.90"},{"v":1899.958333333307,"d":"1899.96"},{"$f":"G344*1/12+G356*11/12","v":{"v":3.145833333333333,"d":"3.15"}}]
[1900.01,{"v":6.1,"d":"6.10"},{"v":0.2175,"d":"0.22"},0.48,{"v":7.897091074,"d":"7.90"},{"v":1900.0416666666404,"d":"1900.04"},3.15]
[1900.02,6.21,{"v":0.225,"d":"0.23"},0.48,{"v":7.992232066,"d":"7.99"},{"v":1900.1249999999736,"d":"1900.12"},{"$f":"G356*11/12+G368*1/12","v":{"v":3.145833333333333,"d":"3.15"}}]
[1900.03,6.26,{"v":0.2325,"d":"0.23"},0.48,{"v":7.992232066,"d":"7.99"},{"v":1900.2083333333069,"d":"1900.21"},{"$f":"G356*10/12+G368*2/12","v":{"v":3.1416666666666666,"d":"3.14"}}]
[1900.04,6.34,0.24,0.48,{"v":7.992232066,"d":"7.99"},{"v":1900.2916666666401,"d":"1900.29"},{"$f":"G356*9/12+G368*3/12","v":{"v":3.1374999999999997,"d":"3.14"}}]
[1900.05,6.04,{"v":0.2475,"d":"0.25"},0.48,{"v":7.801941983,"d":"7.80"},{"v":1900.3749999999734,"d":"1900.37"},{"$f":"G356*8/12+G368*4/12","v":{"v":3.1333333333333337,"d":"3.13"}}]
[1900.06,5.86,{"v":0.255,"d":"0.26"},0.48,{"v":7.706792893,"d":"7.71"},{"v":1900.4583333333067,"d":"1900.46"},{"$f":"G356*7/12+G368*5/12","v":{"v":3.129166666666667,"d":"3.13"}}]
[1900.07,5.86,{"v":0.2625,"d":"0.26"},0.48,{"v":7.801941983,"d":"7.80"},{"v":1900.54166666664,"d":"1900.54"},{"$f":"G356*6/12+G368*6/12","v":{"v":3.125,"d":"3.13"}}]
[1900.08,5.94,0.27,0.48,{"v":7.706792893,"d":"7.71"},{"v":1900.6249999999732,"d":"1900.62"},{"$f":"G356*5/12+G368*7/12","v":{"v":3.1208333333333336,"d":"3.12"}}]
[1900.09,{"v":5.8,"d":"5.80"},{"v":0.2775,"d":"0.28"},0.48,{"v":7.801941983,"d":"7.80"},{"v":1900.7083333333064,"d":"1900.71"},{"$f":"G356*4/12+G368*8/12","v":{"v":3.116666666666667,"d":"3.12"}}]
[{"v":1900.1,"d":"1900.10"},6.01,{"v":0.285,"d":"0.29"},0.48,{"v":7.706792893,"d":"7.71"},{"v":1900.7916666666397,"d":"1900.79"},{"$f":"G356*3/12+G368*9/12","v":{"v":3.1125000000000003,"d":"3.11"}}]
[1900.11,6.48,{"v":0.2925,"d":"0.29"},0.48,{"v":7.706792893,"d":"7.71"},{"v":1900.874999999973,"d":"1900.87"},{"$f":"G356*2/12+G368*10/12","v":{"v":3.1083333333333334,"d":"3.11"}}]
[1900.12,6.87,{"v":0.3,"d":"0.30"},0.48,{"v":7.611651901,"d":"7.61"},{"v":1900.9583333333062,"d":"1900.96"},{"$f":"G356*1/12+G368*11/12","v":{"v":3.104166666666667,"d":"3.10"}}]
[1901.01,7.07,{"v":0.3017,"d":"0.30"},{"v":0.4817,"d":"0.48"},{"v":7.706792893,"d":"7.71"},{"v":1901.0416666666395,"d":"1901.04"},{"v":3.1,"d":"3.10"}]
[1901.02,7.25,{"v":0.3033,"d":"0.30"},{"v":0.4833,"d":"0.48"},{"v":7.611651901,"d":"7.61"},{"v":1901.1249999999727,"d":"1901.12"},{"$f":"G368*11/12+G380*1/12","v":{"v":3.106666666666667,"d":"3.11"}}]
[1901.03,7.51,{"v":0.305,"d":"0.31"},{"v":0.485,"d":"0.49"},{"v":7.611651901,"d":"7.61"},{"v":1901.208333333306,"d":"1901.21"},{"$f":"G368*10/12+G380*2/12","v":{"v":3.1133333333333333,"d":"3.11"}}]
[1901.04,8.14,{"v":0.3067,"d":"0.31"},{"v":0.4867,"d":"0.49"},{"v":7.51650281,"d":"7.52"},{"v":1901.2916666666392,"d":"1901.29"},{"$f":"G368*9/12+G380*3/12","v":3.12}]
[1901.05,7.73,{"v":0.3083,"d":"0.31"},{"v":0.4883,"d":"0.49"},{"v":7.51650281,"d":"7.52"},{"v":1901.3749999999725,"d":"1901.37"},{"$f":"G368*8/12+G380*4/12","v":{"v":3.126666666666667,"d":"3.13"}}]
[1901.06,{"v":8.5,"d":"8.50"},0.31,0.49,{"v":7.51650281,"d":"7.52"},{"v":1901.4583333333057,"d":"1901.46"},{"$f":"G368*7/12+G380*5/12","v":{"v":3.1333333333333333,"d":"3.13"}}]
[1901.07,7.93,{"v":0.3117,"d":"0.31"},{"v":0.4917,"d":"0.49"},{"v":7.611651901,"d":"7.61"},{"v":1901.541666666639,"d":"1901.54"},{"$f":"G368*6/12+G380*6/12","v":3.14}]
[1901.08,8.04,{"v":0.3133,"d":"0.31"},{"v":0.4933,"d":"0.49"},{"v":7.706792893,"d":"7.71"},{"v":1901.6249999999723,"d":"1901.62"},{"$f":"G368*5/12+G380*7/12","v":{"v":3.146666666666667,"d":"3.15"}}]
[1901.09,{"v":8,"d":"8.00"},{"v":0.315,"d":"0.32"},{"v":0.495,"d":"0.50"},{"v":7.801941983,"d":"7.80"},{"v":1901.7083333333055,"d":"1901.71"},{"$f":"G368*4/12+G380*8/12","v":{"v":3.1533333333333333,"d":"3.15"}}]
[{"v":1901.1,"d":"1901.10"},7.91,{"v":0.3167,"d":"0.32"},{"v":0.4967,"d":"0.50"},{"v":7.801941983,"d":"7.80"},{"v":1901.7916666666388,"d":"1901.79"},{"$f":"G368*3/12+G380*9/12","v":3.16}]
[1901.11,8.08,{"v":0.3183,"d":"0.32"},{"v":0.4983,"d":"0.50"},{"v":7.897091074,"d":"7.90"},{"v":1901.874999999972,"d":"1901.87"},{"$f":"G368*2/12+G380*10/12","v":{"v":3.1666666666666665,"d":"3.17"}}]
[1901.12,7.95,0.32,{"v":0.5,"d":"0.50"},{"v":7.992232066,"d":"7.99"},{"v":1901.9583333333053,"d":"1901.96"},{"$f":"G368*1/12+G380*11/12","v":{"v":3.173333333333334,"d":"3.17"}}]
[1902.01,8.12,{"v":0.3208,"d":"0.32"},{"v":0.5108,"d":"0.51"},{"v":7.897091074,"d":"7.90"},{"v":1902.0416666666385,"d":"1902.04"},3.18]
[1902.02,8.19,{"v":0.3217,"d":"0.32"},{"v":0.5217,"d":"0.52"},{"v":7.897091074,"d":"7.90"},{"v":1902.1249999999718,"d":"1902.12"},{"$f":"G380*11/12+G392*1/12","v":{"v":3.1900000000000004,"d":"3.19"}}]
[1902.03,{"v":8.2,"d":"8.20"},{"v":0.3225,"d":"0.32"},{"v":0.5325,"d":"0.53"},{"v":7.897091074,"d":"7.90"},{"v":1902.208333333305,"d":"1902.21"},{"$f":"G380*10/12+G392*2/12","v":{"v":3.1999999999999997,"d":"3.20"}}]
[1902.04,8.48,{"v":0.3233,"d":"0.32"},{"v":0.5433,"d":"0.54"},{"v":7.992232066,"d":"7.99"},{"v":1902.2916666666383,"d":"1902.29"},{"$f":"G380*9/12+G392*3/12","v":3.21}]
[1902.05,8.46,{"v":0.3242,"d":"0.32"},{"v":0.5542,"d":"0.55"},{"v":8.087381157,"d":"8.09"},{"v":1902.3749999999716,"d":"1902.37"},{"$f":"G380*8/12+G392*4/12","v":{"v":3.2199999999999998,"d":"3.22"}}]
[1902.06,8.41,{"v":0.325,"d":"0.33"},{"v":0.565,"d":"0.57"},{"v":8.18251405,"d":"8.18"},{"v":1902.4583333333048,"d":"1902.46"},{"$f":"G380*7/12+G392*5/12","v":{"v":3.2300000000000004,"d":"3.23"}}]
[1902.07,{"v":8.6,"d":"8.60"},{"v":0.3258,"d":"0.33"},{"v":0.5758,"d":"0.58"},{"v":8.18251405,"d":"8.18"},{"v":1902.541666666638,"d":"1902.54"},{"$f":"G380*6/12+G392*6/12","v":{"v":3.2399999999999998,"d":"3.24"}}]
[1902.08,8.83,{"v":0.3267,"d":"0.33"},{"v":0.5867,"d":"0.59"},{"v":8.087381157,"d":"8.09"},{"v":1902.6249999999714,"d":"1902.62"},{"$f":"G380*5/12+G392*7/12","v":3.25}]
[1902.09,8.85,{"v":0.3275,"d":"0.33"},{"v":0.5975,"d":"0.60"},{"v":8.18251405,"d":"8.18"},{"v":1902.7083333333046,"d":"1902.71"},{"$f":"G380*4/12+G392*8/12","v":3.26}]
[{"v":1902.1,"d":"1902.10"},8.57,{"v":0.3283,"d":"0.33"},{"v":0.6083,"d":"0.61"},{"v":8.753424793,"d":"8.75"},{"v":1902.7916666666379,"d":"1902.79"},{"$f":"G380*3/12+G392*9/12","v":3.27}]
[1902.11,8.24,{"v":0.3292,"d":"0.33"},{"v":0.6192,"d":"0.62"},{"v":8.467928926,"d":"8.47"},{"v":1902.8749999999711,"d":"1902.87"},{"$f":"G380*2/12+G392*10/12","v":{"v":3.2800000000000002,"d":"3.28"}}]
[1902.12,8.05,0.33,0.63,{"v":8.563094215,"d":"8.56"},{"v":1902.9583333333044,"d":"1902.96"},{"$f":"G380*1/12+G392*11/12","v":3.29}]
[1903.01,8.46,{"v":0.3317,"d":"0.33"},{"v":0.6217,"d":"0.62"},{"v":8.658259504,"d":"8.66"},{"v":1903.0416666666376,"d":"1903.04"},{"v":3.3,"d":"3.30"}]
[1903.02,8.41,{"v":0.3333,"d":"0.33"},{"v":0.6133,"d":"0.61"},{"v":8.658259504,"d":"8.66"},{"$f":"F392+1/12","v":{"v":1903.124999999971,"d":"1903.12"}},{"$f":"G392*11/12+G404*1/12","v":{"v":3.308333333333333,"d":"3.31"}}]
[1903.03,8.08,{"v":0.335,"d":"0.34"},{"v":0.605,"d":"0.61"},{"v":8.372844628,"d":"8.37"},{"v":1903.2083333333042,"d":"1903.21"},{"$f":"G392*10/12+G404*2/12","v":{"v":3.3166666666666664,"d":"3.32"}}]
[1903.04,7.75,{"v":0.3367,"d":"0.34"},{"v":0.5967,"d":"0.60"},{"v":8.372844628,"d":"8.37"},{"v":1903.2916666666374,"d":"1903.29"},{"$f":"G392*9/12+G404*3/12","v":{"v":3.325,"d":"3.33"}}]
[1903.05,{"v":7.6,"d":"7.60"},{"v":0.3383,"d":"0.34"},{"v":0.5883,"d":"0.59"},{"v":8.18251405,"d":"8.18"},{"v":1903.3749999999707,"d":"1903.37"},{"$f":"G392*8/12+G404*4/12","v":{"v":3.333333333333333,"d":"3.33"}}]
[1903.06,7.18,0.34,0.58,{"v":8.18251405,"d":"8.18"},{"v":1903.458333333304,"d":"1903.46"},{"$f":"G392*7/12+G404*5/12","v":{"v":3.341666666666667,"d":"3.34"}}]
[1903.07,6.85,{"v":0.3417,"d":"0.34"},{"v":0.5717,"d":"0.57"},{"v":8.18251405,"d":"8.18"},{"v":1903.5416666666372,"d":"1903.54"},{"$f":"G392*6/12+G404*6/12","v":{"v":3.3499999999999996,"d":"3.35"}}]
[1903.08,6.63,{"v":0.3433,"d":"0.34"},{"v":0.5633,"d":"0.56"},{"v":8.18251405,"d":"8.18"},{"v":1903.6249999999704,"d":"1903.62"},{"$f":"G392*5/12+G404*7/12","v":{"v":3.3583333333333334,"d":"3.36"}}]
[1903.09,6.47,{"v":0.345,"d":"0.35"},{"v":0.555,"d":"0.56"},{"v":8.277679339,"d":"8.28"},{"v":1903.7083333333037,"d":"1903.71"},{"$f":"G392*4/12+G404*8/12","v":{"v":3.3666666666666663,"d":"3.37"}}]
[{"v":1903.1,"d":"1903.10"},6.26,{"v":0.3467,"d":"0.35"},{"v":0.5467,"d":"0.55"},{"v":8.18251405,"d":"8.18"},{"v":1903.791666666637,"d":"1903.79"},{"$f":"G392*3/12+G404*9/12","v":{"v":3.3749999999999996,"d":"3.38"}}]
[1903.11,6.28,{"v":0.3483,"d":"0.35"},{"v":0.5383,"d":"0.54"},{"v":8.087381157,"d":"8.09"},{"v":1903.8749999999702,"d":"1903.87"},{"$f":"G392*2/12+G404*10/12","v":{"v":3.3833333333333333,"d":"3.38"}}]
[1903.12,6.57,0.35,0.53,{"v":8.087381157,"d":"8.09"},{"v":1903.9583333333035,"d":"1903.96"},{"$f":"G392*1/12+G404*11/12","v":{"v":3.3916666666666666,"d":"3.39"}}]
[1904.01,6.68,{"v":0.3467,"d":"0.35"},{"v":0.5267,"d":"0.53"},{"v":8.277679339,"d":"8.28"},{"v":1904.0416666666367,"d":"1904.04"},{"v":3.4,"d":"3.40"}]
[1904.02,{"v":6.5,"d":"6.50"},{"v":0.3433,"d":"0.34"},{"v":0.5233,"d":"0.52"},{"v":8.467928926,"d":"8.47"},{"v":1904.12499999997,"d":"1904.12"},{"$f":"G404*11/12+G416*1/12","v":{"v":3.4066666666666667,"d":"3.41"}}]
[1904.03,6.48,0.34,0.52,{"v":8.372844628,"d":"8.37"},{"v":1904.2083333333032,"d":"1904.21"},{"$f":"G404*10/12+G416*2/12","v":{"v":3.4133333333333336,"d":"3.41"}}]
[1904.04,6.64,{"v":0.3367,"d":"0.34"},{"v":0.5167,"d":"0.52"},{"v":8.277679339,"d":"8.28"},{"v":1904.2916666666365,"d":"1904.29"},{"$f":"G404*9/12+G416*3/12","v":3.42}]
[1904.05,{"v":6.5,"d":"6.50"},{"v":0.3333,"d":"0.33"},{"v":0.5133,"d":"0.51"},{"v":8.087381157,"d":"8.09"},{"v":1904.3749999999698,"d":"1904.37"},{"$f":"G404*8/12+G416*4/12","v":{"v":3.4266666666666667,"d":"3.43"}}]
[1904.06,6.51,0.33,0.51,{"v":8.087381157,"d":"8.09"},{"v":1904.458333333303,"d":"1904.46"},{"$f":"G404*7/12+G416*5/12","v":{"v":3.4333333333333336,"d":"3.43"}}]
[1904.07,6.78,{"v":0.3267,"d":"0.33"},{"v":0.5067,"d":"0.51"},{"v":8.087381157,"d":"8.09"},{"v":1904.5416666666363,"d":"1904.54"},{"$f":"G404*6/12+G416*6/12","v":3.44}]
[1904.08,7.01,{"v":0.3233,"d":"0.32"},{"v":0.5033,"d":"0.50"},{"v":8.18251405,"d":"8.18"},{"v":1904.6249999999695,"d":"1904.62"},{"$f":"G404*5/12+G416*7/12","v":{"v":3.4466666666666663,"d":"3.45"}}]
[1904.09,7.32,0.32,{"v":0.5,"d":"0.50"},{"v":8.277679339,"d":"8.28"},{"v":1904.7083333333028,"d":"1904.71"},{"$f":"G404*4/12+G416*8/12","v":{"v":3.453333333333333,"d":"3.45"}}]
[{"v":1904.1,"d":"1904.10"},7.75,{"v":0.3167,"d":"0.32"},{"v":0.4967,"d":"0.50"},{"v":8.277679339,"d":"8.28"},{"v":1904.791666666636,"d":"1904.79"},{"$f":"G404*3/12+G416*9/12","v":3.46}]
[1904.11,8.17,{"v":0.3133,"d":"0.31"},{"v":0.4933,"d":"0.49"},{"v":8.467928926,"d":"8.47"},{"v":1904.8749999999693,"d":"1904.87"},{"$f":"G404*2/12+G416*10/12","v":{"v":3.466666666666667,"d":"3.47"}}]
[1904.12,8.25,0.31,0.49,{"v":8.467928926,"d":"8.47"},{"v":1904.9583333333026,"d":"1904.96"},{"$f":"G404*1/12+G416*11/12","v":{"v":3.473333333333333,"d":"3.47"}}]
[1905.01,8.43,{"v":0.3117,"d":"0.31"},{"v":0.505,"d":"0.51"},{"v":8.467928926,"d":"8.47"},{"v":1905.0416666666358,"d":"1905.04"},3.48]
[1905.02,{"v":8.8,"d":"8.80"},{"v":0.3133,"d":"0.31"},0.52,{"v":8.467928926,"d":"8.47"},{"v":1905.124999999969,"d":"1905.12"},{"$f":"G416*11/12+G428*1/12","v":{"v":3.475833333333333,"d":"3.48"}}]
[1905.03,9.05,{"v":0.315,"d":"0.32"},{"v":0.535,"d":"0.54"},{"v":8.372844628,"d":"8.37"},{"v":1905.2083333333023,"d":"1905.21"},{"$f":"G416*10/12+G428*2/12","v":{"v":3.4716666666666667,"d":"3.47"}}]
[1905.04,8.94,{"v":0.3167,"d":"0.32"},0.55,{"v":8.372844628,"d":"8.37"},{"v":1905.2916666666356,"d":"1905.29"},{"$f":"G416*9/12+G428*3/12","v":{"v":3.4675,"d":"3.47"}}]
[1905.05,{"v":8.5,"d":"8.50"},{"v":0.3183,"d":"0.32"},{"v":0.565,"d":"0.57"},{"v":8.277679339,"d":"8.28"},{"v":1905.3749999999688,"d":"1905.37"},{"$f":"G416*8/12+G428*4/12","v":{"v":3.463333333333333,"d":"3.46"}}]
[1905.06,{"v":8.6,"d":"8.60"},0.32,0.58,{"v":8.277679339,"d":"8.28"},{"v":1905.458333333302,"d":"1905.46"},{"$f":"G416*7/12+G428*5/12","v":{"v":3.4591666666666665,"d":"3.46"}}]
[1905.07,8.87,{"v":0.3217,"d":"0.32"},{"v":0.595,"d":"0.60"},{"v":8.277679339,"d":"8.28"},{"v":1905.5416666666354,"d":"1905.54"},{"$f":"G416*6/12+G428*6/12","v":{"v":3.455,"d":"3.46"}}]
[1905.08,{"v":9.2,"d":"9.20"},{"v":0.3233,"d":"0.32"},0.61,{"v":8.372844628,"d":"8.37"},{"v":1905.6249999999686,"d":"1905.62"},{"$f":"G416*5/12+G428*7/12","v":{"v":3.4508333333333336,"d":"3.45"}}]
[1905.09,9.23,{"v":0.325,"d":"0.33"},{"v":0.625,"d":"0.63"},{"v":8.277679339,"d":"8.28"},{"v":1905.7083333333019,"d":"1905.71"},{"$f":"G416*4/12+G428*8/12","v":{"v":3.4466666666666663,"d":"3.45"}}]
[{"v":1905.1,"d":"1905.10"},9.36,{"v":0.3267,"d":"0.33"},0.64,{"v":8.277679339,"d":"8.28"},{"v":1905.7916666666351,"d":"1905.79"},{"$f":"G416*3/12+G428*9/12","v":{"v":3.4425000000000003,"d":"3.44"}}]
[1905.11,9.31,{"v":0.3283,"d":"0.33"},{"v":0.655,"d":"0.66"},{"v":8.372844628,"d":"8.37"},{"v":1905.8749999999684,"d":"1905.87"},{"$f":"G416*2/12+G428*10/12","v":{"v":3.438333333333334,"d":"3.44"}}]
[1905.12,9.54,0.33,0.67,{"v":8.467928926,"d":"8.47"},{"v":1905.9583333333017,"d":"1905.96"},{"$f":"G416*1/12+G428*11/12","v":{"v":3.434166666666667,"d":"3.43"}}]
[1906.01,9.87,{"v":0.3358,"d":"0.34"},{"v":0.6775,"d":"0.68"},{"v":8.467928926,"d":"8.47"},{"v":1906.041666666635,"d":"1906.04"},3.43]
[1906.02,{"v":9.8,"d":"9.80"},{"v":0.3417,"d":"0.34"},{"v":0.685,"d":"0.69"},{"v":8.467928926,"d":"8.47"},{"v":1906.1249999999682,"d":"1906.12"},{"$f":"G428*11/12+G440*1/12","v":3.45}]
[1906.03,9.56,{"v":0.3475,"d":"0.35"},{"v":0.6925,"d":"0.69"},{"v":8.467928926,"d":"8.47"},{"v":1906.2083333333014,"d":"1906.21"},{"$f":"G428*10/12+G440*2/12","v":{"v":3.4700000000000006,"d":"3.47"}}]
[1906.04,9.43,{"v":0.3533,"d":"0.35"},{"v":0.7,"d":"0.70"},{"v":8.467928926,"d":"8.47"},{"v":1906.2916666666347,"d":"1906.29"},{"$f":"G428*9/12+G440*3/12","v":3.49}]
[1906.05,9.18,{"v":0.3592,"d":"0.36"},{"v":0.7075,"d":"0.71"},{"v":8.563094215,"d":"8.56"},{"v":1906.374999999968,"d":"1906.37"},{"$f":"G428*8/12+G440*4/12","v":3.51}]
[1906.06,{"v":9.3,"d":"9.30"},{"v":0.365,"d":"0.37"},{"v":0.715,"d":"0.72"},{"v":8.563094215,"d":"8.56"},{"v":1906.4583333333012,"d":"1906.46"},{"$f":"G428*7/12+G440*5/12","v":{"v":3.5300000000000002,"d":"3.53"}}]
[1906.07,9.06,{"v":0.3708,"d":"0.37"},{"v":0.7225,"d":"0.72"},{"v":8.277679339,"d":"8.28"},{"v":1906.5416666666345,"d":"1906.54"},{"$f":"G428*6/12+G440*6/12","v":3.55}]
[1906.08,9.73,{"v":0.3767,"d":"0.38"},0.73,{"v":8.467928926,"d":"8.47"},{"v":1906.6249999999677,"d":"1906.62"},{"$f":"G428*5/12+G440*7/12","v":{"v":3.5700000000000003,"d":"3.57"}}]
[1906.09,10.03,{"v":0.3825,"d":"0.38"},{"v":0.7375,"d":"0.74"},{"v":8.563094215,"d":"8.56"},{"v":1906.708333333301,"d":"1906.71"},{"$f":"G428*4/12+G440*8/12","v":3.59}]
[{"v":1906.1,"d":"1906.10"},9.73,{"v":0.3883,"d":"0.39"},{"v":0.745,"d":"0.75"},{"v":8.753424793,"d":"8.75"},{"v":1906.7916666666342,"d":"1906.79"},{"$f":"G428*3/12+G440*9/12","v":3.61}]
[1906.11,9.93,{"v":0.3942,"d":"0.39"},{"v":0.7525,"d":"0.75"},{"v":8.848509091,"d":"8.85"},{"v":1906.8749999999675,"d":"1906.87"},{"$f":"G428*2/12+G440*10/12","v":{"v":3.6300000000000003,"d":"3.63"}}]
[1906.12,9.84,{"v":0.4,"d":"0.40"},0.76,{"v":8.94367438,"d":"8.94"},{"v":1906.9583333333007,"d":"1906.96"},{"$f":"G428*1/12+G440*11/12","v":{"v":3.6499999999999995,"d":"3.65"}}]
[1907.01,9.56,{"v":0.4033,"d":"0.40"},{"v":0.7517,"d":"0.75"},{"v":8.848509091,"d":"8.85"},{"v":1907.041666666634,"d":"1907.04"},3.67]
[1907.02,9.26,{"v":0.4067,"d":"0.41"},{"v":0.7433,"d":"0.74"},{"v":9.038839669,"d":"9.04"},{"v":1907.1249999999673,"d":"1907.12"},{"$f":"G440*11/12+G452*1/12","v":{"v":3.6866666666666665,"d":"3.69"}}]
[1907.03,8.35,0.41,{"v":0.735,"d":"0.74"},{"v":8.94367438,"d":"8.94"},{"v":1907.2083333333005,"d":"1907.21"},{"$f":"G440*10/12+G452*2/12","v":{"v":3.7033333333333336,"d":"3.70"}}]
[1907.04,8.39,{"v":0.4133,"d":"0.41"},{"v":0.7267,"d":"0.73"},{"v":8.94367438,"d":"8.94"},{"v":1907.2916666666338,"d":"1907.29"},{"$f":"G440*9/12+G452*3/12","v":{"v":3.7199999999999998,"d":"3.72"}}]
[1907.05,{"v":8.1,"d":"8.10"},{"v":0.4167,"d":"0.42"},{"v":0.7183,"d":"0.72"},{"v":9.134004959,"d":"9.13"},{"v":1907.374999999967,"d":"1907.37"},{"$f":"G440*8/12+G452*4/12","v":{"v":3.736666666666667,"d":"3.74"}}]
[1907.06,7.84,0.42,0.71,{"v":9.229089256,"d":"9.23"},{"v":1907.4583333333003,"d":"1907.46"},{"$f":"G440*7/12+G452*5/12","v":{"v":3.753333333333333,"d":"3.75"}}]
[1907.07,8.14,{"v":0.4233,"d":"0.42"},{"v":0.7017,"d":"0.70"},{"v":9.229089256,"d":"9.23"},{"v":1907.5416666666335,"d":"1907.54"},{"$f":"G440*6/12+G452*6/12","v":{"v":3.7699999999999996,"d":"3.77"}}]
[1907.08,7.53,{"v":0.4267,"d":"0.43"},{"v":0.6933,"d":"0.69"},{"v":9.229089256,"d":"9.23"},{"v":1907.6249999999668,"d":"1907.62"},{"$f":"G440*5/12+G452*7/12","v":{"v":3.7866666666666666,"d":"3.79"}}]
[1907.09,7.45,0.43,{"v":0.685,"d":"0.69"},{"v":9.229089256,"d":"9.23"},{"v":1907.7083333333,"d":"1907.71"},{"$f":"G440*4/12+G452*8/12","v":{"v":3.8033333333333337,"d":"3.80"}}]
[{"v":1907.1,"d":"1907.10"},6.64,{"v":0.4333,"d":"0.43"},{"v":0.6767,"d":"0.68"},{"v":9.324254545,"d":"9.32"},{"v":1907.7916666666333,"d":"1907.79"},{"$f":"G440*3/12+G452*9/12","v":3.82}]
[1907.11,6.25,{"v":0.4367,"d":"0.44"},{"v":0.6683,"d":"0.67"},{"v":8.94367438,"d":"8.94"},{"v":1907.8749999999666,"d":"1907.87"},{"$f":"G440*2/12+G452*10/12","v":{"v":3.836666666666667,"d":"3.84"}}]
[1907.12,6.57,0.44,0.66,{"v":8.753424793,"d":"8.75"},{"v":1907.9583333332998,"d":"1907.96"},{"$f":"G440*1/12+G452*11/12","v":{"v":3.853333333333333,"d":"3.85"}}]
[1908.01,6.85,{"v":0.4367,"d":"0.44"},{"v":0.6533,"d":"0.65"},{"v":8.658259504,"d":"8.66"},{"v":1908.041666666633,"d":"1908.04"},3.87]
[1908.02,{"v":6.6,"d":"6.60"},{"v":0.4333,"d":"0.43"},{"v":0.6467,"d":"0.65"},{"v":8.563094215,"d":"8.56"},{"v":1908.1249999999663,"d":"1908.12"},{"$f":"G452*11/12+G464*1/12","v":{"v":3.8608333333333333,"d":"3.86"}}]
[1908.03,6.87,0.43,0.64,{"v":8.563094215,"d":"8.56"},{"v":1908.2083333332996,"d":"1908.21"},{"$f":"G452*10/12+G464*2/12","v":{"v":3.8516666666666666,"d":"3.85"}}]
[1908.04,7.24,{"v":0.4267,"d":"0.43"},{"v":0.6333,"d":"0.63"},{"v":8.658259504,"d":"8.66"},{"v":1908.2916666666329,"d":"1908.29"},{"$f":"G452*9/12+G464*3/12","v":{"v":3.8425,"d":"3.84"}}]
[1908.05,7.63,{"v":0.4233,"d":"0.42"},{"v":0.6267,"d":"0.63"},{"v":8.658259504,"d":"8.66"},{"v":1908.3749999999661,"d":"1908.37"},{"$f":"G452*8/12+G464*4/12","v":{"v":3.833333333333333,"d":"3.83"}}]
[1908.06,7.64,0.42,0.62,{"v":8.658259504,"d":"8.66"},{"$f":"F456+1/12","v":{"v":1908.4583333332994,"d":"1908.46"}},{"$f":"G452*7/12+G464*5/12","v":{"v":3.8241666666666663,"d":"3.82"}}]
[1908.07,7.92,{"v":0.4167,"d":"0.42"},{"v":0.6133,"d":"0.61"},{"v":8.753424793,"d":"8.75"},{"v":1908.5416666666326,"d":"1908.54"},{"$f":"G452*6/12+G464*6/12","v":{"v":3.8149999999999995,"d":"3.82"}}]
[1908.08,8.26,{"v":0.4133,"d":"0.41"},{"v":0.6067,"d":"0.61"},{"v":8.753424793,"d":"8.75"},{"v":1908.624999999966,"d":"1908.62"},{"$f":"G452*5/12+G464*7/12","v":{"v":3.805833333333333,"d":"3.81"}}]
[1908.09,8.17,0.41,{"v":0.6,"d":"0.60"},{"v":8.753424793,"d":"8.75"},{"v":1908.7083333332992,"d":"1908.71"},{"$f":"G452*4/12+G464*8/12","v":{"v":3.7966666666666664,"d":"3.80"}}]
[{"v":1908.1,"d":"1908.10"},8.27,{"v":0.4067,"d":"0.41"},{"v":0.5933,"d":"0.59"},{"v":8.848509091,"d":"8.85"},{"v":1908.7916666666324,"d":"1908.79"},{"$f":"G452*3/12+G464*9/12","v":{"v":3.7874999999999996,"d":"3.79"}}]
[1908.11,8.83,{"v":0.4033,"d":"0.40"},{"v":0.5867,"d":"0.59"},{"v":8.94367438,"d":"8.94"},{"v":1908.8749999999657,"d":"1908.87"},{"$f":"G452*2/12+G464*10/12","v":{"v":3.778333333333333,"d":"3.78"}}]
[1908.12,9.03,{"v":0.4,"d":"0.40"},0.58,{"v":9.038839669,"d":"9.04"},{"v":1908.958333333299,"d":"1908.96"},{"$f":"G452*1/12+G464*11/12","v":{"v":3.769166666666667,"d":"3.77"}}]
[1909.01,9.06,{"v":0.4033,"d":"0.40"},{"v":0.595,"d":"0.60"},{"v":8.94367438,"d":"8.94"},{"v":1909.0416666666322,"d":"1909.04"},3.76]
[1909.02,{"v":8.8,"d":"8.80"},{"v":0.4067,"d":"0.41"},0.61,{"v":9.038839669,"d":"9.04"},{"v":1909.1249999999654,"d":"1909.12"},{"$f":"G464*11/12+G476*1/12","v":{"v":3.7725,"d":"3.77"}}]
[1909.03,8.92,0.41,{"v":0.625,"d":"0.63"},{"v":9.038839669,"d":"9.04"},{"v":1909.2083333332987,"d":"1909.21"},{"$f":"G464*10/12+G476*2/12","v":{"v":3.7849999999999997,"d":"3.79"}}]
[1909.04,9.32,{"v":0.4133,"d":"0.41"},0.64,{"v":9.229089256,"d":"9.23"},{"v":1909.291666666632,"d":"1909.29"},{"$f":"G464*9/12+G476*3/12","v":{"v":3.7975,"d":"3.80"}}]
[1909.05,9.63,{"v":0.4167,"d":"0.42"},{"v":0.655,"d":"0.66"},{"v":9.324254545,"d":"9.32"},{"v":1909.3749999999652,"d":"1909.37"},{"$f":"G464*8/12+G476*4/12","v":{"v":3.8099999999999996,"d":"3.81"}}]
[1909.06,{"v":9.8,"d":"9.80"},0.42,0.67,{"v":9.419419835,"d":"9.42"},{"v":1909.4583333332985,"d":"1909.46"},{"$f":"G464*7/12+G476*5/12","v":{"v":3.8225,"d":"3.82"}}]
[1909.07,9.94,{"v":0.4233,"d":"0.42"},{"v":0.685,"d":"0.69"},{"v":9.419419835,"d":"9.42"},{"v":1909.5416666666317,"d":"1909.54"},{"$f":"G464*6/12+G476*6/12","v":{"v":3.835,"d":"3.84"}}]
[1909.08,10.18,{"v":0.4267,"d":"0.43"},{"v":0.7,"d":"0.70"},{"v":9.514585124,"d":"9.51"},{"v":1909.624999999965,"d":"1909.62"},{"$f":"G464*5/12+G476*7/12","v":{"v":3.8474999999999997,"d":"3.85"}}]
[1909.09,10.19,0.43,{"v":0.715,"d":"0.72"},{"v":9.609669421,"d":"9.61"},{"v":1909.7083333332982,"d":"1909.71"},{"$f":"G464*4/12+G476*8/12","v":{"v":3.8600000000000003,"d":"3.86"}}]
[{"v":1909.1,"d":"1909.10"},10.23,{"v":0.4333,"d":"0.43"},0.73,{"v":9.8,"d":"9.80"},{"v":1909.7916666666315,"d":"1909.79"},{"$f":"G464*3/12+G476*9/12","v":{"v":3.8724999999999996,"d":"3.87"}}]
[1909.11,10.18,{"v":0.4367,"d":"0.44"},{"v":0.745,"d":"0.75"},{"v":9.895165289,"d":"9.90"},{"v":1909.8749999999648,"d":"1909.87"},{"$f":"G464*2/12+G476*10/12","v":{"v":3.885,"d":"3.89"}}]
[1909.12,{"v":10.3,"d":"10.30"},0.44,0.76,{"v":9.990330579,"d":"9.99"},{"v":1909.958333333298,"d":"1909.96"},{"$f":"G464*1/12+G476*11/12","v":{"v":3.8975000000000004,"d":"3.90"}}]
[1910.01,10.08,{"v":0.4425,"d":"0.44"},{"v":0.7575,"d":"0.76"},{"v":9.895165289,"d":"9.90"},{"v":1910.0416666666313,"d":"1910.04"},3.91]
[1910.02,9.72,{"v":0.445,"d":"0.45"},{"v":0.755,"d":"0.76"},{"v":9.895165289,"d":"9.90"},{"v":1910.1249999999645,"d":"1910.12"},{"$f":"G476*11/12+G488*1/12","v":{"v":3.9158333333333335,"d":"3.92"}}]
[1910.03,9.96,{"v":0.4475,"d":"0.45"},{"v":0.7525,"d":"0.75"},{"v":10.08541488,"d":"10.09"},{"v":1910.2083333332978,"d":"1910.21"},{"$f":"G476*10/12+G488*2/12","v":{"v":3.921666666666667,"d":"3.92"}}]
[1910.04,9.72,0.45,0.75,{"v":10.18058017,"d":"10.18"},{"v":1910.291666666631,"d":"1910.29"},{"$f":"G476*9/12+G488*3/12","v":{"v":3.9274999999999998,"d":"3.93"}}]
[1910.05,9.56,{"v":0.4525,"d":"0.45"},{"v":0.7475,"d":"0.75"},{"v":9.990330579,"d":"9.99"},{"v":1910.3749999999643,"d":"1910.37"},{"$f":"G476*8/12+G488*4/12","v":{"v":3.9333333333333336,"d":"3.93"}}]
[1910.06,{"v":9.1,"d":"9.10"},{"v":0.455,"d":"0.46"},{"v":0.745,"d":"0.75"},{"v":9.895165289,"d":"9.90"},{"v":1910.4583333332976,"d":"1910.46"},{"$f":"G476*7/12+G488*5/12","v":{"v":3.9391666666666665,"d":"3.94"}}]
[1910.07,8.64,{"v":0.4575,"d":"0.46"},{"v":0.7425,"d":"0.74"},{"v":9.895165289,"d":"9.90"},{"v":1910.5416666666308,"d":"1910.54"},{"$f":"G476*6/12+G488*6/12","v":{"v":3.9450000000000003,"d":"3.95"}}]
[1910.08,8.85,0.46,0.74,{"v":9.8,"d":"9.80"},{"v":1910.624999999964,"d":"1910.62"},{"$f":"G476*5/12+G488*7/12","v":{"v":3.9508333333333336,"d":"3.95"}}]
[1910.09,8.91,{"v":0.4625,"d":"0.46"},{"v":0.7375,"d":"0.74"},{"v":9.704834711,"d":"9.70"},{"v":1910.7083333332973,"d":"1910.71"},{"$f":"G476*4/12+G488*8/12","v":{"v":3.956666666666667,"d":"3.96"}}]
[{"v":1910.1,"d":"1910.10"},9.32,{"v":0.465,"d":"0.47"},{"v":0.735,"d":"0.74"},{"v":9.419419835,"d":"9.42"},{"v":1910.7916666666306,"d":"1910.79"},{"$f":"G476*3/12+G488*9/12","v":{"v":3.9625,"d":"3.96"}}]
[1910.11,9.31,{"v":0.4675,"d":"0.47"},{"v":0.7325,"d":"0.73"},{"v":9.229089256,"d":"9.23"},{"v":1910.8749999999638,"d":"1910.87"},{"$f":"G476*2/12+G488*10/12","v":{"v":3.9683333333333333,"d":"3.97"}}]
[1910.12,9.05,0.47,0.73,{"v":9.229089256,"d":"9.23"},{"v":1910.958333333297,"d":"1910.96"},{"$f":"G476*1/12+G488*11/12","v":{"v":3.9741666666666666,"d":"3.97"}}]
[1911.01,9.27,0.47,{"v":0.7183,"d":"0.72"},{"v":9.229089256,"d":"9.23"},{"v":1911.0416666666304,"d":"1911.04"},3.98]
[1911.02,9.43,0.47,{"v":0.7067,"d":"0.71"},{"v":8.94367438,"d":"8.94"},{"v":1911.1249999999636,"d":"1911.12"},{"$f":"G488*11/12+G500*1/12","v":{"v":3.9825,"d":"3.98"}}]
[1911.03,9.32,0.47,{"v":0.695,"d":"0.70"},{"v":9.038839669,"d":"9.04"},{"v":1911.2083333332969,"d":"1911.21"},{"$f":"G488*10/12+G500*2/12","v":{"v":3.985,"d":"3.99"}}]
[1911.04,9.28,0.47,{"v":0.6833,"d":"0.68"},{"v":8.753424793,"d":"8.75"},{"v":1911.2916666666301,"d":"1911.29"},{"$f":"G488*9/12+G500*3/12","v":{"v":3.9875,"d":"3.99"}}]
[1911.05,9.48,0.47,{"v":0.6717,"d":"0.67"},{"v":8.753424793,"d":"8.75"},{"v":1911.3749999999634,"d":"1911.37"},{"$f":"G488*8/12+G500*4/12","v":3.99}]
[1911.06,9.67,0.47,0.66,{"v":8.753424793,"d":"8.75"},{"v":1911.4583333332967,"d":"1911.46"},{"$f":"G488*7/12+G500*5/12","v":{"v":3.9924999999999997,"d":"3.99"}}]
[1911.07,9.63,0.47,{"v":0.6483,"d":"0.65"},{"v":8.848509091,"d":"8.85"},{"v":1911.54166666663,"d":"1911.54"},{"$f":"G488*6/12+G500*6/12","v":{"v":3.995,"d":"4.00"}}]
[1911.08,9.17,0.47,{"v":0.6367,"d":"0.64"},{"v":9.134004959,"d":"9.13"},{"v":1911.6249999999632,"d":"1911.62"},{"$f":"G488*5/12+G500*7/12","v":{"v":3.9975,"d":"4.00"}}]
[1911.09,8.67,0.47,{"v":0.625,"d":"0.63"},{"v":9.229089256,"d":"9.23"},{"v":1911.7083333332964,"d":"1911.71"},{"$f":"G488*4/12+G500*8/12","v":{"v":4,"d":"4.00"}}]
[{"v":1911.1,"d":"1911.10"},8.72,0.47,{"v":0.6133,"d":"0.61"},{"v":9.229089256,"d":"9.23"},{"v":1911.7916666666297,"d":"1911.79"},{"$f":"G488*3/12+G500*9/12","v":{"v":4.0024999999999995,"d":"4.00"}}]
[1911.11,9.07,0.47,{"v":0.6017,"d":"0.60"},{"v":9.134004959,"d":"9.13"},{"v":1911.874999999963,"d":"1911.87"},{"$f":"G488*2/12+G500*10/12","v":{"v":4.005,"d":"4.01"}}]
[1911.12,9.11,0.47,0.59,{"v":9.038839669,"d":"9.04"},{"v":1911.9583333332962,"d":"1911.96"},{"$f":"G488*1/12+G500*11/12","v":{"v":4.0075,"d":"4.01"}}]
[1912.01,9.12,{"v":0.4708,"d":"0.47"},{"v":0.5992,"d":"0.60"},{"v":9.134004959,"d":"9.13"},{"v":1912.0416666666295,"d":"1912.04"},4.01]
[1912.02,9.04,{"v":0.4717,"d":"0.47"},{"v":0.6083,"d":"0.61"},{"v":9.229089256,"d":"9.23"},{"v":1912.1249999999627,"d":"1912.12"},{"$f":"G500*11/12+G512*1/12","v":{"v":4.046666666666667,"d":"4.05"}}]
[1912.03,{"v":9.3,"d":"9.30"},{"v":0.4725,"d":"0.47"},{"v":0.6175,"d":"0.62"},{"v":9.419419835,"d":"9.42"},{"v":1912.208333333296,"d":"1912.21"},{"$f":"G500*10/12+G512*2/12","v":{"v":4.083333333333333,"d":"4.08"}}]
[1912.04,9.59,{"v":0.4733,"d":"0.47"},{"v":0.6267,"d":"0.63"},{"v":9.704834711,"d":"9.70"},{"v":1912.2916666666292,"d":"1912.29"},{"$f":"G500*9/12+G512*3/12","v":4.12}]
[1912.05,9.58,{"v":0.4742,"d":"0.47"},{"v":0.6358,"d":"0.64"},{"v":9.704834711,"d":"9.70"},{"v":1912.3749999999625,"d":"1912.37"},{"$f":"G500*8/12+G512*4/12","v":{"v":4.156666666666666,"d":"4.16"}}]
[1912.06,9.58,{"v":0.475,"d":"0.48"},{"v":0.645,"d":"0.65"},{"v":9.609669421,"d":"9.61"},{"v":1912.4583333332957,"d":"1912.46"},{"$f":"G500*7/12+G512*5/12","v":{"v":4.193333333333333,"d":"4.19"}}]
[1912.07,9.59,{"v":0.4758,"d":"0.48"},{"v":0.6542,"d":"0.65"},{"v":9.609669421,"d":"9.61"},{"v":1912.541666666629,"d":"1912.54"},{"$f":"G500*6/12+G512*6/12","v":4.23}]
[1912.08,9.81,{"v":0.4767,"d":"0.48"},{"v":0.6633,"d":"0.66"},{"v":9.704834711,"d":"9.70"},{"v":1912.6249999999623,"d":"1912.62"},{"$f":"G500*5/12+G512*7/12","v":{"v":4.266666666666667,"d":"4.27"}}]
[1912.09,9.86,{"v":0.4775,"d":"0.48"},{"v":0.6725,"d":"0.67"},{"v":9.8,"d":"9.80"},{"v":1912.7083333332955,"d":"1912.71"},{"$f":"G500*4/12+G512*8/12","v":{"v":4.303333333333334,"d":"4.30"}}]
[{"v":1912.1,"d":"1912.10"},9.84,{"v":0.4783,"d":"0.48"},{"v":0.6817,"d":"0.68"},{"v":9.8,"d":"9.80"},{"v":1912.7916666666288,"d":"1912.79"},{"$f":"G500*3/12+G512*9/12","v":4.34}]
[1912.11,9.73,{"v":0.4792,"d":"0.48"},{"v":0.6908,"d":"0.69"},{"v":9.8,"d":"9.80"},{"v":1912.874999999962,"d":"1912.87"},{"$f":"G500*2/12+G512*10/12","v":{"v":4.376666666666667,"d":"4.38"}}]
[1912.12,9.38,0.48,{"v":0.7,"d":"0.70"},{"v":9.704834711,"d":"9.70"},{"v":1912.9583333332953,"d":"1912.96"},{"$f":"G500*1/12+G512*11/12","v":{"v":4.413333333333333,"d":"4.41"}}]
[1913.01,{"v":9.3,"d":"9.30"},0.48,{"v":0.6942,"d":"0.69"},{"v":9.8,"d":"9.80"},{"v":1913.0416666666285,"d":"1913.04"},4.45]
[1913.02,8.97,0.48,{"v":0.6883,"d":"0.69"},{"v":9.8,"d":"9.80"},{"v":1913.1249999999618,"d":"1913.12"},{"$f":"G512*11/12+G524*1/12","v":{"v":4.425833333333333,"d":"4.43"}}]
[1913.03,{"v":8.8,"d":"8.80"},0.48,{"v":0.6825,"d":"0.68"},{"v":9.8,"d":"9.80"},{"v":1913.208333333295,"d":"1913.21"},{"$f":"G512*10/12+G524*2/12","v":{"v":4.401666666666667,"d":"4.40"}}]
[1913.04,8.79,0.48,{"v":0.6767,"d":"0.68"},{"v":9.8,"d":"9.80"},{"v":1913.2916666666283,"d":"1913.29"},{"$f":"G512*9/12+G524*3/12","v":{"v":4.3775,"d":"4.38"}}]
[1913.05,8.55,0.48,{"v":0.6708,"d":"0.67"},{"v":9.7,"d":"9.70"},{"v":1913.3749999999616,"d":"1913.37"},{"$f":"G512*8/12+G524*4/12","v":{"v":4.3533333333333335,"d":"4.35"}}]
[1913.06,8.12,0.48,{"v":0.665,"d":"0.67"},{"v":9.8,"d":"9.80"},{"v":1913.4583333332948,"d":"1913.46"},{"$f":"G512*7/12+G524*5/12","v":{"v":4.3291666666666675,"d":"4.33"}}]
[1913.07,8.23,0.48,{"v":0.6592,"d":"0.66"},{"v":9.9,"d":"9.90"},{"v":1913.541666666628,"d":"1913.54"},{"$f":"G512*6/12+G524*6/12","v":{"v":4.305,"d":"4.31"}}]
[1913.08,8.45,0.48,{"v":0.6533,"d":"0.65"},{"v":9.9,"d":"9.90"},{"v":1913.6249999999613,"d":"1913.62"},{"$f":"G512*5/12+G524*7/12","v":{"v":4.280833333333334,"d":"4.28"}}]
[1913.09,8.53,0.48,{"v":0.6475,"d":"0.65"},{"v":10,"d":"10.00"},{"v":1913.7083333332946,"d":"1913.71"},{"$f":"G512*4/12+G524*8/12","v":{"v":4.256666666666667,"d":"4.26"}}]
[{"v":1913.1,"d":"1913.10"},8.26,0.48,{"v":0.6417,"d":"0.64"},{"v":10,"d":"10.00"},{"$f":"F520+1/12","v":{"v":1913.7916666666279,"d":"1913.79"}},{"$f":"G512*3/12+G524*9/12","v":{"v":4.2325,"d":"4.23"}}]
[1913.11,8.05,0.48,{"v":0.6358,"d":"0.64"},{"v":10.1,"d":"10.10"},{"v":1913.8749999999611,"d":"1913.87"},{"$f":"G512*2/12+G524*10/12","v":{"v":4.208333333333334,"d":"4.21"}}]
[1913.12,8.04,0.48,0.63,{"v":10,"d":"10.00"},{"v":1913.9583333332944,"d":"1913.96"},{"$f":"G512*1/12+G524*11/12","v":{"v":4.184166666666667,"d":"4.18"}}]
[1914.01,8.37,{"v":0.475,"d":"0.48"},{"v":0.6208,"d":"0.62"},{"v":10,"d":"10.00"},{"v":1914.0416666666276,"d":"1914.04"},4.16]
[1914.02,8.48,0.47,{"v":0.6117,"d":"0.61"},{"v":9.9,"d":"9.90"},{"v":1914.124999999961,"d":"1914.12"},{"$f":"G524*11/12+G536*1/12","v":{"v":4.166666666666667,"d":"4.17"}}]
[1914.03,8.32,{"v":0.465,"d":"0.47"},{"v":0.6025,"d":"0.60"},{"v":9.9,"d":"9.90"},{"v":1914.2083333332941,"d":"1914.21"},{"$f":"G524*10/12+G536*2/12","v":{"v":4.173333333333334,"d":"4.17"}}]
[1914.04,8.12,0.46,{"v":0.5933,"d":"0.59"},{"v":9.8,"d":"9.80"},{"v":1914.2916666666274,"d":"1914.29"},{"$f":"G524*9/12+G536*3/12","v":4.18}]
[1914.05,8.17,{"v":0.455,"d":"0.46"},{"v":0.5842,"d":"0.58"},{"v":9.9,"d":"9.90"},{"v":1914.3749999999607,"d":"1914.37"},{"$f":"G524*8/12+G536*4/12","v":{"v":4.1866666666666665,"d":"4.19"}}]
[1914.06,8.13,0.45,{"v":0.575,"d":"0.58"},{"v":9.9,"d":"9.90"},{"v":1914.458333333294,"d":"1914.46"},{"$f":"G524*7/12+G536*5/12","v":{"v":4.193333333333333,"d":"4.19"}}]
[1914.07,7.68,{"v":0.445,"d":"0.45"},{"v":0.5658,"d":"0.57"},{"v":10,"d":"10.00"},{"v":1914.5416666666272,"d":"1914.54"},{"$f":"G524*6/12+G536*6/12","v":{"v":4.2,"d":"4.20"}}]
[1914.08,7.68,0.44,{"v":0.5567,"d":"0.56"},{"v":10.2,"d":"10.20"},{"v":1914.6249999999604,"d":"1914.62"},{"$f":"G524*5/12+G536*7/12","v":{"v":4.206666666666667,"d":"4.21"}}]
[1914.09,7.68,{"v":0.435,"d":"0.44"},{"v":0.5475,"d":"0.55"},{"v":10.2,"d":"10.20"},{"v":1914.7083333332937,"d":"1914.71"},{"$f":"G524*4/12+G536*8/12","v":{"v":4.213333333333333,"d":"4.21"}}]
[{"v":1914.1,"d":"1914.10"},7.68,0.43,{"v":0.5383,"d":"0.54"},{"v":10.1,"d":"10.10"},{"v":1914.791666666627,"d":"1914.79"},{"$f":"G524*3/12+G536*9/12","v":{"v":4.220000000000001,"d":"4.22"}}]
[1914.11,7.68,{"v":0.425,"d":"0.43"},{"v":0.5292,"d":"0.53"},{"v":10.2,"d":"10.20"},{"v":1914.8749999999602,"d":"1914.87"},{"$f":"G524*2/12+G536*10/12","v":{"v":4.226666666666667,"d":"4.23"}}]
[1914.12,7.35,0.42,0.52,{"v":10.1,"d":"10.10"},{"v":1914.9583333332935,"d":"1914.96"},{"$f":"G524*1/12+G536*11/12","v":{"v":4.233333333333333,"d":"4.23"}}]
[1915.01,7.48,{"v":0.4208,"d":"0.42"},0.55,{"v":10.1,"d":"10.10"},{"v":1915.0416666666267,"d":"1915.04"},4.24]
[1915.02,7.38,{"v":0.4217,"d":"0.42"},0.58,{"v":10,"d":"10.00"},{"v":1915.12499999996,"d":"1915.12"},{"$f":"G536*11/12+G548*1/12","v":{"v":4.224166666666667,"d":"4.22"}}]
[1915.03,7.57,{"v":0.4225,"d":"0.42"},0.61,{"v":9.9,"d":"9.90"},{"v":1915.2083333332932,"d":"1915.21"},{"$f":"G536*10/12+G548*2/12","v":{"v":4.208333333333334,"d":"4.21"}}]
[1915.04,8.14,{"v":0.4233,"d":"0.42"},0.64,{"v":10,"d":"10.00"},{"v":1915.2916666666265,"d":"1915.29"},{"$f":"G536*9/12+G548*3/12","v":{"v":4.1925,"d":"4.19"}}]
[1915.05,7.95,{"v":0.4242,"d":"0.42"},0.67,{"v":10.1,"d":"10.10"},{"v":1915.3749999999598,"d":"1915.37"},{"$f":"G536*8/12+G548*4/12","v":{"v":4.176666666666667,"d":"4.18"}}]
[1915.06,8.04,{"v":0.425,"d":"0.43"},{"v":0.7,"d":"0.70"},{"v":10.1,"d":"10.10"},{"v":1915.458333333293,"d":"1915.46"},{"$f":"G536*7/12+G548*5/12","v":{"v":4.160833333333333,"d":"4.16"}}]
[1915.07,8.01,{"v":0.4258,"d":"0.43"},0.73,{"v":10.1,"d":"10.10"},{"v":1915.5416666666263,"d":"1915.54"},{"$f":"G536*6/12+G548*6/12","v":{"v":4.145,"d":"4.15"}}]
[1915.08,8.35,{"v":0.4267,"d":"0.43"},0.76,{"v":10.1,"d":"10.10"},{"v":1915.6249999999595,"d":"1915.62"},{"$f":"G536*5/12+G548*7/12","v":{"v":4.129166666666666,"d":"4.13"}}]
[1915.09,8.66,{"v":0.4275,"d":"0.43"},0.79,{"v":10.1,"d":"10.10"},{"v":1915.7083333332928,"d":"1915.71"},{"$f":"G536*4/12+G548*8/12","v":{"v":4.113333333333333,"d":"4.11"}}]
[{"v":1915.1,"d":"1915.10"},9.14,{"v":0.4283,"d":"0.43"},0.82,{"v":10.2,"d":"10.20"},{"v":1915.791666666626,"d":"1915.79"},{"$f":"G536*3/12+G548*9/12","v":{"v":4.0975,"d":"4.10"}}]
[1915.11,9.46,{"v":0.4292,"d":"0.43"},0.85,{"v":10.3,"d":"10.30"},{"v":1915.8749999999593,"d":"1915.87"},{"$f":"G536*2/12+G548*10/12","v":{"v":4.081666666666667,"d":"4.08"}}]
[1915.12,9.48,0.43,0.88,{"v":10.3,"d":"10.30"},{"v":1915.9583333332926,"d":"1915.96"},{"$f":"G536*1/12+G548*11/12","v":{"v":4.065833333333333,"d":"4.07"}}]
[1916.01,9.33,{"v":0.4408,"d":"0.44"},{"v":0.9342,"d":"0.93"},{"v":10.4,"d":"10.40"},{"v":1916.0416666666258,"d":"1916.04"},4.05]
[1916.02,{"v":9.2,"d":"9.20"},{"v":0.4517,"d":"0.45"},{"v":0.9883,"d":"0.99"},{"v":10.4,"d":"10.40"},{"v":1916.124999999959,"d":"1916.12"},{"$f":"G548*11/12+G560*1/12","v":{"v":4.0649999999999995,"d":"4.07"}}]
[1916.03,9.17,{"v":0.4625,"d":"0.46"},{"v":1.042,"d":"1.04"},{"v":10.5,"d":"10.50"},{"v":1916.2083333332923,"d":"1916.21"},{"$f":"G548*10/12+G560*2/12","v":4.08}]
[1916.04,9.07,{"v":0.4733,"d":"0.47"},{"v":1.097,"d":"1.10"},{"v":10.6,"d":"10.60"},{"v":1916.2916666666256,"d":"1916.29"},{"$f":"G548*9/12+G560*3/12","v":{"v":4.095,"d":"4.10"}}]
[1916.05,9.27,{"v":0.4842,"d":"0.48"},{"v":1.151,"d":"1.15"},{"v":10.7,"d":"10.70"},{"v":1916.3749999999588,"d":"1916.37"},{"$f":"G548*8/12+G560*4/12","v":{"v":4.109999999999999,"d":"4.11"}}]
[1916.06,9.36,{"v":0.495,"d":"0.50"},{"v":1.205,"d":"1.21"},{"v":10.8,"d":"10.80"},{"v":1916.458333333292,"d":"1916.46"},{"$f":"G548*7/12+G560*5/12","v":{"v":4.125,"d":"4.13"}}]
[1916.07,9.23,{"v":0.5058,"d":"0.51"},{"v":1.259,"d":"1.26"},{"v":10.8,"d":"10.80"},{"v":1916.5416666666254,"d":"1916.54"},{"$f":"G548*6/12+G560*6/12","v":{"v":4.140000000000001,"d":"4.14"}}]
[1916.08,{"v":9.3,"d":"9.30"},{"v":0.5167,"d":"0.52"},{"v":1.313,"d":"1.31"},{"v":10.9,"d":"10.90"},{"v":1916.6249999999586,"d":"1916.62"},{"$f":"G548*5/12+G560*7/12","v":{"v":4.155,"d":"4.16"}}]
[1916.09,9.68,{"v":0.5275,"d":"0.53"},{"v":1.368,"d":"1.37"},{"v":11.1,"d":"11.10"},{"v":1916.7083333332919,"d":"1916.71"},{"$f":"G548*4/12+G560*8/12","v":4.17}]
[{"v":1916.1,"d":"1916.10"},9.98,{"v":0.5383,"d":"0.54"},{"v":1.422,"d":"1.42"},{"v":11.3,"d":"11.30"},{"v":1916.7916666666251,"d":"1916.79"},{"$f":"G548*3/12+G560*9/12","v":{"v":4.1850000000000005,"d":"4.19"}}]
[1916.11,10.21,{"v":0.5492,"d":"0.55"},{"v":1.476,"d":"1.48"},{"v":11.5,"d":"11.50"},{"v":1916.8749999999584,"d":"1916.87"},{"$f":"G548*2/12+G560*10/12","v":{"v":4.2,"d":"4.20"}}]
[1916.12,{"v":9.8,"d":"9.80"},0.56,1.53,{"v":11.6,"d":"11.60"},{"v":1916.9583333332916,"d":"1916.96"},{"$f":"G548*1/12+G560*11/12","v":{"v":4.215,"d":"4.22"}}]
[1917.01,9.57,{"v":0.5708,"d":"0.57"},{"v":1.509,"d":"1.51"},{"v":11.7,"d":"11.70"},{"v":1917.041666666625,"d":"1917.04"},4.23]
[1917.02,9.03,{"v":0.5817,"d":"0.58"},{"v":1.488,"d":"1.49"},{"v":12,"d":"12.00"},{"v":1917.1249999999582,"d":"1917.12"},{"$f":"G560*11/12+G572*1/12","v":{"v":4.258333333333333,"d":"4.26"}}]
[1917.03,9.31,{"v":0.5925,"d":"0.59"},{"v":1.468,"d":"1.47"},{"v":12,"d":"12.00"},{"v":1917.2083333332914,"d":"1917.21"},{"$f":"G560*10/12+G572*2/12","v":{"v":4.286666666666667,"d":"4.29"}}]
[1917.04,9.17,{"v":0.6033,"d":"0.60"},{"v":1.447,"d":"1.45"},{"v":12.6,"d":"12.60"},{"v":1917.2916666666247,"d":"1917.29"},{"$f":"G560*9/12+G572*3/12","v":{"v":4.315000000000001,"d":"4.32"}}]
[1917.05,8.86,{"v":0.6142,"d":"0.61"},{"v":1.426,"d":"1.43"},{"v":12.8,"d":"12.80"},{"v":1917.374999999958,"d":"1917.37"},{"$f":"G560*8/12+G572*4/12","v":{"v":4.343333333333334,"d":"4.34"}}]
[1917.06,9.04,{"v":0.625,"d":"0.63"},{"v":1.405,"d":"1.41"},{"v":13,"d":"13.00"},{"v":1917.4583333332912,"d":"1917.46"},{"$f":"G560*7/12+G572*5/12","v":{"v":4.371666666666667,"d":"4.37"}}]
[1917.07,8.79,{"v":0.6358,"d":"0.64"},{"v":1.384,"d":"1.38"},{"v":12.8,"d":"12.80"},{"v":1917.5416666666245,"d":"1917.54"},{"$f":"G560*6/12+G572*6/12","v":{"v":4.4,"d":"4.40"}}]
[1917.08,8.53,{"v":0.6467,"d":"0.65"},{"v":1.363,"d":"1.36"},{"v":13,"d":"13.00"},{"v":1917.6249999999577,"d":"1917.62"},{"$f":"G560*5/12+G572*7/12","v":{"v":4.428333333333334,"d":"4.43"}}]
[1917.09,8.12,{"v":0.6575,"d":"0.66"},{"v":1.343,"d":"1.34"},{"v":13.3,"d":"13.30"},{"v":1917.708333333291,"d":"1917.71"},{"$f":"G560*4/12+G572*8/12","v":{"v":4.456666666666667,"d":"4.46"}}]
[{"v":1917.1,"d":"1917.10"},7.68,{"v":0.6683,"d":"0.67"},{"v":1.322,"d":"1.32"},{"v":13.5,"d":"13.50"},{"v":1917.7916666666242,"d":"1917.79"},{"$f":"G560*3/12+G572*9/12","v":{"v":4.485,"d":"4.49"}}]
[1917.11,7.04,{"v":0.6792,"d":"0.68"},{"v":1.301,"d":"1.30"},{"v":13.5,"d":"13.50"},{"v":1917.8749999999575,"d":"1917.87"},{"$f":"G560*2/12+G572*10/12","v":{"v":4.513333333333334,"d":"4.51"}}]
[1917.12,{"v":6.8,"d":"6.80"},0.69,1.28,{"v":13.7,"d":"13.70"},{"v":1917.9583333332907,"d":"1917.96"},{"$f":"G560*1/12+G572*11/12","v":{"v":4.541666666666667,"d":"4.54"}}]
[1918.01,7.21,0.68,{"v":1.256,"d":"1.26"},{"v":14,"d":"14.00"},{"v":1918.041666666624,"d":"1918.04"},4.57]
[1918.02,7.43,0.67,{"v":1.232,"d":"1.23"},{"v":14.1,"d":"14.10"},{"v":1918.1249999999573,"d":"1918.12"},{"$f":"G572*11/12+G584*1/12","v":{"v":4.564166666666667,"d":"4.56"}}]
[1918.03,7.28,0.66,{"v":1.208,"d":"1.21"},{"v":14,"d":"14.00"},{"v":1918.2083333332905,"d":"1918.21"},{"$f":"G572*10/12+G584*2/12","v":{"v":4.558333333333334,"d":"4.56"}}]
[1918.04,7.21,0.65,{"v":1.183,"d":"1.18"},{"v":14.2,"d":"14.20"},{"v":1918.2916666666238,"d":"1918.29"},{"$f":"G572*9/12+G584*3/12","v":{"v":4.5525,"d":"4.55"}}]
[1918.05,7.44,0.64,{"v":1.159,"d":"1.16"},{"v":14.5,"d":"14.50"},{"v":1918.374999999957,"d":"1918.37"},{"$f":"G572*8/12+G584*4/12","v":{"v":4.546666666666667,"d":"4.55"}}]
[1918.06,7.45,0.63,{"v":1.135,"d":"1.14"},{"v":14.7,"d":"14.70"},{"v":1918.4583333332903,"d":"1918.46"},{"$f":"G572*7/12+G584*5/12","v":{"v":4.5408333333333335,"d":"4.54"}}]
[1918.07,7.51,0.62,{"v":1.111,"d":"1.11"},{"v":15.1,"d":"15.10"},{"v":1918.5416666666235,"d":"1918.54"},{"$f":"G572*6/12+G584*6/12","v":{"v":4.535,"d":"4.54"}}]
[1918.08,7.58,0.61,{"v":1.087,"d":"1.09"},{"v":15.4,"d":"15.40"},{"v":1918.6249999999568,"d":"1918.62"},{"$f":"G572*5/12+G584*7/12","v":{"v":4.529166666666667,"d":"4.53"}}]
[1918.09,7.54,{"v":0.6,"d":"0.60"},{"v":1.063,"d":"1.06"},{"v":15.7,"d":"15.70"},{"v":1918.70833333329,"d":"1918.71"},{"$f":"G572*4/12+G584*8/12","v":{"v":4.523333333333333,"d":"4.52"}}]
[{"v":1918.1,"d":"1918.10"},7.86,0.59,{"v":1.038,"d":"1.04"},{"v":16,"d":"16.00"},{"v":1918.7916666666233,"d":"1918.79"},{"$f":"G572*3/12+G584*9/12","v":{"v":4.5175,"d":"4.52"}}]
[1918.11,8.06,0.58,{"v":1.014,"d":"1.01"},{"v":16.3,"d":"16.30"},{"v":1918.8749999999566,"d":"1918.87"},{"$f":"G572*2/12+G584*10/12","v":{"v":4.511666666666667,"d":"4.51"}}]
[1918.12,{"v":7.9,"d":"7.90"},0.57,0.99,{"v":16.5,"d":"16.50"},{"v":1918.9583333332898,"d":"1918.96"},{"$f":"G572*1/12+G584*11/12","v":{"v":4.505833333333333,"d":"4.51"}}]
[1919.01,7.85,{"v":0.5667,"d":"0.57"},{"v":0.985,"d":"0.99"},{"v":16.5,"d":"16.50"},{"v":1919.041666666623,"d":"1919.04"},{"v":4.5,"d":"4.50"}]
[1919.02,7.88,{"v":0.5633,"d":"0.56"},0.98,{"v":16.2,"d":"16.20"},{"$f":"F584+1/12","v":{"v":1919.1249999999563,"d":"1919.12"}},{"$f":"G584*11/12+G596*1/12","v":{"v":4.539166666666667,"d":"4.54"}}]
[1919.03,8.12,0.56,{"v":0.975,"d":"0.98"},{"v":16.4,"d":"16.40"},{"v":1919.2083333332896,"d":"1919.21"},{"$f":"G584*10/12+G596*2/12","v":{"v":4.578333333333333,"d":"4.58"}}]
[1919.04,8.39,{"v":0.5567,"d":"0.56"},0.97,{"v":16.7,"d":"16.70"},{"v":1919.2916666666229,"d":"1919.29"},{"$f":"G584*9/12+G596*3/12","v":{"v":4.6175,"d":"4.62"}}]
[1919.05,8.97,{"v":0.5533,"d":"0.55"},{"v":0.965,"d":"0.97"},{"v":16.9,"d":"16.90"},{"v":1919.3749999999561,"d":"1919.37"},{"$f":"G584*8/12+G596*4/12","v":{"v":4.656666666666666,"d":"4.66"}}]
[1919.06,9.21,0.55,0.96,{"v":16.9,"d":"16.90"},{"v":1919.4583333332894,"d":"1919.46"},{"$f":"G584*7/12+G596*5/12","v":{"v":4.695833333333333,"d":"4.70"}}]
[1919.07,9.51,{"v":0.5467,"d":"0.55"},{"v":0.955,"d":"0.96"},{"v":17.4,"d":"17.40"},{"v":1919.5416666666226,"d":"1919.54"},{"$f":"G584*6/12+G596*6/12","v":{"v":4.734999999999999,"d":"4.74"}}]
[1919.08,8.87,{"v":0.5433,"d":"0.54"},0.95,{"v":17.7,"d":"17.70"},{"v":1919.624999999956,"d":"1919.62"},{"$f":"G584*5/12+G596*7/12","v":{"v":4.774166666666666,"d":"4.77"}}]
[1919.09,9.01,0.54,{"v":0.945,"d":"0.95"},{"v":17.8,"d":"17.80"},{"v":1919.7083333332891,"d":"1919.71"},{"$f":"G584*4/12+G596*8/12","v":{"v":4.813333333333333,"d":"4.81"}}]
[{"v":1919.1,"d":"1919.10"},9.47,{"v":0.5367,"d":"0.54"},0.94,{"v":18.1,"d":"18.10"},{"v":1919.7916666666224,"d":"1919.79"},{"$f":"G584*3/12+G596*9/12","v":{"v":4.852499999999999,"d":"4.85"}}]
[1919.11,9.19,{"v":0.5333,"d":"0.53"},{"v":0.935,"d":"0.94"},{"v":18.5,"d":"18.50"},{"v":1919.8749999999557,"d":"1919.87"},{"$f":"G584*2/12+G596*10/12","v":{"v":4.891666666666667,"d":"4.89"}}]
[1919.12,8.92,0.53,0.93,{"v":18.9,"d":"18.90"},{"v":1919.958333333289,"d":"1919.96"},{"$f":"G584*1/12+G596*11/12","v":{"v":4.930833333333333,"d":"4.93"}}]
[1920.01,8.83,{"v":0.5283,"d":"0.53"},{"v":0.9192,"d":"0.92"},{"v":19.3,"d":"19.30"},{"v":1920.0416666666222,"d":"1920.04"},4.97]
[1920.02,{"v":8.1,"d":"8.10"},{"v":0.5267,"d":"0.53"},{"v":0.9083,"d":"0.91"},{"v":19.5,"d":"19.50"},{"v":1920.1249999999554,"d":"1920.12"},{"$f":"G596*11/12+G608*1/12","v":{"v":4.9799999999999995,"d":"4.98"}}]
[1920.03,8.67,{"v":0.525,"d":"0.53"},{"v":0.8975,"d":"0.90"},{"v":19.7,"d":"19.70"},{"v":1920.2083333332887,"d":"1920.21"},{"$f":"G596*10/12+G608*2/12","v":4.99}]
[1920.04,{"v":8.6,"d":"8.60"},{"v":0.5233,"d":"0.52"},{"v":0.8867,"d":"0.89"},{"v":20.3,"d":"20.30"},{"v":1920.291666666622,"d":"1920.29"},{"$f":"G596*9/12+G608*3/12","v":{"v":5,"d":"5.00"}}]
[1920.05,8.06,{"v":0.5217,"d":"0.52"},{"v":0.8758,"d":"0.88"},{"v":20.6,"d":"20.60"},{"v":1920.3749999999552,"d":"1920.37"},{"$f":"G596*8/12+G608*4/12","v":5.01}]
[1920.06,7.92,0.52,{"v":0.865,"d":"0.87"},{"v":20.9,"d":"20.90"},{"v":1920.4583333332885,"d":"1920.46"},{"$f":"G596*7/12+G608*5/12","v":5.02}]
[1920.07,7.91,{"v":0.5183,"d":"0.52"},{"v":0.8542,"d":"0.85"},{"v":20.8,"d":"20.80"},{"v":1920.5416666666217,"d":"1920.54"},{"$f":"G596*6/12+G608*6/12","v":{"v":5.029999999999999,"d":"5.03"}}]
[1920.08,{"v":7.6,"d":"7.60"},{"v":0.5167,"d":"0.52"},{"v":0.8433,"d":"0.84"},{"v":20.3,"d":"20.30"},{"v":1920.624999999955,"d":"1920.62"},{"$f":"G596*5/12+G608*7/12","v":{"v":5.039999999999999,"d":"5.04"}}]
[1920.09,7.87,{"v":0.515,"d":"0.52"},{"v":0.8325,"d":"0.83"},{"v":20,"d":"20.00"},{"v":1920.7083333332882,"d":"1920.71"},{"$f":"G596*4/12+G608*8/12","v":5.05}]
[{"v":1920.1,"d":"1920.10"},7.88,{"v":0.5133,"d":"0.51"},{"v":0.8217,"d":"0.82"},{"v":19.9,"d":"19.90"},{"v":1920.7916666666215,"d":"1920.79"},{"$f":"G596*3/12+G608*9/12","v":{"v":5.0600000000000005,"d":"5.06"}}]
[1920.11,7.48,{"v":0.5117,"d":"0.51"},{"v":0.8108,"d":"0.81"},{"v":19.8,"d":"19.80"},{"v":1920.8749999999548,"d":"1920.87"},{"$f":"G596*2/12+G608*10/12","v":{"v":5.069999999999999,"d":"5.07"}}]
[1920.12,6.81,0.51,{"v":0.8,"d":"0.80"},{"v":19.4,"d":"19.40"},{"v":1920.958333333288,"d":"1920.96"},{"$f":"G596*1/12+G608*11/12","v":{"v":5.079999999999999,"d":"5.08"}}]
[1921.01,7.11,{"v":0.5058,"d":"0.51"},{"v":0.7575,"d":"0.76"},{"v":19,"d":"19.00"},{"v":1921.0416666666213,"d":"1921.04"},5.09]
[1921.02,7.06,{"v":0.5017,"d":"0.50"},{"v":0.715,"d":"0.72"},{"v":18.4,"d":"18.40"},{"v":1921.1249999999545,"d":"1921.12"},{"$f":"G608*11/12+G620*1/12","v":{"v":5.024166666666666,"d":"5.02"}}]
[1921.03,6.88,{"v":0.4975,"d":"0.50"},{"v":0.6725,"d":"0.67"},{"v":18.3,"d":"18.30"},{"v":1921.2083333332878,"d":"1921.21"},{"$f":"G608*10/12+G620*2/12","v":{"v":4.958333333333333,"d":"4.96"}}]
[1921.04,6.91,{"v":0.4933,"d":"0.49"},0.63,{"v":18.1,"d":"18.10"},{"v":1921.291666666621,"d":"1921.29"},{"$f":"G608*9/12+G620*3/12","v":{"v":4.8925,"d":"4.89"}}]
[1921.05,7.12,{"v":0.4892,"d":"0.49"},{"v":0.5875,"d":"0.59"},{"v":17.7,"d":"17.70"},{"v":1921.3749999999543,"d":"1921.37"},{"$f":"G608*8/12+G620*4/12","v":{"v":4.826666666666666,"d":"4.83"}}]
[1921.06,6.55,{"v":0.485,"d":"0.49"},{"v":0.545,"d":"0.55"},{"v":17.6,"d":"17.60"},{"v":1921.4583333332876,"d":"1921.46"},{"$f":"G608*7/12+G620*5/12","v":{"v":4.760833333333333,"d":"4.76"}}]
[1921.07,6.53,{"v":0.4808,"d":"0.48"},{"v":0.5025,"d":"0.50"},{"v":17.7,"d":"17.70"},{"v":1921.5416666666208,"d":"1921.54"},{"$f":"G608*6/12+G620*6/12","v":{"v":4.695,"d":"4.70"}}]
[1921.08,6.45,{"v":0.4767,"d":"0.48"},0.46,{"v":17.7,"d":"17.70"},{"v":1921.624999999954,"d":"1921.62"},{"$f":"G608*5/12+G620*7/12","v":{"v":4.629166666666666,"d":"4.63"}}]
[1921.09,6.61,{"v":0.4725,"d":"0.47"},{"v":0.4175,"d":"0.42"},{"v":17.5,"d":"17.50"},{"v":1921.7083333332873,"d":"1921.71"},{"$f":"G608*4/12+G620*8/12","v":{"v":4.5633333333333335,"d":"4.56"}}]
[{"v":1921.1,"d":"1921.10"},{"v":6.7,"d":"6.70"},{"v":0.4683,"d":"0.47"},{"v":0.375,"d":"0.38"},{"v":17.5,"d":"17.50"},{"v":1921.7916666666206,"d":"1921.79"},{"$f":"G608*3/12+G620*9/12","v":{"v":4.4975,"d":"4.50"}}]
[1921.11,7.06,{"v":0.4642,"d":"0.46"},{"v":0.3325,"d":"0.33"},{"v":17.4,"d":"17.40"},{"v":1921.8749999999538,"d":"1921.87"},{"$f":"G608*2/12+G620*10/12","v":{"v":4.431666666666667,"d":"4.43"}}]
[1921.12,7.31,0.46,0.29,{"v":17.3,"d":"17.30"},{"v":1921.958333333287,"d":"1921.96"},{"$f":"G608*1/12+G620*11/12","v":{"v":4.365833333333333,"d":"4.37"}}]
[1922.01,{"v":7.3,"d":"7.30"},{"v":0.4642,"d":"0.46"},{"v":0.3233,"d":"0.32"},{"v":16.9,"d":"16.90"},{"v":1922.0416666666204,"d":"1922.04"},{"v":4.3,"d":"4.30"}]
[1922.02,7.46,{"v":0.4683,"d":"0.47"},{"v":0.3567,"d":"0.36"},{"v":16.9,"d":"16.90"},{"v":1922.1249999999536,"d":"1922.12"},{"$f":"G620*11/12+G632*1/12","v":{"v":4.305,"d":"4.31"}}]
[1922.03,7.74,{"v":0.4725,"d":"0.47"},0.39,{"v":16.7,"d":"16.70"},{"v":1922.2083333332869,"d":"1922.21"},{"$f":"G620*10/12+G632*2/12","v":{"v":4.3100000000000005,"d":"4.31"}}]
[1922.04,8.21,{"v":0.4767,"d":"0.48"},{"v":0.4233,"d":"0.42"},{"v":16.7,"d":"16.70"},{"v":1922.2916666666201,"d":"1922.29"},{"$f":"G620*9/12+G632*3/12","v":{"v":4.3149999999999995,"d":"4.32"}}]
[1922.05,8.53,{"v":0.4808,"d":"0.48"},{"v":0.4567,"d":"0.46"},{"v":16.7,"d":"16.70"},{"v":1922.3749999999534,"d":"1922.37"},{"$f":"G620*8/12+G632*4/12","v":4.32}]
[1922.06,8.45,{"v":0.485,"d":"0.49"},0.49,{"v":16.7,"d":"16.70"},{"v":1922.4583333332866,"d":"1922.46"},{"$f":"G620*7/12+G632*5/12","v":{"v":4.325,"d":"4.33"}}]
[1922.07,8.51,{"v":0.4892,"d":"0.49"},{"v":0.5233,"d":"0.52"},{"v":16.8,"d":"16.80"},{"v":1922.54166666662,"d":"1922.54"},{"$f":"G620*6/12+G632*6/12","v":4.33}]
[1922.08,8.83,{"v":0.4933,"d":"0.49"},{"v":0.5567,"d":"0.56"},{"v":16.6,"d":"16.60"},{"v":1922.6249999999532,"d":"1922.62"},{"$f":"G620*5/12+G632*7/12","v":{"v":4.335,"d":"4.34"}}]
[1922.09,9.06,{"v":0.4975,"d":"0.50"},0.59,{"v":16.6,"d":"16.60"},{"v":1922.7083333332864,"d":"1922.71"},{"$f":"G620*4/12+G632*8/12","v":4.34}]
[{"v":1922.1,"d":"1922.10"},9.26,{"v":0.5017,"d":"0.50"},{"v":0.6233,"d":"0.62"},{"v":16.7,"d":"16.70"},{"v":1922.7916666666197,"d":"1922.79"},{"$f":"G620*3/12+G632*9/12","v":{"v":4.345,"d":"4.35"}}]
[1922.11,{"v":8.8,"d":"8.80"},{"v":0.5058,"d":"0.51"},{"v":0.6567,"d":"0.66"},{"v":16.8,"d":"16.80"},{"v":1922.874999999953,"d":"1922.87"},{"$f":"G620*2/12+G632*10/12","v":4.35}]
[1922.12,8.78,0.51,0.69,{"v":16.9,"d":"16.90"},{"v":1922.9583333332862,"d":"1922.96"},{"$f":"G620*1/12+G632*11/12","v":{"v":4.3549999999999995,"d":"4.36"}}]
[1923.01,{"v":8.9,"d":"8.90"},{"v":0.5117,"d":"0.51"},{"v":0.7142,"d":"0.71"},{"v":16.8,"d":"16.80"},{"v":1923.0416666666194,"d":"1923.04"},4.36]
[1923.02,9.28,{"v":0.5133,"d":"0.51"},{"v":0.7383,"d":"0.74"},{"v":16.8,"d":"16.80"},{"v":1923.1249999999527,"d":"1923.12"},{"$f":"G632*11/12+G644*1/12","v":{"v":4.335,"d":"4.34"}}]
[1923.03,9.43,{"v":0.515,"d":"0.52"},{"v":0.7625,"d":"0.76"},{"v":16.8,"d":"16.80"},{"v":1923.208333333286,"d":"1923.21"},{"$f":"G632*10/12+G644*2/12","v":4.31}]
[1923.04,{"v":9.1,"d":"9.10"},{"v":0.5167,"d":"0.52"},{"v":0.7867,"d":"0.79"},{"v":16.9,"d":"16.90"},{"v":1923.2916666666192,"d":"1923.29"},{"$f":"G632*9/12+G644*3/12","v":{"v":4.285,"d":"4.29"}}]
[1923.05,8.67,{"v":0.5183,"d":"0.52"},{"v":0.8108,"d":"0.81"},{"v":16.9,"d":"16.90"},{"v":1923.3749999999525,"d":"1923.37"},{"$f":"G632*8/12+G644*4/12","v":4.26}]
[1923.06,8.34,0.52,{"v":0.835,"d":"0.84"},{"v":17,"d":"17.00"},{"v":1923.4583333332857,"d":"1923.46"},{"$f":"G632*7/12+G644*5/12","v":{"v":4.234999999999999,"d":"4.24"}}]
[1923.07,8.06,{"v":0.5217,"d":"0.52"},{"v":0.8592,"d":"0.86"},{"v":17.2,"d":"17.20"},{"v":1923.541666666619,"d":"1923.54"},{"$f":"G632*6/12+G644*6/12","v":4.21}]
[1923.08,{"v":8.1,"d":"8.10"},{"v":0.5233,"d":"0.52"},{"v":0.8833,"d":"0.88"},{"v":17.1,"d":"17.10"},{"v":1923.6249999999523,"d":"1923.62"},{"$f":"G632*5/12+G644*7/12","v":{"v":4.185,"d":"4.19"}}]
[1923.09,8.15,{"v":0.525,"d":"0.53"},{"v":0.9075,"d":"0.91"},{"v":17.2,"d":"17.20"},{"v":1923.7083333332855,"d":"1923.71"},{"$f":"G632*4/12+G644*8/12","v":4.16}]
[{"v":1923.1,"d":"1923.10"},8.03,{"v":0.5267,"d":"0.53"},{"v":0.9317,"d":"0.93"},{"v":17.3,"d":"17.30"},{"v":1923.7916666666188,"d":"1923.79"},{"$f":"G632*3/12+G644*9/12","v":{"v":4.135,"d":"4.14"}}]
[1923.11,8.27,{"v":0.5283,"d":"0.53"},{"v":0.9558,"d":"0.96"},{"v":17.3,"d":"17.30"},{"v":1923.874999999952,"d":"1923.87"},{"$f":"G632*2/12+G644*10/12","v":{"v":4.109999999999999,"d":"4.11"}}]
[1923.12,8.55,0.53,0.98,{"v":17.3,"d":"17.30"},{"v":1923.9583333332853,"d":"1923.96"},{"$f":"G632*1/12+G644*11/12","v":{"v":4.085,"d":"4.09"}}]
[1924.01,8.83,{"v":0.5317,"d":"0.53"},{"v":0.9758,"d":"0.98"},{"v":17.3,"d":"17.30"},{"v":1924.0416666666185,"d":"1924.04"},4.06]
[1924.02,8.87,{"v":0.5333,"d":"0.53"},{"v":0.9717,"d":"0.97"},{"v":17.2,"d":"17.20"},{"v":1924.1249999999518,"d":"1924.12"},{"$f":"G644*11/12+G656*1/12","v":{"v":4.043333333333333,"d":"4.04"}}]
[1924.03,{"v":8.7,"d":"8.70"},{"v":0.535,"d":"0.54"},{"v":0.9675,"d":"0.97"},{"v":17.1,"d":"17.10"},{"v":1924.208333333285,"d":"1924.21"},{"$f":"G644*10/12+G656*2/12","v":{"v":4.026666666666666,"d":"4.03"}}]
[1924.04,{"v":8.5,"d":"8.50"},{"v":0.5367,"d":"0.54"},{"v":0.9633,"d":"0.96"},{"v":17,"d":"17.00"},{"v":1924.2916666666183,"d":"1924.29"},{"$f":"G644*9/12+G656*3/12","v":4.01}]
[1924.05,8.47,{"v":0.5383,"d":"0.54"},{"v":0.9592,"d":"0.96"},{"v":17,"d":"17.00"},{"v":1924.3749999999516,"d":"1924.37"},{"$f":"G644*8/12+G656*4/12","v":{"v":3.993333333333333,"d":"3.99"}}]
[1924.06,8.63,0.54,{"v":0.955,"d":"0.96"},{"v":17,"d":"17.00"},{"$f":"F648+1/12","v":{"v":1924.4583333332848,"d":"1924.46"}},{"$f":"G644*7/12+G656*5/12","v":{"v":3.9766666666666666,"d":"3.98"}}]
[1924.07,9.03,{"v":0.5417,"d":"0.54"},{"v":0.9508,"d":"0.95"},{"v":17.1,"d":"17.10"},{"v":1924.541666666618,"d":"1924.54"},{"$f":"G644*6/12+G656*6/12","v":3.96}]
[1924.08,9.34,{"v":0.5433,"d":"0.54"},{"v":0.9467,"d":"0.95"},{"v":17,"d":"17.00"},{"v":1924.6249999999513,"d":"1924.62"},{"$f":"G644*5/12+G656*7/12","v":{"v":3.943333333333333,"d":"3.94"}}]
[1924.09,9.25,{"v":0.545,"d":"0.55"},{"v":0.9425,"d":"0.94"},{"v":17.1,"d":"17.10"},{"v":1924.7083333332846,"d":"1924.71"},{"$f":"G644*4/12+G656*8/12","v":{"v":3.9266666666666667,"d":"3.93"}}]
[{"v":1924.1,"d":"1924.10"},9.13,{"v":0.5467,"d":"0.55"},{"v":0.9383,"d":"0.94"},{"v":17.2,"d":"17.20"},{"v":1924.7916666666179,"d":"1924.79"},{"$f":"G644*3/12+G656*9/12","v":3.91}]
[1924.11,9.64,{"v":0.5483,"d":"0.55"},{"v":0.9342,"d":"0.93"},{"v":17.2,"d":"17.20"},{"v":1924.8749999999511,"d":"1924.87"},{"$f":"G644*2/12+G656*10/12","v":{"v":3.8933333333333335,"d":"3.89"}}]
[1924.12,10.16,0.55,0.93,{"v":17.3,"d":"17.30"},{"v":1924.9583333332844,"d":"1924.96"},{"$f":"G644*1/12+G656*11/12","v":{"v":3.876666666666667,"d":"3.88"}}]
[1925.01,10.58,{"v":0.5542,"d":"0.55"},{"v":0.9567,"d":"0.96"},{"v":17.3,"d":"17.30"},{"v":1925.0416666666176,"d":"1925.04"},3.86]
[1925.02,10.67,{"v":0.5583,"d":"0.56"},{"v":0.9833,"d":"0.98"},{"v":17.2,"d":"17.20"},{"v":1925.124999999951,"d":"1925.12"},{"$f":"G656*11/12+G668*1/12","v":{"v":3.845,"d":"3.85"}}]
[1925.03,10.39,{"v":0.5625,"d":"0.56"},1.01,{"v":17.3,"d":"17.30"},{"v":1925.2083333332841,"d":"1925.21"},{"$f":"G656*10/12+G668*2/12","v":3.83}]
[1925.04,10.28,{"v":0.5667,"d":"0.57"},{"v":1.037,"d":"1.04"},{"v":17.2,"d":"17.20"},{"v":1925.2916666666174,"d":"1925.29"},{"$f":"G656*9/12+G668*3/12","v":{"v":3.815,"d":"3.82"}}]
[1925.05,10.61,{"v":0.5708,"d":"0.57"},{"v":1.063,"d":"1.06"},{"v":17.3,"d":"17.30"},{"v":1925.3749999999507,"d":"1925.37"},{"$f":"G656*8/12+G668*4/12","v":{"v":3.8,"d":"3.80"}}]
[1925.06,{"v":10.8,"d":"10.80"},{"v":0.575,"d":"0.58"},1.09,{"v":17.5,"d":"17.50"},{"v":1925.458333333284,"d":"1925.46"},{"$f":"G656*7/12+G668*5/12","v":{"v":3.785,"d":"3.79"}}]
[1925.07,{"v":11.1,"d":"11.10"},{"v":0.5792,"d":"0.58"},{"v":1.117,"d":"1.12"},{"v":17.7,"d":"17.70"},{"v":1925.5416666666172,"d":"1925.54"},{"$f":"G656*6/12+G668*6/12","v":3.77}]
[1925.08,11.25,{"v":0.5833,"d":"0.58"},{"v":1.143,"d":"1.14"},{"v":17.7,"d":"17.70"},{"v":1925.6249999999504,"d":"1925.62"},{"$f":"G656*5/12+G668*7/12","v":{"v":3.7550000000000003,"d":"3.76"}}]
[1925.09,11.51,{"v":0.5875,"d":"0.59"},1.17,{"v":17.7,"d":"17.70"},{"v":1925.7083333332837,"d":"1925.71"},{"$f":"G656*4/12+G668*8/12","v":3.74}]
[{"v":1925.1,"d":"1925.10"},11.89,{"v":0.5917,"d":"0.59"},{"v":1.197,"d":"1.20"},{"v":17.7,"d":"17.70"},{"v":1925.791666666617,"d":"1925.79"},{"$f":"G656*3/12+G668*9/12","v":{"v":3.725,"d":"3.73"}}]
[1925.11,12.26,{"v":0.5958,"d":"0.60"},{"v":1.223,"d":"1.22"},{"v":18,"d":"18.00"},{"v":1925.8749999999502,"d":"1925.87"},{"$f":"G656*2/12+G668*10/12","v":3.71}]
[1925.12,12.46,{"v":0.6,"d":"0.60"},1.25,{"v":17.9,"d":"17.90"},{"v":1925.9583333332835,"d":"1925.96"},{"$f":"G656*1/12+G668*11/12","v":{"v":3.6950000000000003,"d":"3.70"}}]
[1926.01,12.65,{"v":0.6075,"d":"0.61"},{"v":1.249,"d":"1.25"},{"v":17.9,"d":"17.90"},{"v":1926.0416666666167,"d":"1926.04"},3.68]
[1926.02,12.67,{"v":0.615,"d":"0.62"},{"v":1.248,"d":"1.25"},{"v":17.9,"d":"17.90"},{"v":1926.12499999995,"d":"1926.12"},{"$f":"G668*11/12+G680*1/12","v":{"v":3.651666666666667,"d":"3.65"}}]
[1926.03,11.81,{"v":0.6225,"d":"0.62"},{"v":1.248,"d":"1.25"},{"v":17.8,"d":"17.80"},{"v":1926.2083333332832,"d":"1926.21"},{"$f":"G668*10/12+G680*2/12","v":{"v":3.6233333333333335,"d":"3.62"}}]
[1926.04,11.48,0.63,{"v":1.247,"d":"1.25"},{"v":17.9,"d":"17.90"},{"v":1926.2916666666165,"d":"1926.29"},{"$f":"G668*9/12+G680*3/12","v":{"v":3.595,"d":"3.60"}}]
[1926.05,11.56,{"v":0.6375,"d":"0.64"},{"v":1.246,"d":"1.25"},{"v":17.8,"d":"17.80"},{"v":1926.3749999999498,"d":"1926.37"},{"$f":"G668*8/12+G680*4/12","v":{"v":3.566666666666667,"d":"3.57"}}]
[1926.06,12.11,{"v":0.645,"d":"0.65"},{"v":1.245,"d":"1.25"},{"v":17.7,"d":"17.70"},{"v":1926.458333333283,"d":"1926.46"},{"$f":"G668*7/12+G680*5/12","v":{"v":3.5383333333333336,"d":"3.54"}}]
[1926.07,12.62,{"v":0.6525,"d":"0.65"},{"v":1.244,"d":"1.24"},{"v":17.5,"d":"17.50"},{"v":1926.5416666666163,"d":"1926.54"},{"$f":"G668*6/12+G680*6/12","v":3.51}]
[1926.08,13.12,0.66,{"v":1.243,"d":"1.24"},{"v":17.4,"d":"17.40"},{"v":1926.6249999999495,"d":"1926.62"},{"$f":"G668*5/12+G680*7/12","v":{"v":3.4816666666666665,"d":"3.48"}}]
[1926.09,13.32,{"v":0.6675,"d":"0.67"},{"v":1.242,"d":"1.24"},{"v":17.5,"d":"17.50"},{"v":1926.7083333332828,"d":"1926.71"},{"$f":"G668*4/12+G680*8/12","v":{"v":3.453333333333333,"d":"3.45"}}]
[{"v":1926.1,"d":"1926.10"},13.02,{"v":0.675,"d":"0.68"},{"v":1.242,"d":"1.24"},{"v":17.6,"d":"17.60"},{"v":1926.791666666616,"d":"1926.79"},{"$f":"G668*3/12+G680*9/12","v":{"v":3.425,"d":"3.43"}}]
[1926.11,13.19,{"v":0.6825,"d":"0.68"},{"v":1.241,"d":"1.24"},{"v":17.7,"d":"17.70"},{"v":1926.8749999999493,"d":"1926.87"},{"$f":"G668*2/12+G680*10/12","v":{"v":3.3966666666666665,"d":"3.40"}}]
[1926.12,13.49,0.69,1.24,{"v":17.7,"d":"17.70"},{"v":1926.9583333332826,"d":"1926.96"},{"$f":"G668*1/12+G680*11/12","v":{"v":3.3683333333333327,"d":"3.37"}}]
[1927.01,{"v":13.4,"d":"13.40"},{"v":0.6967,"d":"0.70"},{"v":1.229,"d":"1.23"},{"v":17.5,"d":"17.50"},{"v":1927.0416666666158,"d":"1927.04"},3.34]
[1927.02,13.66,{"v":0.7033,"d":"0.70"},{"v":1.218,"d":"1.22"},{"v":17.4,"d":"17.40"},{"v":1927.124999999949,"d":"1927.12"},{"$f":"G680*11/12+G692*1/12","v":{"v":3.339166666666666,"d":"3.34"}}]
[1927.03,13.87,0.71,{"v":1.208,"d":"1.21"},{"v":17.3,"d":"17.30"},{"v":1927.2083333332823,"d":"1927.21"},{"$f":"G680*10/12+G692*2/12","v":{"v":3.3383333333333334,"d":"3.34"}}]
[1927.04,14.21,{"v":0.7167,"d":"0.72"},{"v":1.197,"d":"1.20"},{"v":17.3,"d":"17.30"},{"v":1927.2916666666156,"d":"1927.29"},{"$f":"G680*9/12+G692*3/12","v":{"v":3.3375,"d":"3.34"}}]
[1927.05,{"v":14.7,"d":"14.70"},{"v":0.7233,"d":"0.72"},{"v":1.186,"d":"1.19"},{"v":17.4,"d":"17.40"},{"v":1927.3749999999488,"d":"1927.37"},{"$f":"G680*8/12+G692*4/12","v":{"v":3.336666666666667,"d":"3.34"}}]
[1927.06,14.89,0.73,{"v":1.175,"d":"1.18"},{"v":17.6,"d":"17.60"},{"v":1927.458333333282,"d":"1927.46"},{"$f":"G680*7/12+G692*5/12","v":{"v":3.3358333333333334,"d":"3.34"}}]
[1927.07,15.22,{"v":0.7367,"d":"0.74"},{"v":1.164,"d":"1.16"},{"v":17.3,"d":"17.30"},{"v":1927.5416666666154,"d":"1927.54"},{"$f":"G680*6/12+G692*6/12","v":{"v":3.335,"d":"3.34"}}]
[1927.08,16.03,{"v":0.7433,"d":"0.74"},{"v":1.153,"d":"1.15"},{"v":17.2,"d":"17.20"},{"v":1927.6249999999486,"d":"1927.62"},{"$f":"G680*5/12+G692*7/12","v":{"v":3.3341666666666665,"d":"3.33"}}]
[1927.09,16.94,0.75,{"v":1.143,"d":"1.14"},{"v":17.3,"d":"17.30"},{"v":1927.7083333332819,"d":"1927.71"},{"$f":"G680*4/12+G692*8/12","v":{"v":3.3333333333333335,"d":"3.33"}}]
[{"v":1927.1,"d":"1927.10"},16.68,{"v":0.7567,"d":"0.76"},{"v":1.132,"d":"1.13"},{"v":17.4,"d":"17.40"},{"v":1927.7916666666151,"d":"1927.79"},{"$f":"G680*3/12+G692*9/12","v":{"v":3.3325,"d":"3.33"}}]
[1927.11,17.06,{"v":0.7633,"d":"0.76"},{"v":1.121,"d":"1.12"},{"v":17.3,"d":"17.30"},{"v":1927.8749999999484,"d":"1927.87"},{"$f":"G680*2/12+G692*10/12","v":{"v":3.3316666666666666,"d":"3.33"}}]
[1927.12,17.46,0.77,1.11,{"v":17.3,"d":"17.30"},{"v":1927.9583333332816,"d":"1927.96"},{"$f":"G680*1/12+G692*11/12","v":{"v":3.3308333333333335,"d":"3.33"}}]
[1928.01,17.53,{"v":0.7767,"d":"0.78"},{"v":1.133,"d":"1.13"},{"v":17.3,"d":"17.30"},{"v":1928.041666666615,"d":"1928.04"},3.33]
[1928.02,17.32,{"v":0.7833,"d":"0.78"},{"v":1.155,"d":"1.16"},{"v":17.1,"d":"17.10"},{"v":1928.1249999999482,"d":"1928.12"},{"$f":"G692*11/12+G704*1/12","v":{"v":3.3525,"d":"3.35"}}]
[1928.03,18.25,0.79,{"v":1.177,"d":"1.18"},{"v":17.1,"d":"17.10"},{"v":1928.2083333332814,"d":"1928.21"},{"$f":"G692*10/12+G704*2/12","v":{"v":3.375,"d":"3.38"}}]
[1928.04,{"v":19.4,"d":"19.40"},{"v":0.7967,"d":"0.80"},{"v":1.2,"d":"1.20"},{"v":17.1,"d":"17.10"},{"v":1928.2916666666147,"d":"1928.29"},{"$f":"G692*9/12+G704*3/12","v":{"v":3.3975,"d":"3.40"}}]
[1928.05,{"v":20,"d":"20.00"},{"v":0.8033,"d":"0.80"},{"v":1.222,"d":"1.22"},{"v":17.2,"d":"17.20"},{"v":1928.374999999948,"d":"1928.37"},{"$f":"G692*8/12+G704*4/12","v":3.42}]
[1928.06,19.02,0.81,{"v":1.245,"d":"1.25"},{"v":17.1,"d":"17.10"},{"v":1928.4583333332812,"d":"1928.46"},{"$f":"G692*7/12+G704*5/12","v":{"v":3.4425,"d":"3.44"}}]
[1928.07,19.16,{"v":0.8167,"d":"0.82"},{"v":1.268,"d":"1.27"},{"v":17.1,"d":"17.10"},{"v":1928.5416666666144,"d":"1928.54"},{"$f":"G692*6/12+G704*6/12","v":{"v":3.465,"d":"3.47"}}]
[1928.08,19.78,{"v":0.8233,"d":"0.82"},1.29,{"v":17.1,"d":"17.10"},{"v":1928.6249999999477,"d":"1928.62"},{"$f":"G692*5/12+G704*7/12","v":{"v":3.4875,"d":"3.49"}}]
[1928.09,21.17,0.83,{"v":1.312,"d":"1.31"},{"v":17.3,"d":"17.30"},{"v":1928.708333333281,"d":"1928.71"},{"$f":"G692*4/12+G704*8/12","v":3.51}]
[{"v":1928.1,"d":"1928.10"},{"v":21.6,"d":"21.60"},{"v":0.8367,"d":"0.84"},{"v":1.335,"d":"1.34"},{"v":17.2,"d":"17.20"},{"v":1928.7916666666142,"d":"1928.79"},{"$f":"G692*3/12+G704*9/12","v":{"v":3.5324999999999998,"d":"3.53"}}]
[1928.11,23.06,{"v":0.8433,"d":"0.84"},{"v":1.357,"d":"1.36"},{"v":17.2,"d":"17.20"},{"v":1928.8749999999475,"d":"1928.87"},{"$f":"G692*2/12+G704*10/12","v":{"v":3.555,"d":"3.56"}}]
[1928.12,23.15,0.85,1.38,{"v":17.1,"d":"17.10"},{"v":1928.9583333332807,"d":"1928.96"},{"$f":"G692*1/12+G704*11/12","v":{"v":3.5775,"d":"3.58"}}]
[1929.01,24.86,0.86,{"v":1.399,"d":"1.40"},{"v":17.1,"d":"17.10"},{"v":1929.041666666614,"d":"1929.04"},{"v":3.6,"d":"3.60"}]
[1929.02,24.99,0.87,{"v":1.418,"d":"1.42"},{"v":17.1,"d":"17.10"},{"v":1929.1249999999472,"d":"1929.12"},{"$f":"G704*11/12+G716*1/12","v":{"v":3.5741666666666667,"d":"3.57"}}]
[1929.03,25.43,0.88,{"v":1.438,"d":"1.44"},{"v":17,"d":"17.00"},{"v":1929.2083333332805,"d":"1929.21"},{"$f":"G704*10/12+G716*2/12","v":{"v":3.5483333333333333,"d":"3.55"}}]
[1929.04,25.28,0.89,{"v":1.457,"d":"1.46"},{"v":16.9,"d":"16.90"},{"v":1929.2916666666138,"d":"1929.29"},{"$f":"G704*9/12+G716*3/12","v":{"v":3.5225,"d":"3.52"}}]
[1929.05,25.66,{"v":0.9,"d":"0.90"},{"v":1.476,"d":"1.48"},{"v":17,"d":"17.00"},{"v":1929.374999999947,"d":"1929.37"},{"$f":"G704*8/12+G716*4/12","v":{"v":3.4966666666666666,"d":"3.50"}}]
[1929.06,26.15,0.91,{"v":1.495,"d":"1.50"},{"v":17.1,"d":"17.10"},{"v":1929.4583333332803,"d":"1929.46"},{"$f":"G704*7/12+G716*5/12","v":{"v":3.470833333333333,"d":"3.47"}}]
[1929.07,28.48,0.92,{"v":1.514,"d":"1.51"},{"v":17.3,"d":"17.30"},{"v":1929.5416666666135,"d":"1929.54"},{"$f":"G704*6/12+G716*6/12","v":{"v":3.4450000000000003,"d":"3.45"}}]
[1929.08,{"v":30.1,"d":"30.10"},0.93,{"v":1.533,"d":"1.53"},{"v":17.3,"d":"17.30"},{"v":1929.6249999999468,"d":"1929.62"},{"$f":"G704*5/12+G716*7/12","v":{"v":3.4191666666666665,"d":"3.42"}}]
[1929.09,{"v":31.3,"d":"31.30"},0.94,{"v":1.552,"d":"1.55"},{"v":17.3,"d":"17.30"},{"v":1929.70833333328,"d":"1929.71"},{"$f":"G704*4/12+G716*8/12","v":{"v":3.3933333333333335,"d":"3.39"}}]
[{"v":1929.1,"d":"1929.10"},27.99,0.95,{"v":1.572,"d":"1.57"},{"v":17.3,"d":"17.30"},{"$f":"F712+1/12","v":{"v":1929.7916666666133,"d":"1929.79"}},{"$f":"G704*3/12+G716*9/12","v":{"v":3.3674999999999997,"d":"3.37"}}]
[1929.11,20.58,0.96,{"v":1.591,"d":"1.59"},{"v":17.3,"d":"17.30"},{"v":1929.8749999999466,"d":"1929.87"},{"$f":"G704*2/12+G716*10/12","v":{"v":3.341666666666667,"d":"3.34"}}]
[1929.12,{"v":21.4,"d":"21.40"},0.97,1.61,{"v":17.2,"d":"17.20"},{"v":1929.9583333332798,"d":"1929.96"},{"$f":"G704*1/12+G716*11/12","v":{"v":3.315833333333333,"d":"3.32"}}]
[1930.01,21.71,{"v":0.9708,"d":"0.97"},{"v":1.557,"d":"1.56"},{"v":17.1,"d":"17.10"},{"v":1930.041666666613,"d":"1930.04"},3.29]
[1930.02,23.07,{"v":0.9717,"d":"0.97"},{"v":1.503,"d":"1.50"},{"v":17,"d":"17.00"},{"v":1930.1249999999463,"d":"1930.12"},{"$f":"G716*11/12+G728*1/12","v":{"v":3.2941666666666665,"d":"3.29"}}]
[1930.03,23.94,{"v":0.9725,"d":"0.97"},1.45,{"v":16.9,"d":"16.90"},{"v":1930.2083333332796,"d":"1930.21"},{"$f":"G716*10/12+G728*2/12","v":{"v":3.2983333333333333,"d":"3.30"}}]
[1930.04,25.46,{"v":0.9733,"d":"0.97"},{"v":1.397,"d":"1.40"},{"v":17,"d":"17.00"},{"v":1930.2916666666129,"d":"1930.29"},{"$f":"G716*9/12+G728*3/12","v":{"v":3.3024999999999998,"d":"3.30"}}]
[1930.05,23.94,{"v":0.9742,"d":"0.97"},{"v":1.343,"d":"1.34"},{"v":16.9,"d":"16.90"},{"v":1930.374999999946,"d":"1930.37"},{"$f":"G716*8/12+G728*4/12","v":{"v":3.3066666666666666,"d":"3.31"}}]
[1930.06,21.52,{"v":0.975,"d":"0.98"},1.29,{"v":16.8,"d":"16.80"},{"v":1930.4583333332794,"d":"1930.46"},{"$f":"G716*7/12+G728*5/12","v":{"v":3.310833333333333,"d":"3.31"}}]
[1930.07,21.06,{"v":0.9758,"d":"0.98"},{"v":1.237,"d":"1.24"},{"v":16.6,"d":"16.60"},{"v":1930.5416666666126,"d":"1930.54"},{"$f":"G716*6/12+G728*6/12","v":{"v":3.3150000000000004,"d":"3.32"}}]
[1930.08,20.79,{"v":0.9767,"d":"0.98"},{"v":1.183,"d":"1.18"},{"v":16.5,"d":"16.50"},{"v":1930.6249999999459,"d":"1930.62"},{"$f":"G716*5/12+G728*7/12","v":{"v":3.319166666666667,"d":"3.32"}}]
[1930.09,20.78,{"v":0.9775,"d":"0.98"},1.13,{"v":16.6,"d":"16.60"},{"v":1930.7083333332791,"d":"1930.71"},{"$f":"G716*4/12+G728*8/12","v":{"v":3.3233333333333333,"d":"3.32"}}]
[{"v":1930.1,"d":"1930.10"},17.92,{"v":0.9783,"d":"0.98"},{"v":1.077,"d":"1.08"},{"v":16.5,"d":"16.50"},{"v":1930.7916666666124,"d":"1930.79"},{"$f":"G716*3/12+G728*9/12","v":{"v":3.3275,"d":"3.33"}}]
[1930.11,16.62,{"v":0.9792,"d":"0.98"},{"v":1.023,"d":"1.02"},{"v":16.4,"d":"16.40"},{"v":1930.8749999999457,"d":"1930.87"},{"$f":"G716*2/12+G728*10/12","v":{"v":3.3316666666666666,"d":"3.33"}}]
[1930.12,15.51,0.98,0.97,{"v":16.1,"d":"16.10"},{"v":1930.958333333279,"d":"1930.96"},{"$f":"G716*1/12+G728*11/12","v":{"v":3.3358333333333325,"d":"3.34"}}]
[1931.01,15.98,{"v":0.9667,"d":"0.97"},0.94,{"v":15.9,"d":"15.90"},{"v":1931.0416666666122,"d":"1931.04"},3.34]
[1931.02,{"v":17.2,"d":"17.20"},{"v":0.9533,"d":"0.95"},0.91,{"v":15.7,"d":"15.70"},{"v":1931.1249999999454,"d":"1931.12"},{"$f":"G728*11/12+G740*1/12","v":{"v":3.3683333333333327,"d":"3.37"}}]
[1931.03,17.53,0.94,0.88,{"v":15.6,"d":"15.60"},{"v":1931.2083333332787,"d":"1931.21"},{"$f":"G728*10/12+G740*2/12","v":{"v":3.3966666666666665,"d":"3.40"}}]
[1931.04,15.86,{"v":0.9267,"d":"0.93"},0.85,{"v":15.5,"d":"15.50"},{"v":1931.291666666612,"d":"1931.29"},{"$f":"G728*9/12+G740*3/12","v":{"v":3.425,"d":"3.43"}}]
[1931.05,14.33,{"v":0.9133,"d":"0.91"},0.82,{"v":15.3,"d":"15.30"},{"v":1931.3749999999452,"d":"1931.37"},{"$f":"G728*8/12+G740*4/12","v":{"v":3.453333333333333,"d":"3.45"}}]
[1931.06,13.87,{"v":0.9,"d":"0.90"},0.79,{"v":15.1,"d":"15.10"},{"v":1931.4583333332785,"d":"1931.46"},{"$f":"G728*7/12+G740*5/12","v":{"v":3.4816666666666665,"d":"3.48"}}]
[1931.07,14.33,{"v":0.8867,"d":"0.89"},0.76,{"v":15.1,"d":"15.10"},{"v":1931.5416666666117,"d":"1931.54"},{"$f":"G728*6/12+G740*6/12","v":3.51}]
[1931.08,{"v":13.9,"d":"13.90"},{"v":0.8733,"d":"0.87"},0.73,{"v":15.1,"d":"15.10"},{"v":1931.624999999945,"d":"1931.62"},{"$f":"G728*5/12+G740*7/12","v":{"v":3.5383333333333336,"d":"3.54"}}]
[1931.09,11.83,0.86,{"v":0.7,"d":"0.70"},{"v":15,"d":"15.00"},{"v":1931.7083333332782,"d":"1931.71"},{"$f":"G728*4/12+G740*8/12","v":{"v":3.566666666666667,"d":"3.57"}}]
[{"v":1931.1,"d":"1931.10"},10.25,{"v":0.8467,"d":"0.85"},0.67,{"v":14.9,"d":"14.90"},{"v":1931.7916666666115,"d":"1931.79"},{"$f":"G728*3/12+G740*9/12","v":{"v":3.595,"d":"3.60"}}]
[1931.11,10.39,{"v":0.8333,"d":"0.83"},0.64,{"v":14.7,"d":"14.70"},{"v":1931.8749999999447,"d":"1931.87"},{"$f":"G728*2/12+G740*10/12","v":{"v":3.6233333333333335,"d":"3.62"}}]
[1931.12,8.44,0.82,0.61,{"v":14.6,"d":"14.60"},{"v":1931.958333333278,"d":"1931.96"},{"$f":"G728*1/12+G740*11/12","v":{"v":3.651666666666667,"d":"3.65"}}]
[1932.01,{"v":8.3,"d":"8.30"},{"v":0.7933,"d":"0.79"},{"v":0.5933,"d":"0.59"},{"v":14.3,"d":"14.30"},{"v":1932.0416666666113,"d":"1932.04"},3.68]
[1932.02,8.23,{"v":0.7667,"d":"0.77"},{"v":0.5767,"d":"0.58"},{"v":14.1,"d":"14.10"},{"v":1932.1249999999445,"d":"1932.12"},{"$f":"G740*11/12+G752*1/12","v":{"v":3.649166666666667,"d":"3.65"}}]
[1932.03,8.26,0.74,0.56,{"v":14,"d":"14.00"},{"v":1932.2083333332778,"d":"1932.21"},{"$f":"G740*10/12+G752*2/12","v":{"v":3.6183333333333336,"d":"3.62"}}]
[1932.04,6.28,{"v":0.7133,"d":"0.71"},{"v":0.5433,"d":"0.54"},{"v":13.9,"d":"13.90"},{"v":1932.291666666611,"d":"1932.29"},{"$f":"G740*9/12+G752*3/12","v":{"v":3.5875000000000004,"d":"3.59"}}]
[1932.05,5.51,{"v":0.6867,"d":"0.69"},{"v":0.5267,"d":"0.53"},{"v":13.7,"d":"13.70"},{"v":1932.3749999999443,"d":"1932.37"},{"$f":"G740*8/12+G752*4/12","v":{"v":3.5566666666666666,"d":"3.56"}}]
[1932.06,4.77,0.66,0.51,{"v":13.6,"d":"13.60"},{"v":1932.4583333332776,"d":"1932.46"},{"$f":"G740*7/12+G752*5/12","v":{"v":3.525833333333334,"d":"3.53"}}]
[1932.07,5.01,{"v":0.6333,"d":"0.63"},{"v":0.4933,"d":"0.49"},{"v":13.6,"d":"13.60"},{"v":1932.5416666666108,"d":"1932.54"},{"$f":"G740*6/12+G752*6/12","v":{"v":3.495,"d":"3.50"}}]
[1932.08,7.53,{"v":0.6067,"d":"0.61"},{"v":0.4767,"d":"0.48"},{"v":13.5,"d":"13.50"},{"v":1932.624999999944,"d":"1932.62"},{"$f":"G740*5/12+G752*7/12","v":{"v":3.464166666666667,"d":"3.46"}}]
[1932.09,8.26,0.58,0.46,{"v":13.4,"d":"13.40"},{"v":1932.7083333332773,"d":"1932.71"},{"$f":"G740*4/12+G752*8/12","v":{"v":3.4333333333333336,"d":"3.43"}}]
[{"v":1932.1,"d":"1932.10"},7.12,{"v":0.5533,"d":"0.55"},{"v":0.4433,"d":"0.44"},{"v":13.3,"d":"13.30"},{"v":1932.7916666666106,"d":"1932.79"},{"$f":"G740*3/12+G752*9/12","v":{"v":3.4025,"d":"3.40"}}]
[1932.11,7.05,{"v":0.5267,"d":"0.53"},{"v":0.4267,"d":"0.43"},{"v":13.2,"d":"13.20"},{"v":1932.8749999999438,"d":"1932.87"},{"$f":"G740*2/12+G752*10/12","v":{"v":3.3716666666666666,"d":"3.37"}}]
[1932.12,6.82,{"v":0.5,"d":"0.50"},0.41,{"v":13.1,"d":"13.10"},{"v":1932.958333333277,"d":"1932.96"},{"$f":"G740*1/12+G752*11/12","v":{"v":3.3408333333333338,"d":"3.34"}}]
[1933.01,7.09,{"v":0.495,"d":"0.50"},{"v":0.4125,"d":"0.41"},{"v":12.9,"d":"12.90"},{"v":1933.0416666666104,"d":"1933.04"},3.31]
[1933.02,6.25,0.49,{"v":0.415,"d":"0.42"},{"v":12.7,"d":"12.70"},{"v":1933.1249999999436,"d":"1933.12"},{"$f":"G752*11/12+G764*1/12","v":{"v":3.2941666666666674,"d":"3.29"}}]
[1933.03,6.23,{"v":0.485,"d":"0.49"},{"v":0.4175,"d":"0.42"},{"v":12.6,"d":"12.60"},{"v":1933.2083333332769,"d":"1933.21"},{"$f":"G752*10/12+G764*2/12","v":{"v":3.2783333333333333,"d":"3.28"}}]
[1933.04,6.89,0.48,0.42,{"v":12.6,"d":"12.60"},{"v":1933.2916666666101,"d":"1933.29"},{"$f":"G752*9/12+G764*3/12","v":{"v":3.2624999999999997,"d":"3.26"}}]
[1933.05,8.87,{"v":0.475,"d":"0.48"},{"v":0.4225,"d":"0.42"},{"v":12.6,"d":"12.60"},{"v":1933.3749999999434,"d":"1933.37"},{"$f":"G752*8/12+G764*4/12","v":{"v":3.2466666666666666,"d":"3.25"}}]
[1933.06,10.39,0.47,{"v":0.425,"d":"0.43"},{"v":12.7,"d":"12.70"},{"v":1933.4583333332766,"d":"1933.46"},{"$f":"G752*7/12+G764*5/12","v":{"v":3.2308333333333334,"d":"3.23"}}]
[1933.07,11.23,{"v":0.465,"d":"0.47"},{"v":0.4275,"d":"0.43"},{"v":13.1,"d":"13.10"},{"v":1933.54166666661,"d":"1933.54"},{"$f":"G752*6/12+G764*6/12","v":{"v":3.215,"d":"3.22"}}]
[1933.08,10.67,0.46,0.43,{"v":13.2,"d":"13.20"},{"v":1933.6249999999432,"d":"1933.62"},{"$f":"G752*5/12+G764*7/12","v":{"v":3.1991666666666667,"d":"3.20"}}]
[1933.09,10.58,{"v":0.455,"d":"0.46"},{"v":0.4325,"d":"0.43"},{"v":13.2,"d":"13.20"},{"v":1933.7083333332764,"d":"1933.71"},{"$f":"G752*4/12+G764*8/12","v":{"v":3.1833333333333336,"d":"3.18"}}]
[{"v":1933.1,"d":"1933.10"},9.55,0.45,{"v":0.435,"d":"0.44"},{"v":13.2,"d":"13.20"},{"v":1933.7916666666097,"d":"1933.79"},{"$f":"G752*3/12+G764*9/12","v":{"v":3.1675000000000004,"d":"3.17"}}]
[1933.11,9.78,{"v":0.445,"d":"0.45"},{"v":0.4375,"d":"0.44"},{"v":13.2,"d":"13.20"},{"v":1933.874999999943,"d":"1933.87"},{"$f":"G752*2/12+G764*10/12","v":{"v":3.151666666666667,"d":"3.15"}}]
[1933.12,9.97,0.44,0.44,{"v":13.2,"d":"13.20"},{"v":1933.9583333332762,"d":"1933.96"},{"$f":"G752*1/12+G764*11/12","v":{"v":3.1358333333333333,"d":"3.14"}}]
[1934.01,10.54,{"v":0.4408,"d":"0.44"},{"v":0.4442,"d":"0.44"},{"v":13.2,"d":"13.20"},{"v":1934.0416666666094,"d":"1934.04"},3.12]
[1934.02,11.32,{"v":0.4417,"d":"0.44"},{"v":0.4483,"d":"0.45"},{"v":13.3,"d":"13.30"},{"v":1934.1249999999427,"d":"1934.12"},{"$f":"G764*11/12+G776*1/12","v":{"v":3.0925,"d":"3.09"}}]
[1934.03,10.74,{"v":0.4425,"d":"0.44"},{"v":0.4525,"d":"0.45"},{"v":13.3,"d":"13.30"},{"v":1934.208333333276,"d":"1934.21"},{"$f":"G764*10/12+G776*2/12","v":{"v":3.065,"d":"3.07"}}]
[1934.04,10.92,{"v":0.4433,"d":"0.44"},{"v":0.4567,"d":"0.46"},{"v":13.3,"d":"13.30"},{"v":1934.2916666666092,"d":"1934.29"},{"$f":"G764*9/12+G776*3/12","v":{"v":3.0375000000000005,"d":"3.04"}}]
[1934.05,9.81,{"v":0.4442,"d":"0.44"},{"v":0.4608,"d":"0.46"},{"v":13.3,"d":"13.30"},{"v":1934.3749999999425,"d":"1934.37"},{"$f":"G764*8/12+G776*4/12","v":{"v":3.0100000000000002,"d":"3.01"}}]
[1934.06,9.94,{"v":0.445,"d":"0.45"},{"v":0.465,"d":"0.47"},{"v":13.4,"d":"13.40"},{"v":1934.4583333332757,"d":"1934.46"},{"$f":"G764*7/12+G776*5/12","v":{"v":2.9825,"d":"2.98"}}]
[1934.07,9.47,{"v":0.4458,"d":"0.45"},{"v":0.4692,"d":"0.47"},{"v":13.4,"d":"13.40"},{"v":1934.541666666609,"d":"1934.54"},{"$f":"G764*6/12+G776*6/12","v":{"v":2.955,"d":"2.96"}}]
[1934.08,{"v":9.1,"d":"9.10"},{"v":0.4467,"d":"0.45"},{"v":0.4733,"d":"0.47"},{"v":13.4,"d":"13.40"},{"v":1934.6249999999422,"d":"1934.62"},{"$f":"G764*5/12+G776*7/12","v":{"v":2.9275,"d":"2.93"}}]
[1934.09,8.88,{"v":0.4475,"d":"0.45"},{"v":0.4775,"d":"0.48"},{"v":13.6,"d":"13.60"},{"v":1934.7083333332755,"d":"1934.71"},{"$f":"G764*4/12+G776*8/12","v":{"v":2.9000000000000004,"d":"2.90"}}]
[{"v":1934.1,"d":"1934.10"},8.95,{"v":0.4483,"d":"0.45"},{"v":0.4817,"d":"0.48"},{"v":13.5,"d":"13.50"},{"v":1934.7916666666088,"d":"1934.79"},{"$f":"G764*3/12+G776*9/12","v":{"v":2.8724999999999996,"d":"2.87"}}]
[1934.11,{"v":9.2,"d":"9.20"},{"v":0.4492,"d":"0.45"},{"v":0.4858,"d":"0.49"},{"v":13.5,"d":"13.50"},{"v":1934.874999999942,"d":"1934.87"},{"$f":"G764*2/12+G776*10/12","v":{"v":2.8449999999999998,"d":"2.85"}}]
[1934.12,9.26,0.45,0.49,{"v":13.4,"d":"13.40"},{"v":1934.9583333332753,"d":"1934.96"},{"$f":"G764*1/12+G776*11/12","v":{"v":2.8175,"d":"2.82"}}]
[1935.01,9.26,0.45,0.57,{"v":13.6,"d":"13.60"},{"v":1935.0416666666085,"d":"1935.04"},2.79]
[1935.02,8.98,0.45,0.65,{"v":13.7,"d":"13.70"},{"$f":"F776+1/12","v":{"v":1935.1249999999418,"d":"1935.12"}},{"$f":"G776*11/12+G788*1/12","v":{"v":2.7783333333333333,"d":"2.78"}}]
[1935.03,8.41,0.45,0.73,{"v":13.7,"d":"13.70"},{"v":1935.208333333275,"d":"1935.21"},{"$f":"G776*10/12+G788*2/12","v":{"v":2.7666666666666666,"d":"2.77"}}]
[1935.04,9.04,{"v":0.446667,"d":"0.45"},{"v":0.756667,"d":"0.76"},{"v":13.8,"d":"13.80"},{"v":1935.2916666666083,"d":"1935.29"},{"$f":"G776*9/12+G788*3/12","v":{"v":2.755,"d":"2.76"}}]
[1935.05,9.75,{"v":0.443333,"d":"0.44"},{"v":0.783333,"d":"0.78"},{"v":13.8,"d":"13.80"},{"v":1935.3749999999416,"d":"1935.37"},{"$f":"G776*8/12+G788*4/12","v":{"v":2.743333333333333,"d":"2.74"}}]
[1935.06,10.12,0.44,0.81,{"v":13.7,"d":"13.70"},{"v":1935.4583333332748,"d":"1935.46"},{"$f":"G776*7/12+G788*5/12","v":{"v":2.731666666666667,"d":"2.73"}}]
[1935.07,10.65,0.44,{"v":0.793333,"d":"0.79"},{"v":13.7,"d":"13.70"},{"v":1935.541666666608,"d":"1935.54"},{"$f":"G776*6/12+G788*6/12","v":2.72}]
[1935.08,11.37,0.44,{"v":0.776667,"d":"0.78"},{"v":13.7,"d":"13.70"},{"v":1935.6249999999413,"d":"1935.62"},{"$f":"G776*5/12+G788*7/12","v":{"v":2.708333333333333,"d":"2.71"}}]
[1935.09,11.61,0.44,0.76,{"v":13.7,"d":"13.70"},{"v":1935.7083333332746,"d":"1935.71"},{"$f":"G776*4/12+G788*8/12","v":{"v":2.6966666666666668,"d":"2.70"}}]
[{"v":1935.1,"d":"1935.10"},11.92,0.45,0.76,{"v":13.7,"d":"13.70"},{"v":1935.7916666666079,"d":"1935.79"},{"$f":"G776*3/12+G788*9/12","v":{"v":2.685,"d":"2.69"}}]
[1935.11,13.04,0.46,0.76,{"v":13.8,"d":"13.80"},{"v":1935.874999999941,"d":"1935.87"},{"$f":"G776*2/12+G788*10/12","v":{"v":2.6733333333333333,"d":"2.67"}}]
[1935.12,13.04,0.47,0.76,{"v":13.8,"d":"13.80"},{"v":1935.9583333332744,"d":"1935.96"},{"$f":"G776*1/12+G788*11/12","v":{"v":2.6616666666666666,"d":"2.66"}}]
[1936.01,13.76,0.48,0.77,{"v":13.8,"d":"13.80"},{"v":1936.0416666666076,"d":"1936.04"},2.65]
[1936.02,14.55,0.49,0.78,{"v":13.8,"d":"13.80"},{"v":1936.1249999999409,"d":"1936.12"},{"$f":"G788*11/12+G800*1/12","v":{"v":2.6525,"d":"2.65"}}]
[1936.03,14.86,{"v":0.5,"d":"0.50"},0.79,{"v":13.7,"d":"13.70"},{"v":1936.2083333332741,"d":"1936.21"},{"$f":"G788*10/12+G800*2/12","v":{"v":2.6550000000000002,"d":"2.66"}}]
[1936.04,14.88,{"v":0.516667,"d":"0.52"},0.82,{"v":13.7,"d":"13.70"},{"v":1936.2916666666074,"d":"1936.29"},{"$f":"G788*9/12+G800*3/12","v":{"v":2.6574999999999998,"d":"2.66"}}]
[1936.05,14.09,{"v":0.533333,"d":"0.53"},0.85,{"v":13.7,"d":"13.70"},{"v":1936.3749999999407,"d":"1936.37"},{"$f":"G788*8/12+G800*4/12","v":2.66}]
[1936.06,14.69,0.55,0.88,{"v":13.8,"d":"13.80"},{"v":1936.458333333274,"d":"1936.46"},{"$f":"G788*7/12+G800*5/12","v":{"v":2.6625,"d":"2.66"}}]
[1936.07,15.56,0.57,{"v":0.9,"d":"0.90"},{"v":13.9,"d":"13.90"},{"v":1936.5416666666072,"d":"1936.54"},{"$f":"G788*6/12+G800*6/12","v":{"v":2.665,"d":"2.67"}}]
[1936.08,15.87,0.59,0.92,{"v":14,"d":"14.00"},{"v":1936.6249999999404,"d":"1936.62"},{"$f":"G788*5/12+G800*7/12","v":{"v":2.6675000000000004,"d":"2.67"}}]
[1936.09,16.05,0.61,0.94,{"v":14,"d":"14.00"},{"v":1936.7083333332737,"d":"1936.71"},{"$f":"G788*4/12+G800*8/12","v":2.67}]
[{"v":1936.1,"d":"1936.10"},16.89,{"v":0.646667,"d":"0.65"},{"v":0.966667,"d":"0.97"},{"v":14,"d":"14.00"},{"v":1936.791666666607,"d":"1936.79"},{"$f":"G788*3/12+G800*9/12","v":{"v":2.6725000000000003,"d":"2.67"}}]
[1936.11,17.36,{"v":0.683333,"d":"0.68"},{"v":0.993333,"d":"0.99"},{"v":14,"d":"14.00"},{"v":1936.8749999999402,"d":"1936.87"},{"$f":"G788*2/12+G800*10/12","v":{"v":2.675,"d":"2.68"}}]
[1936.12,17.06,0.72,1.02,{"v":14,"d":"14.00"},{"v":1936.9583333332735,"d":"1936.96"},{"$f":"G788*1/12+G800*11/12","v":{"v":2.6774999999999998,"d":"2.68"}}]
[1937.01,17.59,0.73,1.05,{"v":14.1,"d":"14.10"},{"v":1937.0416666666067,"d":"1937.04"},2.68]
[1937.02,18.11,0.74,1.08,{"v":14.1,"d":"14.10"},{"v":1937.12499999994,"d":"1937.12"},{"$f":"G800*11/12+G812*1/12","v":2.67}]
[1937.03,18.09,0.75,1.11,{"v":14.2,"d":"14.20"},{"v":1937.2083333332732,"d":"1937.21"},{"$f":"G800*10/12+G812*2/12","v":2.66}]
[1937.04,17.01,0.78,1.13,{"v":14.3,"d":"14.30"},{"v":1937.2916666666065,"d":"1937.29"},{"$f":"G800*9/12+G812*3/12","v":{"v":2.6500000000000004,"d":"2.65"}}]
[1937.05,16.25,0.81,1.15,{"v":14.4,"d":"14.40"},{"v":1937.3749999999397,"d":"1937.37"},{"$f":"G800*8/12+G812*4/12","v":2.64}]
[1937.06,15.64,0.84,1.17,{"v":14.4,"d":"14.40"},{"v":1937.458333333273,"d":"1937.46"},{"$f":"G800*7/12+G812*5/12","v":2.63}]
[1937.07,16.57,{"v":0.816667,"d":"0.82"},{"v":1.18667,"d":"1.19"},{"v":14.5,"d":"14.50"},{"v":1937.5416666666063,"d":"1937.54"},{"$f":"G800*6/12+G812*6/12","v":2.62}]
[1937.08,16.74,{"v":0.793333,"d":"0.79"},{"v":1.20333,"d":"1.20"},{"v":14.5,"d":"14.50"},{"v":1937.6249999999395,"d":"1937.62"},{"$f":"G800*5/12+G812*7/12","v":{"v":2.6100000000000003,"d":"2.61"}}]
[1937.09,14.37,0.77,1.22,{"v":14.6,"d":"14.60"},{"v":1937.7083333332728,"d":"1937.71"},{"$f":"G800*4/12+G812*8/12","v":{"v":2.6,"d":"2.60"}}]
[{"v":1937.1,"d":"1937.10"},12.28,0.78,1.19,{"v":14.6,"d":"14.60"},{"v":1937.791666666606,"d":"1937.79"},{"$f":"G800*3/12+G812*9/12","v":2.59}]
[1937.11,{"v":11.2,"d":"11.20"},0.79,1.16,{"v":14.5,"d":"14.50"},{"v":1937.8749999999393,"d":"1937.87"},{"$f":"G800*2/12+G812*10/12","v":2.58}]
[1937.12,11.02,{"v":0.8,"d":"0.80"},1.13,{"v":14.4,"d":"14.40"},{"v":1937.9583333332725,"d":"1937.96"},{"$f":"G800*1/12+G812*11/12","v":2.57}]
[1938.01,11.31,{"v":0.793333,"d":"0.79"},{"v":1.07667,"d":"1.08"},{"v":14.2,"d":"14.20"},{"v":1938.0416666666058,"d":"1938.04"},2.56]
[1938.02,11.04,{"v":0.786667,"d":"0.79"},{"v":1.02333,"d":"1.02"},{"v":14.1,"d":"14.10"},{"v":1938.124999999939,"d":"1938.12"},{"$f":"G812*11/12+G824*1/12","v":{"v":2.5433333333333334,"d":"2.54"}}]
[1938.03,10.31,0.78,0.97,{"v":14.1,"d":"14.10"},{"v":1938.2083333332723,"d":"1938.21"},{"$f":"G812*10/12+G824*2/12","v":{"v":2.5266666666666664,"d":"2.53"}}]
[1938.04,9.89,{"v":0.766667,"d":"0.77"},{"v":0.903333,"d":"0.90"},{"v":14.2,"d":"14.20"},{"v":1938.2916666666056,"d":"1938.29"},{"$f":"G812*9/12+G824*3/12","v":2.51}]
[1938.05,9.98,{"v":0.753333,"d":"0.75"},{"v":0.836667,"d":"0.84"},{"v":14.1,"d":"14.10"},{"v":1938.3749999999388,"d":"1938.37"},{"$f":"G812*8/12+G824*4/12","v":{"v":2.493333333333333,"d":"2.49"}}]
[1938.06,10.21,0.74,0.77,{"v":14.1,"d":"14.10"},{"v":1938.458333333272,"d":"1938.46"},{"$f":"G812*7/12+G824*5/12","v":{"v":2.4766666666666666,"d":"2.48"}}]
[1938.07,12.24,{"v":0.713333,"d":"0.71"},0.72,{"v":14.1,"d":"14.10"},{"v":1938.5416666666054,"d":"1938.54"},{"$f":"G812*6/12+G824*6/12","v":2.46}]
[1938.08,12.31,{"v":0.686667,"d":"0.69"},0.67,{"v":14.1,"d":"14.10"},{"v":1938.6249999999386,"d":"1938.62"},{"$f":"G812*5/12+G824*7/12","v":{"v":2.4433333333333334,"d":"2.44"}}]
[1938.09,11.75,0.66,0.62,{"v":14.1,"d":"14.10"},{"v":1938.7083333332719,"d":"1938.71"},{"$f":"G812*4/12+G824*8/12","v":{"v":2.4266666666666667,"d":"2.43"}}]
[{"v":1938.1,"d":"1938.10"},13.06,0.61,{"v":0.626667,"d":"0.63"},{"v":14,"d":"14.00"},{"v":1938.7916666666051,"d":"1938.79"},{"$f":"G812*3/12+G824*9/12","v":{"v":2.4099999999999997,"d":"2.41"}}]
[1938.11,13.07,0.56,{"v":0.633333,"d":"0.63"},{"v":14,"d":"14.00"},{"v":1938.8749999999384,"d":"1938.87"},{"$f":"G812*2/12+G824*10/12","v":{"v":2.393333333333333,"d":"2.39"}}]
[1938.12,12.69,0.51,0.64,{"v":14,"d":"14.00"},{"v":1938.9583333332716,"d":"1938.96"},{"$f":"G812*1/12+G824*11/12","v":{"v":2.3766666666666665,"d":"2.38"}}]
[1939.01,{"v":12.5,"d":"12.50"},{"v":0.513333,"d":"0.51"},{"v":0.663333,"d":"0.66"},{"v":14,"d":"14.00"},{"v":1939.041666666605,"d":"1939.04"},2.36]
[1939.02,{"v":12.4,"d":"12.40"},{"v":0.516667,"d":"0.52"},{"v":0.686667,"d":"0.69"},{"v":13.9,"d":"13.90"},{"v":1939.1249999999382,"d":"1939.12"},{"$f":"G824*11/12+G836*1/12","v":{"v":2.3474999999999997,"d":"2.35"}}]
[1939.03,12.39,0.52,0.71,{"v":13.9,"d":"13.90"},{"v":1939.2083333332714,"d":"1939.21"},{"$f":"G824*10/12+G836*2/12","v":{"v":2.335,"d":"2.34"}}]
[1939.04,10.83,{"v":0.523333,"d":"0.52"},{"v":0.726667,"d":"0.73"},{"v":13.8,"d":"13.80"},{"v":1939.2916666666047,"d":"1939.29"},{"$f":"G824*9/12+G836*3/12","v":{"v":2.3225,"d":"2.32"}}]
[1939.05,11.23,{"v":0.526667,"d":"0.53"},{"v":0.743333,"d":"0.74"},{"v":13.8,"d":"13.80"},{"v":1939.374999999938,"d":"1939.37"},{"$f":"G824*8/12+G836*4/12","v":2.31}]
[1939.06,11.43,0.53,0.76,{"v":13.8,"d":"13.80"},{"v":1939.4583333332712,"d":"1939.46"},{"$f":"G824*7/12+G836*5/12","v":{"v":2.2975000000000003,"d":"2.30"}}]
[1939.07,11.71,0.54,{"v":0.776667,"d":"0.78"},{"v":13.8,"d":"13.80"},{"v":1939.5416666666044,"d":"1939.54"},{"$f":"G824*6/12+G836*6/12","v":{"v":2.285,"d":"2.29"}}]
[1939.08,11.54,0.55,{"v":0.793333,"d":"0.79"},{"v":13.8,"d":"13.80"},{"v":1939.6249999999377,"d":"1939.62"},{"$f":"G824*5/12+G836*7/12","v":{"v":2.2725,"d":"2.27"}}]
[1939.09,12.77,0.56,0.81,{"v":14.1,"d":"14.10"},{"v":1939.708333333271,"d":"1939.71"},{"$f":"G824*4/12+G836*8/12","v":2.26}]
[{"v":1939.1,"d":"1939.10"},{"v":12.9,"d":"12.90"},0.58,0.84,{"v":14,"d":"14.00"},{"v":1939.7916666666042,"d":"1939.79"},{"$f":"G824*3/12+G836*9/12","v":{"v":2.2475,"d":"2.25"}}]
[1939.11,12.67,{"v":0.6,"d":"0.60"},0.87,{"v":14,"d":"14.00"},{"v":1939.8749999999375,"d":"1939.87"},{"$f":"G824*2/12+G836*10/12","v":{"v":2.2350000000000003,"d":"2.24"}}]
[1939.12,12.37,0.62,{"v":0.9,"d":"0.90"},{"v":14,"d":"14.00"},{"v":1939.9583333332707,"d":"1939.96"},{"$f":"G824*1/12+G836*11/12","v":{"v":2.2225,"d":"2.22"}}]
[1940.01,{"v":12.3,"d":"12.30"},{"v":0.623333,"d":"0.62"},0.93,{"v":13.9,"d":"13.90"},{"v":1940.041666666604,"d":"1940.04"},2.21]
[1940.02,12.22,{"v":0.626667,"d":"0.63"},0.96,{"v":14,"d":"14.00"},{"v":1940.1249999999372,"d":"1940.12"},{"$f":"G836*11/12+G848*1/12","v":{"v":2.1883333333333335,"d":"2.19"}}]
[1940.03,12.15,0.63,0.99,{"v":14,"d":"14.00"},{"v":1940.2083333332705,"d":"1940.21"},{"$f":"G836*10/12+G848*2/12","v":{"v":2.166666666666667,"d":"2.17"}}]
[1940.04,12.27,{"v":0.636667,"d":"0.64"},{"v":1.00667,"d":"1.01"},{"v":14,"d":"14.00"},{"v":1940.2916666666038,"d":"1940.29"},{"$f":"G836*9/12+G848*3/12","v":{"v":2.145,"d":"2.15"}}]
[1940.05,10.58,{"v":0.643333,"d":"0.64"},{"v":1.02333,"d":"1.02"},{"v":14,"d":"14.00"},{"v":1940.374999999937,"d":"1940.37"},{"$f":"G836*8/12+G848*4/12","v":{"v":2.1233333333333335,"d":"2.12"}}]
[1940.06,9.67,0.65,1.04,{"v":14.1,"d":"14.10"},{"$f":"F840+1/12","v":{"v":1940.4583333332703,"d":"1940.46"}},{"$f":"G836*7/12+G848*5/12","v":{"v":2.1016666666666666,"d":"2.10"}}]
[1940.07,9.99,{"v":0.656667,"d":"0.66"},{"v":1.05333,"d":"1.05"},{"v":14,"d":"14.00"},{"v":1940.5416666666035,"d":"1940.54"},{"$f":"G836*6/12+G848*6/12","v":2.08}]
[1940.08,{"v":10.2,"d":"10.20"},{"v":0.663333,"d":"0.66"},{"v":1.06667,"d":"1.07"},{"v":14,"d":"14.00"},{"v":1940.6249999999368,"d":"1940.62"},{"$f":"G836*5/12+G848*7/12","v":{"v":2.0583333333333336,"d":"2.06"}}]
[1940.09,10.63,0.67,1.08,{"v":14,"d":"14.00"},{"v":1940.70833333327,"d":"1940.71"},{"$f":"G836*4/12+G848*8/12","v":{"v":2.0366666666666666,"d":"2.04"}}]
[{"v":1940.1,"d":"1940.10"},10.73,0.67,1.07,{"v":14,"d":"14.00"},{"v":1940.7916666666033,"d":"1940.79"},{"$f":"G836*3/12+G848*9/12","v":{"v":2.015,"d":"2.02"}}]
[1940.11,10.98,0.67,1.06,{"v":14,"d":"14.00"},{"v":1940.8749999999366,"d":"1940.87"},{"$f":"G836*2/12+G848*10/12","v":{"v":1.9933333333333334,"d":"1.99"}}]
[1940.12,10.53,0.67,1.05,{"v":14.1,"d":"14.10"},{"v":1940.9583333332698,"d":"1940.96"},{"$f":"G836*1/12+G848*11/12","v":{"v":1.9716666666666665,"d":"1.97"}}]
[1941.01,10.55,{"v":0.673333,"d":"0.67"},{"v":1.05333,"d":"1.05"},{"v":14.1,"d":"14.10"},{"v":1941.041666666603,"d":"1941.04"},1.95]
[1941.02,9.89,{"v":0.676667,"d":"0.68"},{"v":1.05667,"d":"1.06"},{"v":14.1,"d":"14.10"},{"v":1941.1249999999363,"d":"1941.12"},{"$f":"G848*11/12+G860*1/12","v":{"v":1.9925,"d":"1.99"}}]
[1941.03,9.95,0.68,1.06,{"v":14.2,"d":"14.20"},{"v":1941.2083333332696,"d":"1941.21"},{"$f":"G848*10/12+G860*2/12","v":{"v":2.035,"d":"2.04"}}]
[1941.04,9.64,{"v":0.683333,"d":"0.68"},1.07,{"v":14.3,"d":"14.30"},{"v":1941.2916666666029,"d":"1941.29"},{"$f":"G848*9/12+G860*3/12","v":{"v":2.0775,"d":"2.08"}}]
[1941.05,9.43,{"v":0.686667,"d":"0.69"},1.08,{"v":14.4,"d":"14.40"},{"v":1941.374999999936,"d":"1941.37"},{"$f":"G848*8/12+G860*4/12","v":2.12}]
[1941.06,9.76,0.69,1.09,{"v":14.7,"d":"14.70"},{"v":1941.4583333332694,"d":"1941.46"},{"$f":"G848*7/12+G860*5/12","v":{"v":2.1625,"d":"2.16"}}]
[1941.07,10.26,{"v":0.693333,"d":"0.69"},{"v":1.12333,"d":"1.12"},{"v":14.7,"d":"14.70"},{"v":1941.5416666666026,"d":"1941.54"},{"$f":"G848*6/12+G860*6/12","v":{"v":2.205,"d":"2.21"}}]
[1941.08,10.21,{"v":0.696667,"d":"0.70"},{"v":1.15667,"d":"1.16"},{"v":14.9,"d":"14.90"},{"v":1941.6249999999359,"d":"1941.62"},{"$f":"G848*5/12+G860*7/12","v":{"v":2.2474999999999996,"d":"2.25"}}]
[1941.09,10.24,{"v":0.7,"d":"0.70"},1.19,{"v":15.1,"d":"15.10"},{"v":1941.7083333332691,"d":"1941.71"},{"$f":"G848*4/12+G860*8/12","v":2.29}]
[{"v":1941.1,"d":"1941.10"},9.83,{"v":0.703333,"d":"0.70"},1.18,{"v":15.3,"d":"15.30"},{"v":1941.7916666666024,"d":"1941.79"},{"$f":"G848*3/12+G860*9/12","v":{"v":2.3325,"d":"2.33"}}]
[1941.11,9.37,{"v":0.706667,"d":"0.71"},1.17,{"v":15.4,"d":"15.40"},{"v":1941.8749999999357,"d":"1941.87"},{"$f":"G848*2/12+G860*10/12","v":{"v":2.3750000000000004,"d":"2.38"}}]
[1941.12,8.76,0.71,1.16,{"v":15.5,"d":"15.50"},{"v":1941.958333333269,"d":"1941.96"},{"$f":"G848*1/12+G860*11/12","v":{"v":2.4175,"d":"2.42"}}]
[1942.01,8.93,{"v":0.703333,"d":"0.70"},1.12,{"v":15.7,"d":"15.70"},{"v":1942.0416666666022,"d":"1942.04"},2.46]
[1942.02,8.65,{"v":0.696667,"d":"0.70"},1.08,{"v":15.8,"d":"15.80"},{"v":1942.1249999999354,"d":"1942.12"},{"$f":"G860*11/12+G872*1/12","v":{"v":2.4608333333333334,"d":"2.46"}}]
[1942.03,8.18,0.69,1.04,{"v":16,"d":"16.00"},{"v":1942.2083333332687,"d":"1942.21"},{"$f":"G860*10/12+G872*2/12","v":{"v":2.461666666666667,"d":"2.46"}}]
[1942.04,7.84,0.68,1.02,{"v":16.1,"d":"16.10"},{"v":1942.291666666602,"d":"1942.29"},{"$f":"G860*9/12+G872*3/12","v":{"v":2.4625,"d":"2.46"}}]
[1942.05,7.93,0.67,{"v":1,"d":"1.00"},{"v":16.3,"d":"16.30"},{"v":1942.3749999999352,"d":"1942.37"},{"$f":"G860*8/12+G872*4/12","v":{"v":2.4633333333333334,"d":"2.46"}}]
[1942.06,8.33,0.66,0.98,{"v":16.3,"d":"16.30"},{"v":1942.4583333332685,"d":"1942.46"},{"$f":"G860*7/12+G872*5/12","v":{"v":2.4641666666666664,"d":"2.46"}}]
[1942.07,8.64,{"v":0.646667,"d":"0.65"},{"v":0.966667,"d":"0.97"},{"v":16.4,"d":"16.40"},{"v":1942.5416666666017,"d":"1942.54"},{"$f":"G860*6/12+G872*6/12","v":{"v":2.465,"d":"2.47"}}]
[1942.08,8.59,{"v":0.633333,"d":"0.63"},{"v":0.953333,"d":"0.95"},{"v":16.5,"d":"16.50"},{"v":1942.624999999935,"d":"1942.62"},{"$f":"G860*5/12+G872*7/12","v":{"v":2.4658333333333338,"d":"2.47"}}]
[1942.09,8.68,0.62,0.94,{"v":16.5,"d":"16.50"},{"v":1942.7083333332682,"d":"1942.71"},{"$f":"G860*4/12+G872*8/12","v":{"v":2.466666666666667,"d":"2.47"}}]
[{"v":1942.1,"d":"1942.10"},9.32,0.61,0.97,{"v":16.7,"d":"16.70"},{"v":1942.7916666666015,"d":"1942.79"},{"$f":"G860*3/12+G872*9/12","v":{"v":2.4675000000000002,"d":"2.47"}}]
[1942.11,9.47,{"v":0.6,"d":"0.60"},{"v":1,"d":"1.00"},{"v":16.8,"d":"16.80"},{"v":1942.8749999999347,"d":"1942.87"},{"$f":"G860*2/12+G872*10/12","v":{"v":2.4683333333333337,"d":"2.47"}}]
[1942.12,9.52,0.59,1.03,{"v":16.9,"d":"16.90"},{"v":1942.958333333268,"d":"1942.96"},{"$f":"G860*1/12+G872*11/12","v":{"v":2.4691666666666667,"d":"2.47"}}]
[1943.01,10.09,0.59,{"v":1.04333,"d":"1.04"},{"v":16.9,"d":"16.90"},{"v":1943.0416666666013,"d":"1943.04"},2.47]
[1943.02,10.69,0.59,{"v":1.05667,"d":"1.06"},{"v":16.9,"d":"16.90"},{"v":1943.1249999999345,"d":"1943.12"},{"$f":"G872*11/12+G884*1/12","v":{"v":2.470833333333333,"d":"2.47"}}]
[1943.03,11.07,0.59,1.07,{"v":17.2,"d":"17.20"},{"v":1943.2083333332678,"d":"1943.21"},{"$f":"G872*10/12+G884*2/12","v":{"v":2.4716666666666667,"d":"2.47"}}]
[1943.04,11.44,0.59,1.08,{"v":17.4,"d":"17.40"},{"v":1943.291666666601,"d":"1943.29"},{"$f":"G872*9/12+G884*3/12","v":{"v":2.4725,"d":"2.47"}}]
[1943.05,11.89,0.59,1.09,{"v":17.5,"d":"17.50"},{"v":1943.3749999999343,"d":"1943.37"},{"$f":"G872*8/12+G884*4/12","v":{"v":2.4733333333333336,"d":"2.47"}}]
[1943.06,{"v":12.1,"d":"12.10"},0.59,{"v":1.1,"d":"1.10"},{"v":17.5,"d":"17.50"},{"v":1943.4583333332675,"d":"1943.46"},{"$f":"G872*7/12+G884*5/12","v":{"v":2.474166666666667,"d":"2.47"}}]
[1943.07,12.35,{"v":0.593333,"d":"0.59"},{"v":1.09333,"d":"1.09"},{"v":17.4,"d":"17.40"},{"v":1943.5416666666008,"d":"1943.54"},{"$f":"G872*6/12+G884*6/12","v":{"v":2.475,"d":"2.48"}}]
[1943.08,11.74,{"v":0.596667,"d":"0.60"},{"v":1.08667,"d":"1.09"},{"v":17.3,"d":"17.30"},{"v":1943.624999999934,"d":"1943.62"},{"$f":"G872*5/12+G884*7/12","v":{"v":2.475833333333333,"d":"2.48"}}]
[1943.09,11.99,{"v":0.6,"d":"0.60"},1.08,{"v":17.4,"d":"17.40"},{"v":1943.7083333332673,"d":"1943.71"},{"$f":"G872*4/12+G884*8/12","v":{"v":2.4766666666666666,"d":"2.48"}}]
[{"v":1943.1,"d":"1943.10"},11.88,{"v":0.603333,"d":"0.60"},{"v":1.03333,"d":"1.03"},{"v":17.4,"d":"17.40"},{"v":1943.7916666666006,"d":"1943.79"},{"$f":"G872*3/12+G884*9/12","v":{"v":2.4775,"d":"2.48"}}]
[1943.11,11.33,{"v":0.606667,"d":"0.61"},{"v":0.986667,"d":"0.99"},{"v":17.4,"d":"17.40"},{"v":1943.8749999999338,"d":"1943.87"},{"$f":"G872*2/12+G884*10/12","v":{"v":2.4783333333333335,"d":"2.48"}}]
[1943.12,11.48,0.61,0.94,{"v":17.4,"d":"17.40"},{"v":1943.958333333267,"d":"1943.96"},{"$f":"G872*1/12+G884*11/12","v":{"v":2.479166666666667,"d":"2.48"}}]
[1944.01,11.85,{"v":0.613333,"d":"0.61"},{"v":0.936667,"d":"0.94"},{"v":17.4,"d":"17.40"},{"v":1944.0416666666003,"d":"1944.04"},2.48]
[1944.02,11.77,{"v":0.616667,"d":"0.62"},{"v":0.933333,"d":"0.93"},{"v":17.4,"d":"17.40"},{"v":1944.1249999999336,"d":"1944.12"},{"$f":"G884*11/12+G896*1/12","v":{"v":2.470833333333333,"d":"2.47"}}]
[1944.03,{"v":12.1,"d":"12.10"},0.62,0.93,{"v":17.4,"d":"17.40"},{"v":1944.2083333332669,"d":"1944.21"},{"$f":"G884*10/12+G896*2/12","v":{"v":2.461666666666667,"d":"2.46"}}]
[1944.04,11.89,{"v":0.623333,"d":"0.62"},{"v":0.926667,"d":"0.93"},{"v":17.5,"d":"17.50"},{"v":1944.2916666666001,"d":"1944.29"},{"$f":"G884*9/12+G896*3/12","v":{"v":2.4525,"d":"2.45"}}]
[1944.05,{"v":12.1,"d":"12.10"},{"v":0.626667,"d":"0.63"},{"v":0.923333,"d":"0.92"},{"v":17.5,"d":"17.50"},{"v":1944.3749999999334,"d":"1944.37"},{"$f":"G884*8/12+G896*4/12","v":{"v":2.4433333333333334,"d":"2.44"}}]
[1944.06,12.67,0.63,0.92,{"v":17.6,"d":"17.60"},{"v":1944.4583333332666,"d":"1944.46"},{"$f":"G884*7/12+G896*5/12","v":{"v":2.4341666666666666,"d":"2.43"}}]
[1944.07,{"v":13,"d":"13.00"},{"v":0.633333,"d":"0.63"},{"v":0.913333,"d":"0.91"},{"v":17.7,"d":"17.70"},{"v":1944.5416666666,"d":"1944.54"},{"$f":"G884*6/12+G896*6/12","v":{"v":2.425,"d":"2.43"}}]
[1944.08,12.81,{"v":0.636667,"d":"0.64"},{"v":0.906667,"d":"0.91"},{"v":17.7,"d":"17.70"},{"v":1944.6249999999332,"d":"1944.62"},{"$f":"G884*5/12+G896*7/12","v":{"v":2.4158333333333335,"d":"2.42"}}]
[1944.09,{"v":12.6,"d":"12.60"},0.64,{"v":0.9,"d":"0.90"},{"v":17.7,"d":"17.70"},{"v":1944.7083333332664,"d":"1944.71"},{"$f":"G884*4/12+G896*8/12","v":{"v":2.4066666666666667,"d":"2.41"}}]
[{"v":1944.1,"d":"1944.10"},12.91,0.64,0.91,{"v":17.7,"d":"17.70"},{"v":1944.7916666665997,"d":"1944.79"},{"$f":"G884*3/12+G896*9/12","v":{"v":2.3975,"d":"2.40"}}]
[1944.11,12.82,0.64,0.92,{"v":17.7,"d":"17.70"},{"v":1944.874999999933,"d":"1944.87"},{"$f":"G884*2/12+G896*10/12","v":{"v":2.3883333333333336,"d":"2.39"}}]
[1944.12,{"v":13.1,"d":"13.10"},0.64,0.93,{"v":17.8,"d":"17.80"},{"v":1944.9583333332662,"d":"1944.96"},{"$f":"G884*1/12+G896*11/12","v":{"v":2.3791666666666664,"d":"2.38"}}]
[1945.01,13.49,{"v":0.643333,"d":"0.64"},0.94,{"v":17.8,"d":"17.80"},{"v":1945.0416666665994,"d":"1945.04"},2.37]
[1945.02,13.94,{"v":0.646667,"d":"0.65"},0.95,{"v":17.8,"d":"17.80"},{"v":1945.1249999999327,"d":"1945.12"},{"$f":"G896*11/12+G908*1/12","v":{"v":2.355,"d":"2.36"}}]
[1945.03,13.93,0.65,0.96,{"v":17.8,"d":"17.80"},{"v":1945.208333333266,"d":"1945.21"},{"$f":"G896*10/12+G908*2/12","v":{"v":2.3400000000000003,"d":"2.34"}}]
[1945.04,14.28,0.65,{"v":0.973333,"d":"0.97"},{"v":17.8,"d":"17.80"},{"v":1945.2916666665992,"d":"1945.29"},{"$f":"G896*9/12+G908*3/12","v":{"v":2.325,"d":"2.33"}}]
[1945.05,14.82,0.65,{"v":0.986667,"d":"0.99"},{"v":17.9,"d":"17.90"},{"v":1945.3749999999325,"d":"1945.37"},{"$f":"G896*8/12+G908*4/12","v":2.31}]
[1945.06,15.09,0.65,{"v":1,"d":"1.00"},{"v":18.1,"d":"18.10"},{"v":1945.4583333332657,"d":"1945.46"},{"$f":"G896*7/12+G908*5/12","v":{"v":2.295,"d":"2.30"}}]
[1945.07,14.78,{"v":0.653333,"d":"0.65"},{"v":0.996667,"d":"1.00"},{"v":18.1,"d":"18.10"},{"v":1945.541666666599,"d":"1945.54"},{"$f":"G896*6/12+G908*6/12","v":{"v":2.2800000000000002,"d":"2.28"}}]
[1945.08,14.83,{"v":0.656667,"d":"0.66"},{"v":0.993333,"d":"0.99"},{"v":18.1,"d":"18.10"},{"v":1945.6249999999322,"d":"1945.62"},{"$f":"G896*5/12+G908*7/12","v":{"v":2.265,"d":"2.27"}}]
[1945.09,15.84,0.66,0.99,{"v":18.1,"d":"18.10"},{"v":1945.7083333332655,"d":"1945.71"},{"$f":"G896*4/12+G908*8/12","v":2.25}]
[{"v":1945.1,"d":"1945.10"},{"v":16.5,"d":"16.50"},0.66,0.98,{"v":18.1,"d":"18.10"},{"$f":"F904+1/12","v":{"v":1945.7916666665988,"d":"1945.79"}},{"$f":"G896*3/12+G908*9/12","v":{"v":2.2350000000000003,"d":"2.24"}}]
[1945.11,17.04,0.66,0.97,{"v":18.1,"d":"18.10"},{"v":1945.874999999932,"d":"1945.87"},{"$f":"G896*2/12+G908*10/12","v":{"v":2.2199999999999998,"d":"2.22"}}]
[1945.12,17.33,0.66,0.96,{"v":18.2,"d":"18.20"},{"v":1945.9583333332653,"d":"1945.96"},{"$f":"G896*1/12+G908*11/12","v":{"v":2.205,"d":"2.21"}}]
[1946.01,18.02,{"v":0.666667,"d":"0.67"},0.94,{"v":18.2,"d":"18.20"},{"v":1946.0416666665985,"d":"1946.04"},2.19]
[1946.02,18.07,{"v":0.673333,"d":"0.67"},0.92,{"v":18.1,"d":"18.10"},{"v":1946.1249999999318,"d":"1946.12"},{"$f":"G908*11/12+G920*1/12","v":{"v":2.195,"d":"2.20"}}]
[1946.03,17.53,0.68,{"v":0.9,"d":"0.90"},{"v":18.3,"d":"18.30"},{"v":1946.208333333265,"d":"1946.21"},{"$f":"G908*10/12+G920*2/12","v":{"v":2.2,"d":"2.20"}}]
[1946.04,18.66,0.68,0.88,{"v":18.4,"d":"18.40"},{"v":1946.2916666665983,"d":"1946.29"},{"$f":"G908*9/12+G920*3/12","v":{"v":2.205,"d":"2.21"}}]
[1946.05,{"v":18.7,"d":"18.70"},0.68,0.86,{"v":18.5,"d":"18.50"},{"v":1946.3749999999316,"d":"1946.37"},{"$f":"G908*8/12+G920*4/12","v":2.21}]
[1946.06,18.58,0.68,0.84,{"v":18.7,"d":"18.70"},{"v":1946.4583333332648,"d":"1946.46"},{"$f":"G908*7/12+G920*5/12","v":{"v":2.215,"d":"2.22"}}]
[1946.07,18.05,{"v":0.683333,"d":"0.68"},{"v":0.856667,"d":"0.86"},{"v":19.8,"d":"19.80"},{"v":1946.541666666598,"d":"1946.54"},{"$f":"G908*6/12+G920*6/12","v":{"v":2.2199999999999998,"d":"2.22"}}]
[1946.08,{"v":17.7,"d":"17.70"},{"v":0.686667,"d":"0.69"},{"v":0.873333,"d":"0.87"},{"v":20.2,"d":"20.20"},{"v":1946.6249999999313,"d":"1946.62"},{"$f":"G908*5/12+G920*7/12","v":{"v":2.225,"d":"2.23"}}]
[1946.09,15.09,0.69,0.89,{"v":20.4,"d":"20.40"},{"v":1946.7083333332646,"d":"1946.71"},{"$f":"G908*4/12+G920*8/12","v":2.23}]
[{"v":1946.1,"d":"1946.10"},14.75,{"v":0.696667,"d":"0.70"},{"v":0.946667,"d":"0.95"},{"v":20.8,"d":"20.80"},{"v":1946.7916666665978,"d":"1946.79"},{"$f":"G908*3/12+G920*9/12","v":{"v":2.235,"d":"2.24"}}]
[1946.11,14.69,{"v":0.703333,"d":"0.70"},{"v":1.00333,"d":"1.00"},{"v":21.3,"d":"21.30"},{"v":1946.874999999931,"d":"1946.87"},{"$f":"G908*2/12+G920*10/12","v":2.24}]
[1946.12,15.13,0.71,1.06,{"v":21.5,"d":"21.50"},{"v":1946.9583333332644,"d":"1946.96"},{"$f":"G908*1/12+G920*11/12","v":{"v":2.245,"d":"2.25"}}]
[1947.01,15.21,{"v":0.713333,"d":"0.71"},1.13,{"v":21.5,"d":"21.50"},{"v":1947.0416666665976,"d":"1947.04"},2.25]
[1947.02,{"v":15.8,"d":"15.80"},{"v":0.716667,"d":"0.72"},{"v":1.2,"d":"1.20"},{"v":21.5,"d":"21.50"},{"v":1947.1249999999309,"d":"1947.12"},{"$f":"G920*11/12+G932*1/12","v":{"v":2.265833333333333,"d":"2.27"}}]
[1947.03,15.16,0.72,1.27,{"v":21.9,"d":"21.90"},{"v":1947.2083333332641,"d":"1947.21"},{"$f":"G920*10/12+G932*2/12","v":{"v":2.2816666666666667,"d":"2.28"}}]
[1947.04,{"v":14.6,"d":"14.60"},{"v":0.733333,"d":"0.73"},{"v":1.32667,"d":"1.33"},{"v":21.9,"d":"21.90"},{"v":1947.2916666665974,"d":"1947.29"},{"$f":"G920*9/12+G932*3/12","v":{"v":2.2975,"d":"2.30"}}]
[1947.05,14.34,{"v":0.746667,"d":"0.75"},{"v":1.38333,"d":"1.38"},{"v":21.9,"d":"21.90"},{"v":1947.3749999999307,"d":"1947.37"},{"$f":"G920*8/12+G932*4/12","v":{"v":2.3133333333333335,"d":"2.31"}}]
[1947.06,14.84,0.76,1.44,{"v":22,"d":"22.00"},{"v":1947.458333333264,"d":"1947.46"},{"$f":"G920*7/12+G932*5/12","v":{"v":2.3291666666666666,"d":"2.33"}}]
[1947.07,15.77,0.77,{"v":1.47667,"d":"1.48"},{"v":22.2,"d":"22.20"},{"v":1947.5416666665972,"d":"1947.54"},{"$f":"G920*6/12+G932*6/12","v":{"v":2.3449999999999998,"d":"2.35"}}]
[1947.08,15.46,0.78,{"v":1.51333,"d":"1.51"},{"v":22.5,"d":"22.50"},{"v":1947.6249999999304,"d":"1947.62"},{"$f":"G920*5/12+G932*7/12","v":{"v":2.360833333333333,"d":"2.36"}}]
[1947.09,15.06,0.79,1.55,{"v":23,"d":"23.00"},{"v":1947.7083333332637,"d":"1947.71"},{"$f":"G920*4/12+G932*8/12","v":{"v":2.376666666666667,"d":"2.38"}}]
[{"v":1947.1,"d":"1947.10"},15.45,{"v":0.806667,"d":"0.81"},1.57,{"v":23,"d":"23.00"},{"v":1947.791666666597,"d":"1947.79"},{"$f":"G920*3/12+G932*9/12","v":{"v":2.3925,"d":"2.39"}}]
[1947.11,15.27,{"v":0.823333,"d":"0.82"},1.59,{"v":23.1,"d":"23.10"},{"v":1947.8749999999302,"d":"1947.87"},{"$f":"G920*2/12+G932*10/12","v":{"v":2.408333333333333,"d":"2.41"}}]
[1947.12,15.03,0.84,1.61,{"v":23.4,"d":"23.40"},{"v":1947.9583333332635,"d":"1947.96"},{"$f":"G920*1/12+G932*11/12","v":{"v":2.424166666666667,"d":"2.42"}}]
[1948.01,14.83,{"v":0.843333,"d":"0.84"},{"v":1.64333,"d":"1.64"},{"v":23.7,"d":"23.70"},{"v":1948.0416666665967,"d":"1948.04"},2.44]
[1948.02,{"v":14.1,"d":"14.10"},{"v":0.846667,"d":"0.85"},{"v":1.67667,"d":"1.68"},{"v":23.5,"d":"23.50"},{"v":1948.12499999993,"d":"1948.12"},{"$f":"G932*11/12+G944*1/12","v":{"v":2.4291666666666667,"d":"2.43"}}]
[1948.03,{"v":14.3,"d":"14.30"},0.85,1.71,{"v":23.4,"d":"23.40"},{"v":1948.2083333332632,"d":"1948.21"},{"$f":"G932*10/12+G944*2/12","v":{"v":2.418333333333333,"d":"2.42"}}]
[1948.04,{"v":15.4,"d":"15.40"},0.85,1.76,{"v":23.8,"d":"23.80"},{"v":1948.2916666665965,"d":"1948.29"},{"$f":"G932*9/12+G944*3/12","v":{"v":2.4075,"d":"2.41"}}]
[1948.05,16.15,0.85,1.81,{"v":23.9,"d":"23.90"},{"v":1948.3749999999297,"d":"1948.37"},{"$f":"G932*8/12+G944*4/12","v":{"v":2.3966666666666665,"d":"2.40"}}]
[1948.06,16.82,0.85,1.86,{"v":24.1,"d":"24.10"},{"v":1948.458333333263,"d":"1948.46"},{"$f":"G932*7/12+G944*5/12","v":{"v":2.3858333333333333,"d":"2.39"}}]
[1948.07,16.42,{"v":0.856667,"d":"0.86"},1.93,{"v":24.4,"d":"24.40"},{"v":1948.5416666665963,"d":"1948.54"},{"$f":"G932*6/12+G944*6/12","v":{"v":2.375,"d":"2.38"}}]
[1948.08,15.94,{"v":0.863333,"d":"0.86"},{"v":2,"d":"2.00"},{"v":24.5,"d":"24.50"},{"v":1948.6249999999295,"d":"1948.62"},{"$f":"G932*5/12+G944*7/12","v":{"v":2.3641666666666667,"d":"2.36"}}]
[1948.09,15.76,0.87,2.07,{"v":24.5,"d":"24.50"},{"v":1948.7083333332628,"d":"1948.71"},{"$f":"G932*4/12+G944*8/12","v":{"v":2.3533333333333335,"d":"2.35"}}]
[{"v":1948.1,"d":"1948.10"},16.19,0.89,{"v":2.14333,"d":"2.14"},{"v":24.4,"d":"24.40"},{"v":1948.791666666596,"d":"1948.79"},{"$f":"G932*3/12+G944*9/12","v":{"v":2.3425,"d":"2.34"}}]
[1948.11,15.29,0.91,{"v":2.21667,"d":"2.22"},{"v":24.2,"d":"24.20"},{"v":1948.8749999999293,"d":"1948.87"},{"$f":"G932*2/12+G944*10/12","v":{"v":2.3316666666666666,"d":"2.33"}}]
[1948.12,15.19,0.93,2.29,{"v":24.1,"d":"24.10"},{"v":1948.9583333332625,"d":"1948.96"},{"$f":"G932*1/12+G944*11/12","v":{"v":2.3208333333333333,"d":"2.32"}}]
[1949.01,15.36,{"v":0.946667,"d":"0.95"},2.32,{"v":24,"d":"24.00"},{"v":1949.0416666665958,"d":"1949.04"},2.31]
[1949.02,14.77,{"v":0.963333,"d":"0.96"},2.35,{"v":23.8,"d":"23.80"},{"v":1949.124999999929,"d":"1949.12"},{"$f":"G944*11/12+G956*1/12","v":{"v":2.3108333333333335,"d":"2.31"}}]
[1949.03,14.91,0.98,2.38,{"v":23.8,"d":"23.80"},{"v":1949.2083333332623,"d":"1949.21"},{"$f":"G944*10/12+G956*2/12","v":{"v":2.3116666666666665,"d":"2.31"}}]
[1949.04,14.89,{"v":0.993333,"d":"0.99"},{"v":2.38667,"d":"2.39"},{"v":23.9,"d":"23.90"},{"v":1949.2916666665956,"d":"1949.29"},{"$f":"G944*9/12+G956*3/12","v":{"v":2.3125,"d":"2.31"}}]
[1949.05,14.78,{"v":1.00667,"d":"1.01"},{"v":2.39333,"d":"2.39"},{"v":23.8,"d":"23.80"},{"v":1949.3749999999288,"d":"1949.37"},{"$f":"G944*8/12+G956*4/12","v":{"v":2.3133333333333335,"d":"2.31"}}]
[1949.06,13.97,1.02,{"v":2.4,"d":"2.40"},{"v":23.9,"d":"23.90"},{"v":1949.458333333262,"d":"1949.46"},{"$f":"G944*7/12+G956*5/12","v":{"v":2.314166666666667,"d":"2.31"}}]
[1949.07,14.76,{"v":1.02667,"d":"1.03"},{"v":2.39667,"d":"2.40"},{"v":23.7,"d":"23.70"},{"v":1949.5416666665953,"d":"1949.54"},{"$f":"G944*6/12+G956*6/12","v":{"v":2.315,"d":"2.32"}}]
[1949.08,15.29,{"v":1.03333,"d":"1.03"},{"v":2.39333,"d":"2.39"},{"v":23.8,"d":"23.80"},{"v":1949.6249999999286,"d":"1949.62"},{"$f":"G944*5/12+G956*7/12","v":{"v":2.3158333333333334,"d":"2.32"}}]
[1949.09,15.49,1.04,2.39,{"v":23.9,"d":"23.90"},{"v":1949.7083333332619,"d":"1949.71"},{"$f":"G944*4/12+G956*8/12","v":{"v":2.3166666666666664,"d":"2.32"}}]
[{"v":1949.1,"d":"1949.10"},15.89,{"v":1.07333,"d":"1.07"},{"v":2.36667,"d":"2.37"},{"v":23.7,"d":"23.70"},{"v":1949.7916666665951,"d":"1949.79"},{"$f":"G944*3/12+G956*9/12","v":{"v":2.3175,"d":"2.32"}}]
[1949.11,16.11,{"v":1.10667,"d":"1.11"},{"v":2.34333,"d":"2.34"},{"v":23.8,"d":"23.80"},{"v":1949.8749999999284,"d":"1949.87"},{"$f":"G944*2/12+G956*10/12","v":{"v":2.3183333333333334,"d":"2.32"}}]
[1949.12,16.54,1.14,2.32,{"v":23.6,"d":"23.60"},{"v":1949.9583333332616,"d":"1949.96"},{"$f":"G944*1/12+G956*11/12","v":{"v":2.3191666666666664,"d":"2.32"}}]
[1950.01,16.88,1.15,{"v":2.33667,"d":"2.34"},{"v":23.5,"d":"23.50"},{"v":1950.041666666595,"d":"1950.04"},2.32]
[1950.02,17.21,1.16,{"v":2.35333,"d":"2.35"},{"v":23.5,"d":"23.50"},{"v":1950.1249999999281,"d":"1950.12"},{"$f":"G956*11/12+G968*1/12","v":{"v":2.3408333333333333,"d":"2.34"}}]
[1950.03,17.35,1.17,2.37,{"v":23.6,"d":"23.60"},{"v":1950.2083333332614,"d":"1950.21"},{"$f":"G956*10/12+G968*2/12","v":{"v":2.361666666666667,"d":"2.36"}}]
[1950.04,17.84,1.18,{"v":2.42667,"d":"2.43"},{"v":23.6,"d":"23.60"},{"v":1950.2916666665947,"d":"1950.29"},{"$f":"G956*9/12+G968*3/12","v":{"v":2.3825,"d":"2.38"}}]
[1950.05,18.44,1.19,{"v":2.48333,"d":"2.48"},{"v":23.7,"d":"23.70"},{"v":1950.374999999928,"d":"1950.37"},{"$f":"G956*8/12+G968*4/12","v":{"v":2.4033333333333333,"d":"2.40"}}]
[1950.06,18.74,{"v":1.2,"d":"1.20"},2.54,{"v":23.8,"d":"23.80"},{"v":1950.4583333332612,"d":"1950.46"},{"$f":"G956*7/12+G968*5/12","v":{"v":2.4241666666666664,"d":"2.42"}}]
[1950.07,17.38,{"v":1.24333,"d":"1.24"},{"v":2.6,"d":"2.60"},{"v":24.1,"d":"24.10"},{"v":1950.5416666665944,"d":"1950.54"},{"$f":"G956*6/12+G968*6/12","v":{"v":2.445,"d":"2.45"}}]
[1950.08,18.43,{"v":1.28667,"d":"1.29"},2.66,{"v":24.3,"d":"24.30"},{"v":1950.6249999999277,"d":"1950.62"},{"$f":"G956*5/12+G968*7/12","v":{"v":2.4658333333333333,"d":"2.47"}}]
[1950.09,19.08,1.33,2.72,{"v":24.4,"d":"24.40"},{"v":1950.708333333261,"d":"1950.71"},{"$f":"G956*4/12+G968*8/12","v":{"v":2.4866666666666664,"d":"2.49"}}]
[{"v":1950.1,"d":"1950.10"},19.87,{"v":1.37667,"d":"1.38"},2.76,{"v":24.6,"d":"24.60"},{"v":1950.7916666665942,"d":"1950.79"},{"$f":"G956*3/12+G968*9/12","v":{"v":2.5075,"d":"2.51"}}]
[1950.11,19.83,{"v":1.42333,"d":"1.42"},{"v":2.8,"d":"2.80"},{"v":24.7,"d":"24.70"},{"v":1950.8749999999275,"d":"1950.87"},{"$f":"G956*2/12+G968*10/12","v":{"v":2.5283333333333333,"d":"2.53"}}]
[1950.12,19.75,1.47,2.84,{"v":25,"d":"25.00"},{"v":1950.9583333332607,"d":"1950.96"},{"$f":"G956*1/12+G968*11/12","v":{"v":2.549166666666667,"d":"2.55"}}]
[1951.01,21.21,{"v":1.48667,"d":"1.49"},{"v":2.83667,"d":"2.84"},{"v":25.4,"d":"25.40"},{"v":1951.041666666594,"d":"1951.04"},2.57]
[1951.02,{"v":22,"d":"22.00"},{"v":1.50333,"d":"1.50"},{"v":2.83333,"d":"2.83"},{"v":25.7,"d":"25.70"},{"$f":"F968+1/12","v":{"v":1951.1249999999272,"d":"1951.12"}},{"$f":"G968*11/12+G980*1/12","v":{"v":2.5791666666666666,"d":"2.58"}}]
[1951.03,21.63,1.52,2.83,{"v":25.8,"d":"25.80"},{"v":1951.2083333332605,"d":"1951.21"},{"$f":"G968*10/12+G980*2/12","v":{"v":2.5883333333333334,"d":"2.59"}}]
[1951.04,21.92,{"v":1.53333,"d":"1.53"},{"v":2.79333,"d":"2.79"},{"v":25.8,"d":"25.80"},{"v":1951.2916666665938,"d":"1951.29"},{"$f":"G968*9/12+G980*3/12","v":{"v":2.5975,"d":"2.60"}}]
[1951.05,21.93,{"v":1.54667,"d":"1.55"},{"v":2.75667,"d":"2.76"},{"v":25.9,"d":"25.90"},{"v":1951.374999999927,"d":"1951.37"},{"$f":"G968*8/12+G980*4/12","v":{"v":2.6066666666666665,"d":"2.61"}}]
[1951.06,21.55,1.56,2.72,{"v":25.9,"d":"25.90"},{"v":1951.4583333332603,"d":"1951.46"},{"$f":"G968*7/12+G980*5/12","v":{"v":2.6158333333333332,"d":"2.62"}}]
[1951.07,21.93,{"v":1.54667,"d":"1.55"},2.65,{"v":25.9,"d":"25.90"},{"v":1951.5416666665935,"d":"1951.54"},{"$f":"G968*6/12+G980*6/12","v":{"v":2.625,"d":"2.63"}}]
[1951.08,22.89,{"v":1.53333,"d":"1.53"},2.58,{"v":25.9,"d":"25.90"},{"v":1951.6249999999268,"d":"1951.62"},{"$f":"G968*5/12+G980*7/12","v":{"v":2.6341666666666668,"d":"2.63"}}]
[1951.09,23.48,1.52,2.51,{"v":26.1,"d":"26.10"},{"v":1951.70833333326,"d":"1951.71"},{"$f":"G968*4/12+G980*8/12","v":{"v":2.6433333333333335,"d":"2.64"}}]
[{"v":1951.1,"d":"1951.10"},23.36,{"v":1.48333,"d":"1.48"},{"v":2.48667,"d":"2.49"},{"v":26.2,"d":"26.20"},{"v":1951.7916666665933,"d":"1951.79"},{"$f":"G968*3/12+G980*9/12","v":{"v":2.6525000000000003,"d":"2.65"}}]
[1951.11,22.71,{"v":1.44667,"d":"1.45"},{"v":2.46333,"d":"2.46"},{"v":26.4,"d":"26.40"},{"v":1951.8749999999266,"d":"1951.87"},{"$f":"G968*2/12+G980*10/12","v":{"v":2.6616666666666666,"d":"2.66"}}]
[1951.12,23.41,1.41,2.44,{"v":26.5,"d":"26.50"},{"v":1951.9583333332598,"d":"1951.96"},{"$f":"G968*1/12+G980*11/12","v":{"v":2.6708333333333334,"d":"2.67"}}]
[1952.01,24.19,{"v":1.41333,"d":"1.41"},{"v":2.42667,"d":"2.43"},{"v":26.5,"d":"26.50"},{"v":1952.041666666593,"d":"1952.04"},2.68]
[1952.02,23.75,{"v":1.41667,"d":"1.42"},{"v":2.41333,"d":"2.41"},{"v":26.3,"d":"26.30"},{"v":1952.1249999999263,"d":"1952.12"},{"$f":"G980*11/12+G992*1/12","v":{"v":2.6925,"d":"2.69"}}]
[1952.03,23.81,1.42,{"v":2.4,"d":"2.40"},{"v":26.3,"d":"26.30"},{"v":1952.2083333332596,"d":"1952.21"},{"$f":"G980*10/12+G992*2/12","v":{"v":2.705,"d":"2.71"}}]
[1952.04,23.74,1.43,2.38,{"v":26.4,"d":"26.40"},{"v":1952.2916666665928,"d":"1952.29"},{"$f":"G980*9/12+G992*3/12","v":{"v":2.7175000000000002,"d":"2.72"}}]
[1952.05,23.73,1.44,2.36,{"v":26.4,"d":"26.40"},{"v":1952.374999999926,"d":"1952.37"},{"$f":"G980*8/12+G992*4/12","v":{"v":2.7300000000000004,"d":"2.73"}}]
[1952.06,24.38,1.45,2.34,{"v":26.5,"d":"26.50"},{"v":1952.4583333332594,"d":"1952.46"},{"$f":"G980*7/12+G992*5/12","v":{"v":2.7425,"d":"2.74"}}]
[1952.07,25.08,1.45,{"v":2.34667,"d":"2.35"},{"v":26.7,"d":"26.70"},{"v":1952.5416666665926,"d":"1952.54"},{"$f":"G980*6/12+G992*6/12","v":{"v":2.755,"d":"2.76"}}]
[1952.08,25.18,1.45,{"v":2.35333,"d":"2.35"},{"v":26.7,"d":"26.70"},{"v":1952.6249999999259,"d":"1952.62"},{"$f":"G980*5/12+G992*7/12","v":{"v":2.7675,"d":"2.77"}}]
[1952.09,24.78,1.45,2.36,{"v":26.7,"d":"26.70"},{"v":1952.7083333332591,"d":"1952.71"},{"$f":"G980*4/12+G992*8/12","v":{"v":2.7800000000000002,"d":"2.78"}}]
[{"v":1952.1,"d":"1952.10"},24.26,{"v":1.43667,"d":"1.44"},{"v":2.37333,"d":"2.37"},{"v":26.7,"d":"26.70"},{"v":1952.7916666665924,"d":"1952.79"},{"$f":"G980*3/12+G992*9/12","v":{"v":2.7925,"d":"2.79"}}]
[1952.11,25.03,{"v":1.42333,"d":"1.42"},{"v":2.38667,"d":"2.39"},{"v":26.7,"d":"26.70"},{"v":1952.8749999999256,"d":"1952.87"},{"$f":"G980*2/12+G992*10/12","v":{"v":2.805,"d":"2.81"}}]
[1952.12,26.04,1.41,{"v":2.4,"d":"2.40"},{"v":26.7,"d":"26.70"},{"v":1952.958333333259,"d":"1952.96"},{"$f":"G980*1/12+G992*11/12","v":{"v":2.8175,"d":"2.82"}}]
[1953.01,26.18,1.41,2.41,{"v":26.6,"d":"26.60"},{"v":1953.0416666665922,"d":"1953.04"},2.83]
[1953.02,25.86,1.41,2.42,{"v":26.5,"d":"26.50"},{"v":1953.1249999999254,"d":"1953.12"},{"v":2.8008333333333333,"d":"2.80"}]
[1953.03,25.99,1.41,2.43,{"v":26.6,"d":"26.60"},{"v":1953.2083333332587,"d":"1953.21"},{"v":2.7716666666666665,"d":"2.77"}]
[1953.04,24.71,{"v":1.41333,"d":"1.41"},{"v":2.45667,"d":"2.46"},{"v":26.6,"d":"26.60"},{"v":1953.291666666592,"d":"1953.29"},2.83]
[1953.05,24.84,{"v":1.41667,"d":"1.42"},{"v":2.48333,"d":"2.48"},{"v":26.7,"d":"26.70"},{"v":1953.3749999999252,"d":"1953.37"},3.05]
[1953.06,23.95,1.42,2.51,{"v":26.8,"d":"26.80"},{"v":1953.4583333332585,"d":"1953.46"},3.11]
[1953.07,24.29,1.42,{"v":2.52333,"d":"2.52"},{"v":26.8,"d":"26.80"},{"v":1953.5416666665917,"d":"1953.54"},2.93]
[1953.08,24.39,1.42,{"v":2.53667,"d":"2.54"},{"v":26.9,"d":"26.90"},{"v":1953.624999999925,"d":"1953.62"},2.95]
[1953.09,23.27,1.42,2.55,{"v":26.9,"d":"26.90"},{"v":1953.7083333332582,"d":"1953.71"},2.87]
[{"v":1953.1,"d":"1953.10"},23.97,1.43,{"v":2.53667,"d":"2.54"},{"v":27,"d":"27.00"},{"v":1953.7916666665915,"d":"1953.79"},2.66]
[1953.11,{"v":24.5,"d":"24.50"},1.44,{"v":2.52333,"d":"2.52"},{"v":26.9,"d":"26.90"},{"v":1953.8749999999247,"d":"1953.87"},2.68]
[1953.12,24.83,1.45,2.51,{"v":26.9,"d":"26.90"},{"v":1953.958333333258,"d":"1953.96"},2.59]
[1954.01,25.46,{"v":1.45667,"d":"1.46"},{"v":2.52333,"d":"2.52"},{"v":26.9,"d":"26.90"},{"v":1954.0416666665913,"d":"1954.04"},2.48]
[1954.02,26.02,{"v":1.46333,"d":"1.46"},{"v":2.53667,"d":"2.54"},{"v":26.9,"d":"26.90"},{"v":1954.1249999999245,"d":"1954.12"},2.47]
[1954.03,26.57,1.47,2.55,{"v":26.9,"d":"26.90"},{"v":1954.2083333332578,"d":"1954.21"},2.37]
[1954.04,27.63,{"v":1.46333,"d":"1.46"},{"v":2.57333,"d":"2.57"},{"v":26.8,"d":"26.80"},{"v":1954.291666666591,"d":"1954.29"},2.29]
[1954.05,28.73,{"v":1.45667,"d":"1.46"},{"v":2.59667,"d":"2.60"},{"v":26.9,"d":"26.90"},{"v":1954.3749999999243,"d":"1954.37"},2.37]
[1954.06,28.96,1.45,2.62,{"v":26.9,"d":"26.90"},{"v":1954.4583333332575,"d":"1954.46"},2.38]
[1954.07,30.13,{"v":1.45667,"d":"1.46"},{"v":2.62333,"d":"2.62"},{"v":26.9,"d":"26.90"},{"v":1954.5416666665908,"d":"1954.54"},{"v":2.3,"d":"2.30"}]
[1954.08,30.73,{"v":1.46333,"d":"1.46"},{"v":2.62667,"d":"2.63"},{"v":26.9,"d":"26.90"},{"v":1954.624999999924,"d":"1954.62"},2.36]
[1954.09,31.45,1.47,2.63,{"v":26.8,"d":"26.80"},{"v":1954.7083333332573,"d":"1954.71"},2.38]
[{"v":1954.1,"d":"1954.10"},32.18,{"v":1.49333,"d":"1.49"},{"v":2.67667,"d":"2.68"},{"v":26.8,"d":"26.80"},{"v":1954.7916666665906,"d":"1954.79"},2.43]
[1954.11,33.44,{"v":1.51667,"d":"1.52"},{"v":2.72333,"d":"2.72"},{"v":26.8,"d":"26.80"},{"v":1954.8749999999238,"d":"1954.87"},2.48]
[1954.12,34.97,1.54,2.77,{"v":26.7,"d":"26.70"},{"v":1954.958333333257,"d":"1954.96"},2.51]
[1955.01,{"v":35.6,"d":"35.60"},{"v":1.54667,"d":"1.55"},{"v":2.83333,"d":"2.83"},{"v":26.7,"d":"26.70"},{"v":1955.0416666665903,"d":"1955.04"},2.61]
[1955.02,36.79,{"v":1.55333,"d":"1.55"},{"v":2.89667,"d":"2.90"},{"v":26.7,"d":"26.70"},{"v":1955.1249999999236,"d":"1955.12"},2.65]
[1955.03,{"v":36.5,"d":"36.50"},1.56,2.96,{"v":26.7,"d":"26.70"},{"v":1955.2083333332569,"d":"1955.21"},2.68]
[1955.04,37.76,{"v":1.56333,"d":"1.56"},{"v":3.04667,"d":"3.05"},{"v":26.7,"d":"26.70"},{"v":1955.2916666665901,"d":"1955.29"},2.75]
[1955.05,{"v":37.6,"d":"37.60"},{"v":1.56667,"d":"1.57"},{"v":3.13333,"d":"3.13"},{"v":26.7,"d":"26.70"},{"v":1955.3749999999234,"d":"1955.37"},2.76]
[1955.06,39.78,1.57,3.22,{"v":26.7,"d":"26.70"},{"v":1955.4583333332566,"d":"1955.46"},2.78]
[1955.07,42.69,{"v":1.58667,"d":"1.59"},{"v":3.29333,"d":"3.29"},{"v":26.8,"d":"26.80"},{"v":1955.54166666659,"d":"1955.54"},{"v":2.9,"d":"2.90"}]
[1955.08,42.43,{"v":1.60333,"d":"1.60"},{"v":3.36667,"d":"3.37"},{"v":26.8,"d":"26.80"},{"v":1955.6249999999231,"d":"1955.62"},2.97]
[1955.09,44.34,1.62,3.44,{"v":26.9,"d":"26.90"},{"v":1955.7083333332564,"d":"1955.71"},2.97]
[{"v":1955.1,"d":"1955.10"},42.11,{"v":1.62667,"d":"1.63"},{"v":3.5,"d":"3.50"},{"v":26.9,"d":"26.90"},{"v":1955.7916666665897,"d":"1955.79"},2.88]
[1955.11,44.95,{"v":1.63333,"d":"1.63"},3.56,{"v":26.9,"d":"26.90"},{"v":1955.874999999923,"d":"1955.87"},2.89]
[1955.12,45.37,1.64,3.62,{"v":26.8,"d":"26.80"},{"v":1955.9583333332562,"d":"1955.96"},2.96]
[1956.01,44.15,1.67,{"v":3.64333,"d":"3.64"},{"v":26.8,"d":"26.80"},{"v":1956.0416666665894,"d":"1956.04"},{"v":2.9,"d":"2.90"}]
[1956.02,44.43,{"v":1.7,"d":"1.70"},{"v":3.66667,"d":"3.67"},{"v":26.8,"d":"26.80"},{"v":1956.1249999999227,"d":"1956.12"},2.84]
[1956.03,47.49,1.73,3.69,{"v":26.8,"d":"26.80"},{"v":1956.208333333256,"d":"1956.21"},2.96]
[1956.04,48.05,{"v":1.75333,"d":"1.75"},3.66,{"v":26.9,"d":"26.90"},{"v":1956.2916666665892,"d":"1956.29"},3.18]
[1956.05,46.54,{"v":1.77667,"d":"1.78"},3.63,{"v":27,"d":"27.00"},{"v":1956.3749999999225,"d":"1956.37"},3.07]
[1956.06,46.27,{"v":1.8,"d":"1.80"},{"v":3.6,"d":"3.60"},{"v":27.2,"d":"27.20"},{"$f":"F1032+1/12","v":{"v":1956.4583333332557,"d":"1956.46"}},{"v":3,"d":"3.00"}]
[1956.07,48.78,{"v":1.81333,"d":"1.81"},{"v":3.55333,"d":"3.55"},{"v":27.4,"d":"27.40"},{"v":1956.541666666589,"d":"1956.54"},3.11]
[1956.08,48.49,{"v":1.82667,"d":"1.83"},{"v":3.50667,"d":"3.51"},{"v":27.3,"d":"27.30"},{"v":1956.6249999999222,"d":"1956.62"},3.33]
[1956.09,46.84,1.84,3.46,{"v":27.4,"d":"27.40"},{"v":1956.7083333332555,"d":"1956.71"},3.38]
[{"v":1956.1,"d":"1956.10"},46.24,{"v":1.80667,"d":"1.81"},{"v":3.44333,"d":"3.44"},{"v":27.5,"d":"27.50"},{"v":1956.7916666665888,"d":"1956.79"},3.34]
[1956.11,45.76,{"v":1.77333,"d":"1.77"},{"v":3.42667,"d":"3.43"},{"v":27.5,"d":"27.50"},{"v":1956.874999999922,"d":"1956.87"},3.49]
[1956.12,46.44,1.74,3.41,{"v":27.6,"d":"27.60"},{"v":1956.9583333332553,"d":"1956.96"},3.59]
[1957.01,45.43,{"v":1.73667,"d":"1.74"},{"v":3.40667,"d":"3.41"},{"v":27.6,"d":"27.60"},{"v":1957.0416666665885,"d":"1957.04"},3.46]
[1957.02,43.47,{"v":1.73333,"d":"1.73"},{"v":3.40333,"d":"3.40"},{"v":27.7,"d":"27.70"},{"v":1957.1249999999218,"d":"1957.12"},3.34]
[1957.03,44.03,1.73,{"v":3.4,"d":"3.40"},{"v":27.8,"d":"27.80"},{"v":1957.208333333255,"d":"1957.21"},3.41]
[1957.04,45.05,1.73,{"v":3.40667,"d":"3.41"},{"v":27.9,"d":"27.90"},{"v":1957.2916666665883,"d":"1957.29"},3.48]
[1957.05,46.78,1.73,{"v":3.41333,"d":"3.41"},{"v":28,"d":"28.00"},{"v":1957.3749999999216,"d":"1957.37"},{"v":3.6,"d":"3.60"}]
[1957.06,47.55,1.73,3.42,{"v":28.1,"d":"28.10"},{"v":1957.4583333332548,"d":"1957.46"},{"v":3.8,"d":"3.80"}]
[1957.07,48.51,1.74,{"v":3.43667,"d":"3.44"},{"v":28.3,"d":"28.30"},{"v":1957.541666666588,"d":"1957.54"},3.93]
[1957.08,45.84,1.75,{"v":3.45333,"d":"3.45"},{"v":28.3,"d":"28.30"},{"v":1957.6249999999213,"d":"1957.62"},3.93]
[1957.09,43.98,1.76,3.47,{"v":28.3,"d":"28.30"},{"v":1957.7083333332546,"d":"1957.71"},3.92]
[{"v":1957.1,"d":"1957.10"},41.24,1.77,{"v":3.43667,"d":"3.44"},{"v":28.3,"d":"28.30"},{"v":1957.7916666665878,"d":"1957.79"},3.97]
[1957.11,40.35,1.78,{"v":3.40333,"d":"3.40"},{"v":28.4,"d":"28.40"},{"v":1957.874999999921,"d":"1957.87"},3.72]
[1957.12,40.33,1.79,3.37,{"v":28.4,"d":"28.40"},{"v":1957.9583333332544,"d":"1957.96"},3.21]
[1958.01,41.12,{"v":1.78333,"d":"1.78"},{"v":3.29333,"d":"3.29"},{"v":28.6,"d":"28.60"},{"v":1958.0416666665876,"d":"1958.04"},3.09]
[1958.02,41.26,{"v":1.77667,"d":"1.78"},{"v":3.21667,"d":"3.22"},{"v":28.6,"d":"28.60"},{"v":1958.1249999999209,"d":"1958.12"},3.05]
[1958.03,42.11,1.77,3.14,{"v":28.8,"d":"28.80"},{"v":1958.2083333332541,"d":"1958.21"},2.98]
[1958.04,42.34,{"v":1.75667,"d":"1.76"},3.07,{"v":28.9,"d":"28.90"},{"v":1958.2916666665874,"d":"1958.29"},2.88]
[1958.05,{"v":43.7,"d":"43.70"},{"v":1.74333,"d":"1.74"},{"v":3,"d":"3.00"},{"v":28.9,"d":"28.90"},{"v":1958.3749999999206,"d":"1958.37"},2.92]
[1958.06,44.75,1.73,2.93,{"v":28.9,"d":"28.90"},{"v":1958.458333333254,"d":"1958.46"},2.97]
[1958.07,45.98,1.73,{"v":2.91333,"d":"2.91"},{"v":29,"d":"29.00"},{"v":1958.5416666665872,"d":"1958.54"},{"v":3.2,"d":"3.20"}]
[1958.08,{"v":47.7,"d":"47.70"},1.73,{"v":2.89667,"d":"2.90"},{"v":28.9,"d":"28.90"},{"v":1958.6249999999204,"d":"1958.62"},3.54]
[1958.09,48.96,1.73,2.88,{"v":28.9,"d":"28.90"},{"v":1958.7083333332537,"d":"1958.71"},3.76]
[{"v":1958.1,"d":"1958.10"},50.95,{"v":1.73667,"d":"1.74"},{"v":2.88333,"d":"2.88"},{"v":28.9,"d":"28.90"},{"v":1958.791666666587,"d":"1958.79"},{"v":3.8,"d":"3.80"}]
[1958.11,{"v":52.5,"d":"52.50"},{"v":1.74333,"d":"1.74"},{"v":2.88667,"d":"2.89"},{"v":29,"d":"29.00"},{"v":1958.8749999999202,"d":"1958.87"},3.74]
[1958.12,53.49,1.75,2.89,{"v":28.9,"d":"28.90"},{"v":1958.9583333332534,"d":"1958.96"},3.86]
[1959.01,55.62,{"v":1.75667,"d":"1.76"},{"v":2.96333,"d":"2.96"},{"v":29,"d":"29.00"},{"v":1959.0416666665867,"d":"1959.04"},4.02]
[1959.02,54.77,{"v":1.76333,"d":"1.76"},{"v":3.03667,"d":"3.04"},{"v":28.9,"d":"28.90"},{"v":1959.12499999992,"d":"1959.12"},3.96]
[1959.03,56.16,1.77,3.11,{"v":28.9,"d":"28.90"},{"v":1959.2083333332532,"d":"1959.21"},3.99]
[1959.04,{"v":57.1,"d":"57.10"},{"v":1.77667,"d":"1.78"},{"v":3.20667,"d":"3.21"},{"v":29,"d":"29.00"},{"v":1959.2916666665865,"d":"1959.29"},4.12]
[1959.05,57.96,{"v":1.78333,"d":"1.78"},{"v":3.30333,"d":"3.30"},{"v":29,"d":"29.00"},{"v":1959.3749999999197,"d":"1959.37"},4.31]
[1959.06,57.46,1.79,{"v":3.4,"d":"3.40"},{"v":29.1,"d":"29.10"},{"v":1959.458333333253,"d":"1959.46"},4.34]
[1959.07,59.74,{"v":1.79667,"d":"1.80"},3.41,{"v":29.2,"d":"29.20"},{"v":1959.5416666665863,"d":"1959.54"},{"v":4.4,"d":"4.40"}]
[1959.08,{"v":59.4,"d":"59.40"},{"v":1.80333,"d":"1.80"},3.42,{"v":29.2,"d":"29.20"},{"v":1959.6249999999195,"d":"1959.62"},4.43]
[1959.09,57.05,1.81,3.43,{"v":29.3,"d":"29.30"},{"v":1959.7083333332528,"d":"1959.71"},4.68]
[{"v":1959.1,"d":"1959.10"},{"v":57,"d":"57.00"},{"v":1.81667,"d":"1.82"},{"v":3.41667,"d":"3.42"},{"v":29.4,"d":"29.40"},{"v":1959.791666666586,"d":"1959.79"},4.53]
[1959.11,57.23,{"v":1.82333,"d":"1.82"},{"v":3.40333,"d":"3.40"},{"v":29.4,"d":"29.40"},{"v":1959.8749999999193,"d":"1959.87"},4.53]
[1959.12,59.06,1.83,3.39,{"v":29.4,"d":"29.40"},{"v":1959.9583333332525,"d":"1959.96"},4.69]
[1960.01,58.03,{"v":1.86667,"d":"1.87"},3.39,{"v":29.3,"d":"29.30"},{"v":1960.0416666665858,"d":"1960.04"},4.72]
[1960.02,55.78,{"v":1.90333,"d":"1.90"},3.39,{"v":29.4,"d":"29.40"},{"v":1960.124999999919,"d":"1960.12"},4.49]
[1960.03,55.02,1.94,3.39,{"v":29.4,"d":"29.40"},{"v":1960.2083333332523,"d":"1960.21"},4.25]
[1960.04,55.73,{"v":1.94333,"d":"1.94"},{"v":3.34667,"d":"3.35"},{"v":29.5,"d":"29.50"},{"v":1960.2916666665856,"d":"1960.29"},4.28]
[1960.05,55.22,{"v":1.94667,"d":"1.95"},{"v":3.30333,"d":"3.30"},{"v":29.5,"d":"29.50"},{"v":1960.3749999999188,"d":"1960.37"},4.35]
[1960.06,57.26,1.95,3.26,{"v":29.6,"d":"29.60"},{"v":1960.458333333252,"d":"1960.46"},4.15]
[1960.07,55.84,1.95,{"v":3.26333,"d":"3.26"},{"v":29.6,"d":"29.60"},{"v":1960.5416666665853,"d":"1960.54"},{"v":3.9,"d":"3.90"}]
[1960.08,56.51,1.95,{"v":3.26667,"d":"3.27"},{"v":29.6,"d":"29.60"},{"v":1960.6249999999186,"d":"1960.62"},{"v":3.8,"d":"3.80"}]
[1960.09,54.81,1.95,3.27,{"v":29.6,"d":"29.60"},{"v":1960.7083333332519,"d":"1960.71"},{"v":3.8,"d":"3.80"}]
[{"v":1960.1,"d":"1960.10"},53.73,1.95,3.27,{"v":29.8,"d":"29.80"},{"v":1960.7916666665851,"d":"1960.79"},3.89]
[1960.11,55.47,1.95,3.27,{"v":29.8,"d":"29.80"},{"v":1960.8749999999184,"d":"1960.87"},3.93]
[1960.12,{"v":56.8,"d":"56.80"},1.95,3.27,{"v":29.8,"d":"29.80"},{"v":1960.9583333332516,"d":"1960.96"},3.84]
[1961.01,59.72,{"v":1.94667,"d":"1.95"},3.21,{"v":29.8,"d":"29.80"},{"v":1961.041666666585,"d":"1961.04"},3.84]
[1961.02,62.17,{"v":1.94333,"d":"1.94"},3.15,{"v":29.8,"d":"29.80"},{"v":1961.1249999999181,"d":"1961.12"},3.78]
[1961.03,64.12,1.94,3.09,{"v":29.8,"d":"29.80"},{"v":1961.2083333332514,"d":"1961.21"},3.74]
[1961.04,65.83,1.94,3.07,{"v":29.8,"d":"29.80"},{"v":1961.2916666665847,"d":"1961.29"},3.78]
[1961.05,{"v":66.5,"d":"66.50"},1.94,3.05,{"v":29.8,"d":"29.80"},{"v":1961.374999999918,"d":"1961.37"},3.71]
[1961.06,65.62,1.94,3.03,{"v":29.8,"d":"29.80"},{"v":1961.4583333332512,"d":"1961.46"},3.88]
[1961.07,65.44,{"v":1.94667,"d":"1.95"},{"v":3.03667,"d":"3.04"},{"v":30,"d":"30.00"},{"v":1961.5416666665844,"d":"1961.54"},3.92]
[1961.08,67.79,{"v":1.95333,"d":"1.95"},{"v":3.04333,"d":"3.04"},{"v":29.9,"d":"29.90"},{"v":1961.6249999999177,"d":"1961.62"},4.04]
[1961.09,67.26,1.96,3.05,{"v":30,"d":"30.00"},{"v":1961.708333333251,"d":"1961.71"},3.98]
[{"v":1961.1,"d":"1961.10"},{"v":68,"d":"68.00"},1.98,{"v":3.09667,"d":"3.10"},{"v":30,"d":"30.00"},{"$f":"F1096+1/12","v":{"v":1961.7916666665842,"d":"1961.79"}},3.92]
[1961.11,71.08,{"v":2,"d":"2.00"},{"v":3.14333,"d":"3.14"},{"v":30,"d":"30.00"},{"v":1961.8749999999175,"d":"1961.87"},3.94]
[1961.12,71.74,2.02,3.19,{"v":30,"d":"30.00"},{"v":1961.9583333332507,"d":"1961.96"},4.06]
[1962.01,69.07,{"v":2.02667,"d":"2.03"},3.25,{"v":30,"d":"30.00"},{"v":1962.041666666584,"d":"1962.04"},4.08]
[1962.02,70.22,{"v":2.03333,"d":"2.03"},3.31,{"v":30.1,"d":"30.10"},{"v":1962.1249999999172,"d":"1962.12"},4.04]
[1962.03,70.29,2.04,3.37,{"v":30.1,"d":"30.10"},{"v":1962.2083333332505,"d":"1962.21"},3.93]
[1962.04,68.05,{"v":2.04667,"d":"2.05"},{"v":3.40333,"d":"3.40"},{"v":30.2,"d":"30.20"},{"v":1962.2916666665838,"d":"1962.29"},3.84]
[1962.05,62.99,{"v":2.05333,"d":"2.05"},{"v":3.43667,"d":"3.44"},{"v":30.2,"d":"30.20"},{"v":1962.374999999917,"d":"1962.37"},3.87]
[1962.06,55.63,2.06,3.47,{"v":30.2,"d":"30.20"},{"v":1962.4583333332503,"d":"1962.46"},3.91]
[1962.07,56.97,{"v":2.06667,"d":"2.07"},3.49,{"v":30.3,"d":"30.30"},{"v":1962.5416666665835,"d":"1962.54"},4.01]
[1962.08,58.52,{"v":2.07333,"d":"2.07"},3.51,{"v":30.3,"d":"30.30"},{"v":1962.6249999999168,"d":"1962.62"},3.98]
[1962.09,{"v":58,"d":"58.00"},2.08,3.53,{"v":30.4,"d":"30.40"},{"v":1962.70833333325,"d":"1962.71"},3.98]
[{"v":1962.1,"d":"1962.10"},56.17,{"v":2.09667,"d":"2.10"},{"v":3.57667,"d":"3.58"},{"v":30.4,"d":"30.40"},{"v":1962.7916666665833,"d":"1962.79"},3.93]
[1962.11,60.04,{"v":2.11333,"d":"2.11"},{"v":3.62333,"d":"3.62"},{"v":30.4,"d":"30.40"},{"v":1962.8749999999166,"d":"1962.87"},3.92]
[1962.12,62.64,2.13,3.67,{"v":30.4,"d":"30.40"},{"v":1962.9583333332498,"d":"1962.96"},3.86]
[1963.01,65.06,{"v":2.13667,"d":"2.14"},{"v":3.68333,"d":"3.68"},{"v":30.4,"d":"30.40"},{"v":1963.041666666583,"d":"1963.04"},3.83]
[1963.02,65.92,{"v":2.14333,"d":"2.14"},{"v":3.69667,"d":"3.70"},{"v":30.4,"d":"30.40"},{"v":1963.1249999999163,"d":"1963.12"},3.92]
[1963.03,65.67,2.15,3.71,{"v":30.5,"d":"30.50"},{"v":1963.2083333332496,"d":"1963.21"},3.93]
[1963.04,68.76,{"v":2.16667,"d":"2.17"},{"v":3.75333,"d":"3.75"},{"v":30.5,"d":"30.50"},{"v":1963.2916666665828,"d":"1963.29"},3.97]
[1963.05,70.14,{"v":2.18333,"d":"2.18"},{"v":3.79667,"d":"3.80"},{"v":30.5,"d":"30.50"},{"v":1963.374999999916,"d":"1963.37"},3.93]
[1963.06,70.11,{"v":2.2,"d":"2.20"},3.84,{"v":30.6,"d":"30.60"},{"v":1963.4583333332494,"d":"1963.46"},3.99]
[1963.07,69.07,{"v":2.20333,"d":"2.20"},3.88,{"v":30.7,"d":"30.70"},{"v":1963.5416666665826,"d":"1963.54"},4.02]
[1963.08,70.98,{"v":2.20667,"d":"2.21"},3.92,{"v":30.7,"d":"30.70"},{"v":1963.6249999999159,"d":"1963.62"},{"v":4,"d":"4.00"}]
[1963.09,72.85,2.21,3.96,{"v":30.7,"d":"30.70"},{"v":1963.7083333332491,"d":"1963.71"},4.08]
[{"v":1963.1,"d":"1963.10"},73.03,{"v":2.23333,"d":"2.23"},3.98,{"v":30.8,"d":"30.80"},{"v":1963.7916666665824,"d":"1963.79"},4.11]
[1963.11,72.62,{"v":2.25667,"d":"2.26"},{"v":4,"d":"4.00"},{"v":30.8,"d":"30.80"},{"v":1963.8749999999156,"d":"1963.87"},4.12]
[1963.12,74.17,2.28,4.02,{"v":30.9,"d":"30.90"},{"v":1963.958333333249,"d":"1963.96"},4.13]
[1964.01,76.45,{"v":2.29667,"d":"2.30"},{"v":4.07333,"d":"4.07"},{"v":30.9,"d":"30.90"},{"v":1964.0416666665822,"d":"1964.04"},4.17]
[1964.02,77.39,{"v":2.31333,"d":"2.31"},{"v":4.12667,"d":"4.13"},{"v":30.9,"d":"30.90"},{"v":1964.1249999999154,"d":"1964.12"},4.15]
[1964.03,{"v":78.8,"d":"78.80"},2.33,4.18,{"v":30.9,"d":"30.90"},{"v":1964.2083333332487,"d":"1964.21"},4.22]
[1964.04,79.94,{"v":2.34667,"d":"2.35"},4.23,{"v":30.9,"d":"30.90"},{"v":1964.291666666582,"d":"1964.29"},4.23]
[1964.05,80.72,{"v":2.36333,"d":"2.36"},4.28,{"v":30.9,"d":"30.90"},{"v":1964.3749999999152,"d":"1964.37"},{"v":4.2,"d":"4.20"}]
[1964.06,80.24,2.38,4.33,{"v":31,"d":"31.00"},{"v":1964.4583333332484,"d":"1964.46"},4.17]
[1964.07,83.22,{"v":2.4,"d":"2.40"},{"v":4.37667,"d":"4.38"},{"v":31.1,"d":"31.10"},{"v":1964.5416666665817,"d":"1964.54"},4.19]
[1964.08,{"v":82,"d":"82.00"},2.42,{"v":4.42333,"d":"4.42"},{"v":31,"d":"31.00"},{"v":1964.624999999915,"d":"1964.62"},4.19]
[1964.09,83.41,2.44,4.47,{"v":31.1,"d":"31.10"},{"v":1964.7083333332482,"d":"1964.71"},{"v":4.2,"d":"4.20"}]
[{"v":1964.1,"d":"1964.10"},84.85,2.46,{"v":4.49667,"d":"4.50"},{"v":31.1,"d":"31.10"},{"v":1964.7916666665815,"d":"1964.79"},4.19]
[1964.11,85.44,2.48,{"v":4.52333,"d":"4.52"},{"v":31.2,"d":"31.20"},{"v":1964.8749999999147,"d":"1964.87"},4.15]
[1964.12,83.96,{"v":2.5,"d":"2.50"},4.55,{"v":31.2,"d":"31.20"},{"v":1964.958333333248,"d":"1964.96"},4.18]
[1965.01,86.12,{"v":2.51667,"d":"2.52"},{"v":4.59333,"d":"4.59"},{"v":31.2,"d":"31.20"},{"v":1965.0416666665812,"d":"1965.04"},4.19]
[1965.02,86.75,{"v":2.53333,"d":"2.53"},{"v":4.63667,"d":"4.64"},{"v":31.2,"d":"31.20"},{"v":1965.1249999999145,"d":"1965.12"},4.21]
[1965.03,86.83,2.55,4.68,{"v":31.3,"d":"31.30"},{"v":1965.2083333332478,"d":"1965.21"},4.21]
[1965.04,87.97,2.57,{"v":4.73333,"d":"4.73"},{"v":31.4,"d":"31.40"},{"v":1965.291666666581,"d":"1965.29"},{"v":4.2,"d":"4.20"}]
[1965.05,89.28,2.59,{"v":4.78667,"d":"4.79"},{"v":31.4,"d":"31.40"},{"v":1965.3749999999143,"d":"1965.37"},4.21]
[1965.06,85.04,2.61,4.84,{"v":31.6,"d":"31.60"},{"v":1965.4583333332475,"d":"1965.46"},4.21]
[1965.07,84.91,{"v":2.62667,"d":"2.63"},{"v":4.88667,"d":"4.89"},{"v":31.6,"d":"31.60"},{"v":1965.5416666665808,"d":"1965.54"},{"v":4.2,"d":"4.20"}]
[1965.08,86.49,{"v":2.64333,"d":"2.64"},{"v":4.93333,"d":"4.93"},{"v":31.6,"d":"31.60"},{"v":1965.624999999914,"d":"1965.62"},4.25]
[1965.09,89.38,2.66,4.98,{"v":31.6,"d":"31.60"},{"v":1965.7083333332473,"d":"1965.71"},4.29]
[{"v":1965.1,"d":"1965.10"},91.39,2.68,5.05,{"v":31.7,"d":"31.70"},{"v":1965.7916666665806,"d":"1965.79"},4.35]
[1965.11,92.15,{"v":2.7,"d":"2.70"},5.12,{"v":31.7,"d":"31.70"},{"v":1965.8749999999138,"d":"1965.87"},4.45]
[1965.12,91.73,2.72,5.19,{"v":31.8,"d":"31.80"},{"v":1965.958333333247,"d":"1965.96"},4.62]
[1966.01,93.32,2.74,5.24,{"v":31.8,"d":"31.80"},{"v":1966.0416666665803,"d":"1966.04"},4.61]
[1966.02,92.69,2.76,5.29,{"v":32,"d":"32.00"},{"v":1966.1249999999136,"d":"1966.12"},4.83]
[1966.03,88.88,2.78,5.34,{"v":32.1,"d":"32.10"},{"v":1966.2083333332469,"d":"1966.21"},4.87]
[1966.04,{"v":91.6,"d":"91.60"},{"v":2.79667,"d":"2.80"},5.38,{"v":32.3,"d":"32.30"},{"v":1966.29166666658,"d":"1966.29"},4.75]
[1966.05,86.78,{"v":2.81333,"d":"2.81"},5.42,{"v":32.3,"d":"32.30"},{"v":1966.3749999999134,"d":"1966.37"},4.78]
[1966.06,86.06,2.83,5.46,{"v":32.4,"d":"32.40"},{"v":1966.4583333332466,"d":"1966.46"},4.81]
[1966.07,85.84,2.85,{"v":5.47667,"d":"5.48"},{"v":32.5,"d":"32.50"},{"v":1966.5416666665799,"d":"1966.54"},5.02]
[1966.08,80.65,2.87,{"v":5.49333,"d":"5.49"},{"v":32.7,"d":"32.70"},{"v":1966.6249999999131,"d":"1966.62"},5.22]
[1966.09,77.81,2.89,5.51,{"v":32.7,"d":"32.70"},{"v":1966.7083333332464,"d":"1966.71"},5.18]
[{"v":1966.1,"d":"1966.10"},77.13,{"v":2.88333,"d":"2.88"},{"v":5.52333,"d":"5.52"},{"v":32.9,"d":"32.90"},{"v":1966.7916666665797,"d":"1966.79"},5.01]
[1966.11,80.99,{"v":2.87667,"d":"2.88"},{"v":5.53667,"d":"5.54"},{"v":32.9,"d":"32.90"},{"v":1966.874999999913,"d":"1966.87"},5.16]
[1966.12,81.33,2.87,5.55,{"v":32.9,"d":"32.90"},{"v":1966.9583333332462,"d":"1966.96"},4.84]
[1967.01,84.45,2.88,{"v":5.51667,"d":"5.52"},{"v":32.9,"d":"32.90"},{"v":1967.0416666665794,"d":"1967.04"},4.58]
[1967.02,87.36,2.89,{"v":5.48333,"d":"5.48"},{"v":32.9,"d":"32.90"},{"$f":"F1160+1/12","v":{"v":1967.1249999999127,"d":"1967.12"}},4.63]
[1967.03,89.42,{"v":2.9,"d":"2.90"},5.45,{"v":33,"d":"33.00"},{"v":1967.208333333246,"d":"1967.21"},4.54]
[1967.04,90.96,{"v":2.9,"d":"2.90"},5.41,{"v":33.1,"d":"33.10"},{"v":1967.2916666665792,"d":"1967.29"},4.59]
[1967.05,92.59,{"v":2.9,"d":"2.90"},5.37,{"v":33.2,"d":"33.20"},{"v":1967.3749999999125,"d":"1967.37"},4.85]
[1967.06,91.43,{"v":2.9,"d":"2.90"},5.33,{"v":33.3,"d":"33.30"},{"v":1967.4583333332457,"d":"1967.46"},5.02]
[1967.07,93.01,{"v":2.90667,"d":"2.91"},5.32,{"v":33.4,"d":"33.40"},{"v":1967.541666666579,"d":"1967.54"},5.16]
[1967.08,94.49,{"v":2.91333,"d":"2.91"},5.31,{"v":33.5,"d":"33.50"},{"v":1967.6249999999122,"d":"1967.62"},5.28]
[1967.09,95.81,2.92,{"v":5.3,"d":"5.30"},{"v":33.6,"d":"33.60"},{"v":1967.7083333332455,"d":"1967.71"},{"v":5.3,"d":"5.30"}]
[{"v":1967.1,"d":"1967.10"},95.66,2.92,5.31,{"v":33.7,"d":"33.70"},{"v":1967.7916666665787,"d":"1967.79"},5.48]
[1967.11,92.66,2.92,5.32,{"v":33.8,"d":"33.80"},{"v":1967.874999999912,"d":"1967.87"},5.75]
[1967.12,{"v":95.3,"d":"95.30"},2.92,5.33,{"v":33.9,"d":"33.90"},{"v":1967.9583333332453,"d":"1967.96"},{"v":5.7,"d":"5.70"}]
[1968.01,95.04,2.93,{"v":5.36667,"d":"5.37"},{"v":34.1,"d":"34.10"},{"v":1968.0416666665785,"d":"1968.04"},5.53]
[1968.02,90.75,2.94,{"v":5.40333,"d":"5.40"},{"v":34.2,"d":"34.20"},{"v":1968.1249999999118,"d":"1968.12"},5.56]
[1968.03,89.09,2.95,5.44,{"v":34.3,"d":"34.30"},{"v":1968.208333333245,"d":"1968.21"},5.74]
[1968.04,95.67,{"v":2.96333,"d":"2.96"},{"v":5.48333,"d":"5.48"},{"v":34.4,"d":"34.40"},{"v":1968.2916666665783,"d":"1968.29"},5.64]
[1968.05,97.87,{"v":2.97667,"d":"2.98"},{"v":5.52667,"d":"5.53"},{"v":34.5,"d":"34.50"},{"v":1968.3749999999116,"d":"1968.37"},5.87]
[1968.06,{"v":100.5,"d":"100.50"},2.99,5.57,{"v":34.7,"d":"34.70"},{"v":1968.4583333332448,"d":"1968.46"},5.72]
[1968.07,{"v":100.3,"d":"100.30"},{"v":3.00333,"d":"3.00"},{"v":5.6,"d":"5.60"},{"v":34.9,"d":"34.90"},{"v":1968.541666666578,"d":"1968.54"},{"v":5.5,"d":"5.50"}]
[1968.08,98.11,{"v":3.01667,"d":"3.02"},5.63,{"v":35,"d":"35.00"},{"v":1968.6249999999113,"d":"1968.62"},5.42]
[1968.09,{"v":101.3,"d":"101.30"},3.03,5.66,{"v":35.1,"d":"35.10"},{"v":1968.7083333332446,"d":"1968.71"},5.46]
[{"v":1968.1,"d":"1968.10"},{"v":103.8,"d":"103.80"},{"v":3.04333,"d":"3.04"},{"v":5.69333,"d":"5.69"},{"v":35.3,"d":"35.30"},{"v":1968.7916666665778,"d":"1968.79"},5.58]
[1968.11,{"v":105.4,"d":"105.40"},{"v":3.05667,"d":"3.06"},{"v":5.72667,"d":"5.73"},{"v":35.4,"d":"35.40"},{"v":1968.874999999911,"d":"1968.87"},{"v":5.7,"d":"5.70"}]
[1968.12,{"v":106.5,"d":"106.50"},3.07,5.76,{"v":35.5,"d":"35.50"},{"v":1968.9583333332444,"d":"1968.96"},6.03]
[1969.01,{"v":102,"d":"102.00"},3.08,5.78,{"v":35.6,"d":"35.60"},{"v":1969.0416666665776,"d":"1969.04"},6.04]
[1969.02,{"v":101.5,"d":"101.50"},3.09,{"v":5.8,"d":"5.80"},{"v":35.8,"d":"35.80"},{"v":1969.1249999999109,"d":"1969.12"},6.19]
[1969.03,{"v":99.3,"d":"99.30"},{"v":3.1,"d":"3.10"},5.82,{"v":36.1,"d":"36.10"},{"v":1969.2083333332441,"d":"1969.21"},{"v":6.3,"d":"6.30"}]
[1969.04,{"v":101.3,"d":"101.30"},3.11,{"v":5.82667,"d":"5.83"},{"v":36.3,"d":"36.30"},{"v":1969.2916666665774,"d":"1969.29"},6.17]
[1969.05,{"v":104.6,"d":"104.60"},3.12,{"v":5.83333,"d":"5.83"},{"v":36.4,"d":"36.40"},{"v":1969.3749999999106,"d":"1969.37"},6.32]
[1969.06,99.14,3.13,5.84,{"v":36.6,"d":"36.60"},{"v":1969.458333333244,"d":"1969.46"},6.57]
[1969.07,94.71,{"v":3.13667,"d":"3.14"},{"v":5.85667,"d":"5.86"},{"v":36.8,"d":"36.80"},{"v":1969.5416666665772,"d":"1969.54"},6.72]
[1969.08,94.18,{"v":3.14333,"d":"3.14"},{"v":5.87333,"d":"5.87"},{"v":37,"d":"37.00"},{"v":1969.6249999999104,"d":"1969.62"},6.69]
[1969.09,94.51,3.15,5.89,{"v":37.1,"d":"37.10"},{"v":1969.7083333332437,"d":"1969.71"},7.16]
[{"v":1969.1,"d":"1969.10"},95.52,{"v":3.15333,"d":"3.15"},{"v":5.85333,"d":"5.85"},{"v":37.3,"d":"37.30"},{"v":1969.791666666577,"d":"1969.79"},{"v":7.1,"d":"7.10"}]
[1969.11,96.21,{"v":3.15667,"d":"3.16"},{"v":5.81667,"d":"5.82"},{"v":37.5,"d":"37.50"},{"v":1969.8749999999102,"d":"1969.87"},7.14]
[1969.12,91.11,3.16,5.78,{"v":37.7,"d":"37.70"},{"v":1969.9583333332434,"d":"1969.96"},7.65]
[1970.01,90.31,{"v":3.16333,"d":"3.16"},5.73,{"v":37.8,"d":"37.80"},{"v":1970.0416666665767,"d":"1970.04"},7.79]
[1970.02,87.16,{"v":3.16667,"d":"3.17"},5.68,{"v":38,"d":"38.00"},{"v":1970.12499999991,"d":"1970.12"},7.24]
[1970.03,88.65,3.17,5.63,{"v":38.2,"d":"38.20"},{"v":1970.2083333332432,"d":"1970.21"},7.07]
[1970.04,85.95,{"v":3.17333,"d":"3.17"},{"v":5.59333,"d":"5.59"},{"v":38.5,"d":"38.50"},{"v":1970.2916666665765,"d":"1970.29"},7.39]
[1970.05,76.06,{"v":3.17667,"d":"3.18"},{"v":5.55667,"d":"5.56"},{"v":38.6,"d":"38.60"},{"v":1970.3749999999097,"d":"1970.37"},7.91]
[1970.06,75.59,3.18,5.52,{"v":38.8,"d":"38.80"},{"v":1970.458333333243,"d":"1970.46"},7.84]
[1970.07,75.72,{"v":3.18333,"d":"3.18"},{"v":5.46667,"d":"5.47"},{"v":39,"d":"39.00"},{"v":1970.5416666665762,"d":"1970.54"},7.46]
[1970.08,77.92,{"v":3.18667,"d":"3.19"},{"v":5.41333,"d":"5.41"},{"v":39,"d":"39.00"},{"v":1970.6249999999095,"d":"1970.62"},7.53]
[1970.09,82.58,3.19,5.36,{"v":39.2,"d":"39.20"},{"v":1970.7083333332428,"d":"1970.71"},7.39]
[{"v":1970.1,"d":"1970.10"},84.37,{"v":3.17333,"d":"3.17"},{"v":5.28333,"d":"5.28"},{"v":39.4,"d":"39.40"},{"v":1970.791666666576,"d":"1970.79"},7.33]
[1970.11,84.28,{"v":3.15667,"d":"3.16"},{"v":5.20667,"d":"5.21"},{"v":39.6,"d":"39.60"},{"v":1970.8749999999093,"d":"1970.87"},6.84]
[1970.12,90.05,3.14,5.13,{"v":39.8,"d":"39.80"},{"v":1970.9583333332425,"d":"1970.96"},6.39]
[1971.01,93.49,3.13,5.16,{"v":39.8,"d":"39.80"},{"v":1971.0416666665758,"d":"1971.04"},6.24]
[1971.02,97.11,3.12,5.19,{"v":39.9,"d":"39.90"},{"v":1971.124999999909,"d":"1971.12"},6.11]
[1971.03,{"v":99.6,"d":"99.60"},3.11,5.22,{"v":40,"d":"40.00"},{"v":1971.2083333332423,"d":"1971.21"},{"v":5.7,"d":"5.70"}]
[1971.04,{"v":103,"d":"103.00"},{"v":3.10667,"d":"3.11"},{"v":5.25333,"d":"5.25"},{"v":40.1,"d":"40.10"},{"v":1971.2916666665756,"d":"1971.29"},5.83]
[1971.05,{"v":101.6,"d":"101.60"},{"v":3.10333,"d":"3.10"},{"v":5.28667,"d":"5.29"},{"v":40.3,"d":"40.30"},{"v":1971.3749999999088,"d":"1971.37"},6.39]
[1971.06,99.72,{"v":3.1,"d":"3.10"},5.32,{"v":40.6,"d":"40.60"},{"v":1971.458333333242,"d":"1971.46"},6.52]
[1971.07,{"v":99,"d":"99.00"},{"v":3.09667,"d":"3.10"},{"v":5.35667,"d":"5.36"},{"v":40.7,"d":"40.70"},{"v":1971.5416666665753,"d":"1971.54"},6.73]
[1971.08,97.24,{"v":3.09333,"d":"3.09"},{"v":5.39333,"d":"5.39"},{"v":40.8,"d":"40.80"},{"v":1971.6249999999086,"d":"1971.62"},6.58]
[1971.09,{"v":99.4,"d":"99.40"},3.09,5.43,{"v":40.8,"d":"40.80"},{"v":1971.7083333332419,"d":"1971.71"},6.14]
[{"v":1971.1,"d":"1971.10"},97.29,{"v":3.08333,"d":"3.08"},5.52,{"v":40.9,"d":"40.90"},{"v":1971.791666666575,"d":"1971.79"},5.93]
[1971.11,92.78,{"v":3.07667,"d":"3.08"},5.61,{"v":40.9,"d":"40.90"},{"v":1971.8749999999084,"d":"1971.87"},5.81]
[1971.12,99.17,3.07,{"v":5.7,"d":"5.70"},{"v":41.1,"d":"41.10"},{"v":1971.9583333332416,"d":"1971.96"},5.93]
[1972.01,{"v":103.3,"d":"103.30"},3.07,{"v":5.73667,"d":"5.74"},{"v":41.1,"d":"41.10"},{"v":1972.0416666665749,"d":"1972.04"},5.95]
[1972.02,{"v":105.2,"d":"105.20"},3.07,{"v":5.77333,"d":"5.77"},{"v":41.3,"d":"41.30"},{"v":1972.1249999999081,"d":"1972.12"},6.08]
[1972.03,{"v":107.7,"d":"107.70"},3.07,5.81,{"v":41.4,"d":"41.40"},{"v":1972.2083333332414,"d":"1972.21"},6.07]
[1972.04,{"v":108.8,"d":"108.80"},3.07,{"v":5.86333,"d":"5.86"},{"v":41.5,"d":"41.50"},{"v":1972.2916666665747,"d":"1972.29"},6.19]
[1972.05,{"v":107.7,"d":"107.70"},3.07,{"v":5.91667,"d":"5.92"},{"v":41.6,"d":"41.60"},{"v":1972.374999999908,"d":"1972.37"},6.13]
[1972.06,{"v":108,"d":"108.00"},3.07,5.97,{"v":41.7,"d":"41.70"},{"$f":"F1224+1/12","v":{"v":1972.4583333332412,"d":"1972.46"}},6.11]
[1972.07,{"v":107.2,"d":"107.20"},{"v":3.07333,"d":"3.07"},{"v":6.02667,"d":"6.03"},{"v":41.9,"d":"41.90"},{"v":1972.5416666665744,"d":"1972.54"},6.11]
[1972.08,{"v":111,"d":"111.00"},{"v":3.07667,"d":"3.08"},{"v":6.08333,"d":"6.08"},{"v":42,"d":"42.00"},{"v":1972.6249999999077,"d":"1972.62"},6.21]
[1972.09,{"v":109.4,"d":"109.40"},3.08,6.14,{"v":42.1,"d":"42.10"},{"v":1972.708333333241,"d":"1972.71"},6.55]
[{"v":1972.1,"d":"1972.10"},{"v":109.6,"d":"109.60"},{"v":3.10333,"d":"3.10"},{"v":6.23333,"d":"6.23"},{"v":42.3,"d":"42.30"},{"v":1972.7916666665742,"d":"1972.79"},6.48]
[1972.11,{"v":115.1,"d":"115.10"},{"v":3.12667,"d":"3.13"},{"v":6.32667,"d":"6.33"},{"v":42.4,"d":"42.40"},{"v":1972.8749999999075,"d":"1972.87"},6.28]
[1972.12,{"v":117.5,"d":"117.50"},3.15,6.42,{"v":42.5,"d":"42.50"},{"v":1972.9583333332407,"d":"1972.96"},6.36]
[1973.01,{"v":118.4,"d":"118.40"},{"v":3.15667,"d":"3.16"},{"v":6.54667,"d":"6.55"},{"v":42.6,"d":"42.60"},{"v":1973.041666666574,"d":"1973.04"},6.46]
[1973.02,{"v":114.2,"d":"114.20"},{"v":3.16333,"d":"3.16"},{"v":6.67333,"d":"6.67"},{"v":42.9,"d":"42.90"},{"v":1973.1249999999072,"d":"1973.12"},6.64]
[1973.03,{"v":112.4,"d":"112.40"},3.17,{"v":6.8,"d":"6.80"},{"v":43.3,"d":"43.30"},{"v":1973.2083333332405,"d":"1973.21"},6.71]
[1973.04,{"v":110.3,"d":"110.30"},{"v":3.18667,"d":"3.19"},{"v":6.94333,"d":"6.94"},{"v":43.6,"d":"43.60"},{"v":1973.2916666665737,"d":"1973.29"},6.67]
[1973.05,{"v":107.2,"d":"107.20"},{"v":3.20333,"d":"3.20"},{"v":7.08667,"d":"7.09"},{"v":43.9,"d":"43.90"},{"v":1973.374999999907,"d":"1973.37"},6.85]
[1973.06,{"v":104.8,"d":"104.80"},3.22,7.23,{"v":44.2,"d":"44.20"},{"v":1973.4583333332403,"d":"1973.46"},{"v":6.9,"d":"6.90"}]
[1973.07,{"v":105.8,"d":"105.80"},{"v":3.23667,"d":"3.24"},{"v":7.38333,"d":"7.38"},{"v":44.3,"d":"44.30"},{"v":1973.5416666665735,"d":"1973.54"},7.13]
[1973.08,{"v":103.8,"d":"103.80"},{"v":3.25333,"d":"3.25"},{"v":7.53667,"d":"7.54"},{"v":45.1,"d":"45.10"},{"v":1973.6249999999068,"d":"1973.62"},{"v":7.4,"d":"7.40"}]
[1973.09,{"v":105.6,"d":"105.60"},3.27,7.69,{"v":45.2,"d":"45.20"},{"v":1973.70833333324,"d":"1973.71"},7.09]
[{"v":1973.1,"d":"1973.10"},{"v":109.8,"d":"109.80"},{"v":3.30667,"d":"3.31"},{"v":7.84667,"d":"7.85"},{"v":45.6,"d":"45.60"},{"v":1973.7916666665733,"d":"1973.79"},6.79]
[1973.11,{"v":102,"d":"102.00"},{"v":3.34333,"d":"3.34"},{"v":8.00333,"d":"8.00"},{"v":45.9,"d":"45.90"},{"v":1973.8749999999065,"d":"1973.87"},6.73]
[1973.12,94.78,3.38,8.16,{"v":46.2,"d":"46.20"},{"v":1973.9583333332398,"d":"1973.96"},6.74]
[1974.01,96.11,{"v":3.4,"d":"3.40"},{"v":8.22667,"d":"8.23"},{"v":46.6,"d":"46.60"},{"v":1974.041666666573,"d":"1974.04"},6.99]
[1974.02,93.45,3.42,{"v":8.29333,"d":"8.29"},{"v":47.2,"d":"47.20"},{"v":1974.1249999999063,"d":"1974.12"},6.96]
[1974.03,97.44,3.44,8.36,{"v":47.8,"d":"47.80"},{"v":1974.2083333332396,"d":"1974.21"},7.21]
[1974.04,92.46,3.46,{"v":8.48667,"d":"8.49"},{"v":48,"d":"48.00"},{"v":1974.2916666665728,"d":"1974.29"},7.51]
[1974.05,89.67,3.48,{"v":8.61333,"d":"8.61"},{"v":48.6,"d":"48.60"},{"v":1974.374999999906,"d":"1974.37"},7.58]
[1974.06,89.79,{"v":3.5,"d":"3.50"},8.74,{"v":49,"d":"49.00"},{"v":1974.4583333332394,"d":"1974.46"},7.54]
[1974.07,79.31,3.53,{"v":8.86333,"d":"8.86"},{"v":49.4,"d":"49.40"},{"v":1974.5416666665726,"d":"1974.54"},7.81]
[1974.08,76.03,3.56,{"v":8.98667,"d":"8.99"},{"v":50,"d":"50.00"},{"v":1974.6249999999059,"d":"1974.62"},8.04]
[1974.09,68.12,3.59,9.11,{"v":50.6,"d":"50.60"},{"v":1974.7083333332391,"d":"1974.71"},8.04]
[{"v":1974.1,"d":"1974.10"},69.44,{"v":3.59333,"d":"3.59"},{"v":9.03667,"d":"9.04"},{"v":51.1,"d":"51.10"},{"v":1974.7916666665724,"d":"1974.79"},{"v":7.9,"d":"7.90"}]
[1974.11,71.74,{"v":3.59667,"d":"3.60"},{"v":8.96333,"d":"8.96"},{"v":51.5,"d":"51.50"},{"v":1974.8749999999056,"d":"1974.87"},7.68]
[1974.12,67.07,{"v":3.6,"d":"3.60"},8.89,{"v":51.9,"d":"51.90"},{"v":1974.958333333239,"d":"1974.96"},7.43]
[1975.01,72.56,{"v":3.62333,"d":"3.62"},{"v":8.74333,"d":"8.74"},{"v":52.1,"d":"52.10"},{"v":1975.0416666665722,"d":"1975.04"},{"v":7.5,"d":"7.50"}]
[1975.02,{"v":80.1,"d":"80.10"},{"v":3.64667,"d":"3.65"},{"v":8.59667,"d":"8.60"},{"v":52.5,"d":"52.50"},{"v":1975.1249999999054,"d":"1975.12"},7.39]
[1975.03,83.78,3.67,8.45,{"v":52.7,"d":"52.70"},{"v":1975.2083333332387,"d":"1975.21"},7.73]
[1975.04,84.72,{"v":3.68333,"d":"3.68"},{"v":8.28667,"d":"8.29"},{"v":52.9,"d":"52.90"},{"v":1975.291666666572,"d":"1975.29"},8.23]
[1975.05,{"v":90.1,"d":"90.10"},{"v":3.69667,"d":"3.70"},{"v":8.12333,"d":"8.12"},{"v":53.2,"d":"53.20"},{"v":1975.3749999999052,"d":"1975.37"},8.06]
[1975.06,{"v":92.4,"d":"92.40"},3.71,7.96,{"v":53.6,"d":"53.60"},{"v":1975.4583333332384,"d":"1975.46"},7.86]
[1975.07,92.49,3.71,{"v":7.89333,"d":"7.89"},{"v":54.2,"d":"54.20"},{"v":1975.5416666665717,"d":"1975.54"},8.06]
[1975.08,85.71,3.71,{"v":7.82667,"d":"7.83"},{"v":54.3,"d":"54.30"},{"v":1975.624999999905,"d":"1975.62"},{"v":8.4,"d":"8.40"}]
[1975.09,84.67,3.71,7.76,{"v":54.6,"d":"54.60"},{"v":1975.7083333332382,"d":"1975.71"},8.43]
[{"v":1975.1,"d":"1975.10"},88.57,{"v":3.7,"d":"3.70"},{"v":7.82667,"d":"7.83"},{"v":54.9,"d":"54.90"},{"v":1975.7916666665715,"d":"1975.79"},8.14]
[1975.11,90.07,3.69,{"v":7.89333,"d":"7.89"},{"v":55.3,"d":"55.30"},{"v":1975.8749999999047,"d":"1975.87"},8.05]
[1975.12,{"v":88.7,"d":"88.70"},3.68,7.96,{"v":55.5,"d":"55.50"},{"v":1975.958333333238,"d":"1975.96"},{"v":8,"d":"8.00"}]
[1976.01,96.86,{"v":3.68333,"d":"3.68"},{"v":8.19333,"d":"8.19"},{"v":55.6,"d":"55.60"},{"v":1976.0416666665712,"d":"1976.04"},7.74]
[1976.02,{"v":100.6,"d":"100.60"},{"v":3.68667,"d":"3.69"},{"v":8.42667,"d":"8.43"},{"v":55.8,"d":"55.80"},{"v":1976.1249999999045,"d":"1976.12"},7.79]
[1976.03,{"v":101.1,"d":"101.10"},3.69,8.66,{"v":55.9,"d":"55.90"},{"v":1976.2083333332378,"d":"1976.21"},7.73]
[1976.04,{"v":101.9,"d":"101.90"},{"v":3.71333,"d":"3.71"},{"v":8.85667,"d":"8.86"},{"v":56.1,"d":"56.10"},{"v":1976.291666666571,"d":"1976.29"},7.56]
[1976.05,{"v":101.2,"d":"101.20"},{"v":3.73667,"d":"3.74"},{"v":9.05333,"d":"9.05"},{"v":56.5,"d":"56.50"},{"v":1976.3749999999043,"d":"1976.37"},{"v":7.9,"d":"7.90"}]
[1976.06,{"v":101.8,"d":"101.80"},3.76,9.25,{"v":56.8,"d":"56.80"},{"v":1976.4583333332375,"d":"1976.46"},7.86]
[1976.07,{"v":104.2,"d":"104.20"},3.79,9.35,{"v":57.1,"d":"57.10"},{"v":1976.5416666665708,"d":"1976.54"},7.83]
[1976.08,{"v":103.3,"d":"103.30"},3.82,9.45,{"v":57.4,"d":"57.40"},{"v":1976.624999999904,"d":"1976.62"},7.77]
[1976.09,{"v":105.5,"d":"105.50"},3.85,9.55,{"v":57.6,"d":"57.60"},{"v":1976.7083333332373,"d":"1976.71"},7.59]
[{"v":1976.1,"d":"1976.10"},{"v":101.9,"d":"101.90"},{"v":3.91667,"d":"3.92"},9.67,{"v":57.9,"d":"57.90"},{"v":1976.7916666665706,"d":"1976.79"},7.41]
[1976.11,{"v":101.2,"d":"101.20"},{"v":3.98333,"d":"3.98"},9.79,{"v":58,"d":"58.00"},{"v":1976.8749999999038,"d":"1976.87"},7.29]
[1976.12,{"v":104.7,"d":"104.70"},4.05,9.91,{"v":58.2,"d":"58.20"},{"v":1976.958333333237,"d":"1976.96"},6.87]
[1977.01,{"v":103.8,"d":"103.80"},{"v":4.09667,"d":"4.10"},{"v":9.96667,"d":"9.97"},{"v":58.5,"d":"58.50"},{"v":1977.0416666665703,"d":"1977.04"},7.21]
[1977.02,{"v":101,"d":"101.00"},{"v":4.14333,"d":"4.14"},{"v":10.0233,"d":"10.02"},{"v":59.1,"d":"59.10"},{"v":1977.1249999999036,"d":"1977.12"},7.39]
[1977.03,{"v":100.6,"d":"100.60"},4.19,10.08,{"v":59.5,"d":"59.50"},{"v":1977.2083333332369,"d":"1977.21"},7.46]
[1977.04,99.05,{"v":4.24667,"d":"4.25"},{"v":10.1933,"d":"10.19"},{"v":60,"d":"60.00"},{"v":1977.29166666657,"d":"1977.29"},7.37]
[1977.05,98.76,{"v":4.30333,"d":"4.30"},{"v":10.3067,"d":"10.31"},{"v":60.3,"d":"60.30"},{"v":1977.3749999999034,"d":"1977.37"},7.46]
[1977.06,99.29,4.36,10.42,{"v":60.7,"d":"60.70"},{"v":1977.4583333332366,"d":"1977.46"},7.28]
[1977.07,{"v":100.2,"d":"100.20"},{"v":4.40667,"d":"4.41"},{"v":10.5167,"d":"10.52"},{"v":61,"d":"61.00"},{"v":1977.5416666665699,"d":"1977.54"},7.33]
[1977.08,97.75,{"v":4.45333,"d":"4.45"},{"v":10.6133,"d":"10.61"},{"v":61.2,"d":"61.20"},{"v":1977.6249999999031,"d":"1977.62"},{"v":7.4,"d":"7.40"}]
[1977.09,96.23,{"v":4.5,"d":"4.50"},10.71,{"v":61.4,"d":"61.40"},{"v":1977.7083333332364,"d":"1977.71"},7.34]
[{"v":1977.1,"d":"1977.10"},93.74,{"v":4.55667,"d":"4.56"},10.77,{"v":61.6,"d":"61.60"},{"$f":"F1288+1/12","v":{"v":1977.7916666665697,"d":"1977.79"}},7.52]
[1977.11,94.28,{"v":4.61333,"d":"4.61"},10.83,{"v":61.9,"d":"61.90"},{"v":1977.874999999903,"d":"1977.87"},7.58]
[1977.12,93.82,4.67,10.89,{"v":62.1,"d":"62.10"},{"v":1977.9583333332362,"d":"1977.96"},7.69]
[1978.01,90.25,{"v":4.71333,"d":"4.71"},{"v":10.9,"d":"10.90"},{"v":62.5,"d":"62.50"},{"v":1978.0416666665694,"d":"1978.04"},7.96]
[1978.02,88.98,{"v":4.75667,"d":"4.76"},10.91,{"v":62.9,"d":"62.90"},{"v":1978.1249999999027,"d":"1978.12"},8.03]
[1978.03,88.82,{"v":4.8,"d":"4.80"},10.92,{"v":63.4,"d":"63.40"},{"v":1978.208333333236,"d":"1978.21"},8.04]
[1978.04,92.71,{"v":4.83667,"d":"4.84"},{"v":11.0233,"d":"11.02"},{"v":63.9,"d":"63.90"},{"v":1978.2916666665692,"d":"1978.29"},8.15]
[1978.05,97.41,{"v":4.87333,"d":"4.87"},{"v":11.1267,"d":"11.13"},{"v":64.5,"d":"64.50"},{"v":1978.3749999999025,"d":"1978.37"},8.35]
[1978.06,97.66,4.91,11.23,{"v":65.2,"d":"65.20"},{"v":1978.4583333332357,"d":"1978.46"},8.46]
[1978.07,97.19,{"v":4.94667,"d":"4.95"},{"v":11.3433,"d":"11.34"},{"v":65.7,"d":"65.70"},{"v":1978.541666666569,"d":"1978.54"},8.64]
[1978.08,{"v":103.9,"d":"103.90"},{"v":4.98333,"d":"4.98"},{"v":11.4567,"d":"11.46"},{"v":66,"d":"66.00"},{"v":1978.6249999999022,"d":"1978.62"},8.41]
[1978.09,{"v":103.9,"d":"103.90"},5.02,11.57,{"v":66.5,"d":"66.50"},{"v":1978.7083333332355,"d":"1978.71"},8.42]
[{"v":1978.1,"d":"1978.10"},{"v":100.6,"d":"100.60"},{"v":5.03667,"d":"5.04"},{"v":11.8233,"d":"11.82"},{"v":67.1,"d":"67.10"},{"v":1978.7916666665687,"d":"1978.79"},8.64]
[1978.11,94.71,{"v":5.05333,"d":"5.05"},{"v":12.0767,"d":"12.08"},{"v":67.4,"d":"67.40"},{"v":1978.874999999902,"d":"1978.87"},8.81]
[1978.12,96.11,5.07,12.33,{"v":67.7,"d":"67.70"},{"v":1978.9583333332353,"d":"1978.96"},9.01]
[1979.01,99.71,{"v":5.11333,"d":"5.11"},{"v":12.6533,"d":"12.65"},{"v":68.3,"d":"68.30"},{"v":1979.0416666665685,"d":"1979.04"},{"v":9.1,"d":"9.10"}]
[1979.02,98.23,{"v":5.15667,"d":"5.16"},{"v":12.9767,"d":"12.98"},{"v":69.1,"d":"69.10"},{"v":1979.1249999999018,"d":"1979.12"},{"v":9.1,"d":"9.10"}]
[1979.03,{"v":100.1,"d":"100.10"},{"v":5.2,"d":"5.20"},{"v":13.3,"d":"13.30"},{"v":69.8,"d":"69.80"},{"v":1979.208333333235,"d":"1979.21"},9.12]
[1979.04,{"v":102.1,"d":"102.10"},{"v":5.24667,"d":"5.25"},{"v":13.5267,"d":"13.53"},{"v":70.6,"d":"70.60"},{"v":1979.2916666665683,"d":"1979.29"},9.18]
[1979.05,99.73,{"v":5.29333,"d":"5.29"},{"v":13.7533,"d":"13.75"},{"v":71.5,"d":"71.50"},{"v":1979.3749999999015,"d":"1979.37"},9.25]
[1979.06,{"v":101.7,"d":"101.70"},5.34,13.98,{"v":72.3,"d":"72.30"},{"v":1979.4583333332348,"d":"1979.46"},8.91]
[1979.07,{"v":102.7,"d":"102.70"},{"v":5.39667,"d":"5.40"},{"v":14.1967,"d":"14.20"},{"v":73.1,"d":"73.10"},{"v":1979.541666666568,"d":"1979.54"},8.95]
[1979.08,{"v":107.4,"d":"107.40"},{"v":5.45333,"d":"5.45"},{"v":14.4133,"d":"14.41"},{"v":73.8,"d":"73.80"},{"v":1979.6249999999013,"d":"1979.62"},9.03]
[1979.09,{"v":108.6,"d":"108.60"},5.51,14.63,{"v":74.6,"d":"74.60"},{"v":1979.7083333332346,"d":"1979.71"},9.33]
[{"v":1979.1,"d":"1979.10"},{"v":104.5,"d":"104.50"},{"v":5.55667,"d":"5.56"},{"v":14.7067,"d":"14.71"},{"v":75.2,"d":"75.20"},{"v":1979.7916666665678,"d":"1979.79"},{"v":10.3,"d":"10.30"}]
[1979.11,{"v":103.7,"d":"103.70"},{"v":5.60333,"d":"5.60"},{"v":14.7833,"d":"14.78"},{"v":75.9,"d":"75.90"},{"v":1979.874999999901,"d":"1979.87"},10.65]
[1979.12,{"v":107.8,"d":"107.80"},5.65,14.86,{"v":76.7,"d":"76.70"},{"v":1979.9583333332343,"d":"1979.96"},10.39]
[1980.01,{"v":110.9,"d":"110.90"},{"v":5.7,"d":"5.70"},{"v":15.0033,"d":"15.00"},{"v":77.8,"d":"77.80"},{"v":1980.0416666665676,"d":"1980.04"},{"v":10.8,"d":"10.80"}]
[1980.02,{"v":115.3,"d":"115.30"},5.75,{"v":15.1467,"d":"15.15"},{"v":78.9,"d":"78.90"},{"v":1980.1249999999009,"d":"1980.12"},12.41]
[1980.03,{"v":104.7,"d":"104.70"},{"v":5.8,"d":"5.80"},15.29,{"v":80.1,"d":"80.10"},{"v":1980.2083333332341,"d":"1980.21"},12.75]
[1980.04,{"v":103,"d":"103.00"},{"v":5.84667,"d":"5.85"},{"v":15.1733,"d":"15.17"},{"v":81,"d":"81.00"},{"v":1980.2916666665674,"d":"1980.29"},11.47]
[1980.05,{"v":107.7,"d":"107.70"},{"v":5.89333,"d":"5.89"},{"v":15.0567,"d":"15.06"},{"v":81.8,"d":"81.80"},{"v":1980.3749999999006,"d":"1980.37"},10.18]
[1980.06,{"v":114.6,"d":"114.60"},5.94,14.94,{"v":82.7,"d":"82.70"},{"v":1980.458333333234,"d":"1980.46"},9.78]
[1980.07,{"v":119.8,"d":"119.80"},{"v":5.98333,"d":"5.98"},14.84,{"v":82.7,"d":"82.70"},{"v":1980.5416666665672,"d":"1980.54"},10.25]
[1980.08,{"v":123.5,"d":"123.50"},{"v":6.02667,"d":"6.03"},14.74,{"v":83.3,"d":"83.30"},{"v":1980.6249999999004,"d":"1980.62"},{"v":11.1,"d":"11.10"}]
[1980.09,{"v":126.5,"d":"126.50"},6.07,14.64,{"v":84,"d":"84.00"},{"v":1980.7083333332337,"d":"1980.71"},11.51]
[{"v":1980.1,"d":"1980.10"},{"v":130.2,"d":"130.20"},{"v":6.1,"d":"6.10"},{"v":14.7,"d":"14.70"},{"v":84.8,"d":"84.80"},{"v":1980.791666666567,"d":"1980.79"},11.75]
[1980.11,{"v":135.7,"d":"135.70"},6.13,14.76,{"v":85.5,"d":"85.50"},{"v":1980.8749999999002,"d":"1980.87"},12.68]
[1980.12,{"v":133.5,"d":"133.50"},6.16,14.82,{"v":86.3,"d":"86.30"},{"v":1980.9583333332334,"d":"1980.96"},12.84]
[1981.01,{"v":133,"d":"133.00"},{"v":6.2,"d":"6.20"},14.74,{"v":87,"d":"87.00"},{"v":1981.0416666665667,"d":"1981.04"},12.57]
[1981.02,{"v":128.4,"d":"128.40"},6.24,14.66,{"v":87.9,"d":"87.90"},{"v":1981.1249999999,"d":"1981.12"},13.19]
[1981.03,{"v":133.2,"d":"133.20"},6.28,14.58,{"v":88.5,"d":"88.50"},{"v":1981.2083333332332,"d":"1981.21"},13.12]
[1981.04,{"v":134.4,"d":"134.40"},{"v":6.31667,"d":"6.32"},{"v":14.7233,"d":"14.72"},{"v":89.1,"d":"89.10"},{"v":1981.2916666665665,"d":"1981.29"},13.68]
[1981.05,{"v":131.7,"d":"131.70"},{"v":6.35333,"d":"6.35"},{"v":14.8667,"d":"14.87"},{"v":89.8,"d":"89.80"},{"v":1981.3749999998997,"d":"1981.37"},{"v":14.1,"d":"14.10"}]
[1981.06,{"v":132.3,"d":"132.30"},6.39,15.01,{"v":90.6,"d":"90.60"},{"v":1981.458333333233,"d":"1981.46"},13.47]
[1981.07,{"v":129.1,"d":"129.10"},{"v":6.43333,"d":"6.43"},{"v":15.0967,"d":"15.10"},{"v":91.6,"d":"91.60"},{"v":1981.5416666665662,"d":"1981.54"},14.28]
[1981.08,{"v":129.6,"d":"129.60"},{"v":6.47667,"d":"6.48"},{"v":15.1833,"d":"15.18"},{"v":92.3,"d":"92.30"},{"v":1981.6249999998995,"d":"1981.62"},14.94]
[1981.09,{"v":118.3,"d":"118.30"},6.52,15.27,{"v":93.2,"d":"93.20"},{"v":1981.7083333332328,"d":"1981.71"},15.32]
[{"v":1981.1,"d":"1981.10"},{"v":119.8,"d":"119.80"},{"v":6.55667,"d":"6.56"},{"v":15.3,"d":"15.30"},{"v":93.4,"d":"93.40"},{"v":1981.791666666566,"d":"1981.79"},15.15]
[1981.11,{"v":122.9,"d":"122.90"},{"v":6.59333,"d":"6.59"},15.33,{"v":93.7,"d":"93.70"},{"v":1981.8749999998993,"d":"1981.87"},13.39]
[1981.12,{"v":123.8,"d":"123.80"},6.63,15.36,{"v":94,"d":"94.00"},{"v":1981.9583333332325,"d":"1981.96"},13.72]
[1982.01,{"v":117.3,"d":"117.30"},6.66,{"v":15.1767,"d":"15.18"},{"v":94.3,"d":"94.30"},{"v":1982.0416666665658,"d":"1982.04"},14.59]
[1982.02,{"v":114.5,"d":"114.50"},6.69,{"v":14.9933,"d":"14.99"},{"v":94.6,"d":"94.60"},{"v":1982.124999999899,"d":"1982.12"},14.43]
[1982.03,{"v":110.8,"d":"110.80"},6.72,14.81,{"v":94.5,"d":"94.50"},{"v":1982.2083333332323,"d":"1982.21"},13.86]
[1982.04,{"v":116.3,"d":"116.30"},6.75,{"v":14.5967,"d":"14.60"},{"v":94.9,"d":"94.90"},{"v":1982.2916666665656,"d":"1982.29"},13.87]
[1982.05,{"v":116.4,"d":"116.40"},6.78,{"v":14.3833,"d":"14.38"},{"v":95.8,"d":"95.80"},{"v":1982.3749999998988,"d":"1982.37"},13.62]
[1982.06,{"v":109.7,"d":"109.70"},6.81,14.17,{"v":97,"d":"97.00"},{"v":1982.458333333232,"d":"1982.46"},{"v":14.3,"d":"14.30"}]
[1982.07,{"v":109.4,"d":"109.40"},{"v":6.82333,"d":"6.82"},{"v":13.9667,"d":"13.97"},{"v":97.5,"d":"97.50"},{"v":1982.5416666665653,"d":"1982.54"},13.95]
[1982.08,{"v":109.7,"d":"109.70"},{"v":6.83667,"d":"6.84"},{"v":13.7633,"d":"13.76"},{"v":97.7,"d":"97.70"},{"v":1982.6249999998986,"d":"1982.62"},13.06]
[1982.09,{"v":122.4,"d":"122.40"},6.85,13.56,{"v":97.9,"d":"97.90"},{"v":1982.7083333332318,"d":"1982.71"},12.34]
[{"v":1982.1,"d":"1982.10"},{"v":132.7,"d":"132.70"},{"v":6.85667,"d":"6.86"},{"v":13.2533,"d":"13.25"},{"v":98.2,"d":"98.20"},{"v":1982.791666666565,"d":"1982.79"},10.91]
[1982.11,{"v":138.1,"d":"138.10"},{"v":6.86333,"d":"6.86"},{"v":12.9467,"d":"12.95"},{"v":98,"d":"98.00"},{"v":1982.8749999998984,"d":"1982.87"},10.55]
[1982.12,{"v":139.4,"d":"139.40"},6.87,12.64,{"v":97.6,"d":"97.60"},{"v":1982.9583333332316,"d":"1982.96"},10.54]
[1983.01,{"v":144.3,"d":"144.30"},{"v":6.88333,"d":"6.88"},{"v":12.5667,"d":"12.57"},{"v":97.8,"d":"97.80"},{"v":1983.0416666665649,"d":"1983.04"},10.46]
[1983.02,{"v":146.8,"d":"146.80"},{"v":6.89667,"d":"6.90"},{"v":12.4933,"d":"12.49"},{"v":97.9,"d":"97.90"},{"$f":"F1352+1/12","v":{"v":1983.1249999998981,"d":"1983.12"}},10.72]
[1983.03,{"v":151.9,"d":"151.90"},6.91,12.42,{"v":97.9,"d":"97.90"},{"v":1983.2083333332314,"d":"1983.21"},10.51]
[1983.04,{"v":157.7,"d":"157.70"},6.92,{"v":12.4767,"d":"12.48"},{"v":98.6,"d":"98.60"},{"v":1983.2916666665647,"d":"1983.29"},{"v":10.4,"d":"10.40"}]
[1983.05,{"v":164.1,"d":"164.10"},6.93,{"v":12.5333,"d":"12.53"},{"v":99.2,"d":"99.20"},{"v":1983.374999999898,"d":"1983.37"},10.38]
[1983.06,{"v":166.4,"d":"166.40"},6.94,12.59,{"v":99.5,"d":"99.50"},{"v":1983.4583333332312,"d":"1983.46"},10.85]
[1983.07,{"v":167,"d":"167.00"},6.96,{"v":12.8267,"d":"12.83"},{"v":99.9,"d":"99.90"},{"v":1983.5416666665644,"d":"1983.54"},11.38]
[1983.08,{"v":162.4,"d":"162.40"},6.98,{"v":13.0633,"d":"13.06"},{"v":100.2,"d":"100.20"},{"v":1983.6249999998977,"d":"1983.62"},11.85]
[1983.09,{"v":167.2,"d":"167.20"},{"v":7,"d":"7.00"},{"v":13.3,"d":"13.30"},{"v":100.7,"d":"100.70"},{"v":1983.708333333231,"d":"1983.71"},11.65]
[{"v":1983.1,"d":"1983.10"},{"v":167.7,"d":"167.70"},7.03,{"v":13.5433,"d":"13.54"},{"v":101,"d":"101.00"},{"v":1983.7916666665642,"d":"1983.79"},11.54]
[1983.11,{"v":165.2,"d":"165.20"},7.06,{"v":13.7867,"d":"13.79"},{"v":101.2,"d":"101.20"},{"v":1983.8749999998975,"d":"1983.87"},11.69]
[1983.12,{"v":164.4,"d":"164.40"},7.09,14.03,{"v":101.3,"d":"101.30"},{"v":1983.9583333332307,"d":"1983.96"},11.83]
[1984.01,{"v":166.4,"d":"166.40"},7.12,14.44,{"v":101.9,"d":"101.90"},{"v":1984.041666666564,"d":"1984.04"},11.67]
[1984.02,{"v":157.3,"d":"157.30"},7.15,14.85,{"v":102.4,"d":"102.40"},{"v":1984.1249999998972,"d":"1984.12"},11.84]
[1984.03,{"v":157.4,"d":"157.40"},7.18,15.26,{"v":102.6,"d":"102.60"},{"v":1984.2083333332305,"d":"1984.21"},12.32]
[1984.04,{"v":157.6,"d":"157.60"},{"v":7.22333,"d":"7.22"},{"v":15.5733,"d":"15.57"},{"v":103.1,"d":"103.10"},{"v":1984.2916666665637,"d":"1984.29"},12.63]
[1984.05,{"v":156.6,"d":"156.60"},{"v":7.26667,"d":"7.27"},{"v":15.8867,"d":"15.89"},{"v":103.4,"d":"103.40"},{"v":1984.374999999897,"d":"1984.37"},13.41]
[1984.06,{"v":153.1,"d":"153.10"},7.31,{"v":16.2,"d":"16.20"},{"v":103.7,"d":"103.70"},{"v":1984.4583333332303,"d":"1984.46"},13.56]
[1984.07,{"v":151.1,"d":"151.10"},{"v":7.33333,"d":"7.33"},16.32,{"v":104.1,"d":"104.10"},{"v":1984.5416666665635,"d":"1984.54"},13.36]
[1984.08,{"v":164.4,"d":"164.40"},{"v":7.35667,"d":"7.36"},16.44,{"v":104.5,"d":"104.50"},{"v":1984.6249999998968,"d":"1984.62"},12.72]
[1984.09,{"v":166.1,"d":"166.10"},7.38,16.56,{"v":105,"d":"105.00"},{"v":1984.70833333323,"d":"1984.71"},12.52]
[{"v":1984.1,"d":"1984.10"},{"v":164.8,"d":"164.80"},7.43,{"v":16.5867,"d":"16.59"},{"v":105.3,"d":"105.30"},{"v":1984.7916666665633,"d":"1984.79"},12.16]
[1984.11,{"v":166.3,"d":"166.30"},7.48,{"v":16.6133,"d":"16.61"},{"v":105.3,"d":"105.30"},{"v":1984.8749999998965,"d":"1984.87"},11.57]
[1984.12,{"v":164.5,"d":"164.50"},7.53,16.64,{"v":105.3,"d":"105.30"},{"v":1984.9583333332298,"d":"1984.96"},{"v":11.5,"d":"11.50"}]
[1985.01,{"v":171.6,"d":"171.60"},{"v":7.57333,"d":"7.57"},{"v":16.5567,"d":"16.56"},{"v":105.5,"d":"105.50"},{"v":1985.041666666563,"d":"1985.04"},11.38]
[1985.02,{"v":180.9,"d":"180.90"},{"v":7.61667,"d":"7.62"},{"v":16.4733,"d":"16.47"},{"v":106,"d":"106.00"},{"v":1985.1249999998963,"d":"1985.12"},11.51]
[1985.03,{"v":179.4,"d":"179.40"},7.66,16.39,{"v":106.4,"d":"106.40"},{"v":1985.2083333332296,"d":"1985.21"},11.86]
[1985.04,{"v":180.6,"d":"180.60"},{"v":7.68667,"d":"7.69"},16.13,{"v":106.9,"d":"106.90"},{"v":1985.2916666665628,"d":"1985.29"},11.43]
[1985.05,{"v":184.9,"d":"184.90"},{"v":7.71333,"d":"7.71"},15.87,{"v":107.3,"d":"107.30"},{"v":1985.374999999896,"d":"1985.37"},10.85]
[1985.06,{"v":188.9,"d":"188.90"},7.74,15.61,{"v":107.6,"d":"107.60"},{"v":1985.4583333332293,"d":"1985.46"},10.16]
[1985.07,{"v":192.5,"d":"192.50"},{"v":7.77333,"d":"7.77"},{"v":15.4833,"d":"15.48"},{"v":107.8,"d":"107.80"},{"v":1985.5416666665626,"d":"1985.54"},10.31]
[1985.08,{"v":188.3,"d":"188.30"},{"v":7.80667,"d":"7.81"},{"v":15.3567,"d":"15.36"},{"v":108,"d":"108.00"},{"v":1985.6249999998959,"d":"1985.62"},10.33]
[1985.09,{"v":184.1,"d":"184.10"},7.84,15.23,{"v":108.3,"d":"108.30"},{"v":1985.7083333332291,"d":"1985.71"},10.37]
[{"v":1985.1,"d":"1985.10"},{"v":186.2,"d":"186.20"},7.86,{"v":15.0233,"d":"15.02"},{"v":108.7,"d":"108.70"},{"v":1985.7916666665624,"d":"1985.79"},10.24]
[1985.11,{"v":197.5,"d":"197.50"},7.88,{"v":14.8167,"d":"14.82"},{"v":109,"d":"109.00"},{"v":1985.8749999998956,"d":"1985.87"},9.78]
[1985.12,{"v":207.3,"d":"207.30"},{"v":7.9,"d":"7.90"},14.61,{"v":109.3,"d":"109.30"},{"v":1985.958333333229,"d":"1985.96"},9.26]
[1986.01,{"v":208.2,"d":"208.20"},7.94,14.58,{"v":109.6,"d":"109.60"},{"v":1986.0416666665622,"d":"1986.04"},9.19]
[1986.02,{"v":219.4,"d":"219.40"},7.98,14.55,{"v":109.3,"d":"109.30"},{"v":1986.1249999998954,"d":"1986.12"},{"v":8.7,"d":"8.70"}]
[1986.03,{"v":232.3,"d":"232.30"},8.02,14.52,{"v":108.8,"d":"108.80"},{"v":1986.2083333332287,"d":"1986.21"},7.78]
[1986.04,{"v":238,"d":"238.00"},{"v":8.04667,"d":"8.05"},{"v":14.5833,"d":"14.58"},{"v":108.6,"d":"108.60"},{"v":1986.291666666562,"d":"1986.29"},{"v":7.3,"d":"7.30"}]
[1986.05,{"v":238.5,"d":"238.50"},{"v":8.07333,"d":"8.07"},{"v":14.6467,"d":"14.65"},{"v":108.9,"d":"108.90"},{"v":1986.3749999998952,"d":"1986.37"},7.71]
[1986.06,{"v":245.3,"d":"245.30"},{"v":8.1,"d":"8.10"},14.71,{"v":109.5,"d":"109.50"},{"v":1986.4583333332284,"d":"1986.46"},{"v":7.8,"d":"7.80"}]
[1986.07,{"v":240.2,"d":"240.20"},{"v":8.14333,"d":"8.14"},{"v":14.7567,"d":"14.76"},{"v":109.5,"d":"109.50"},{"v":1986.5416666665617,"d":"1986.54"},{"v":7.3,"d":"7.30"}]
[1986.08,{"v":245,"d":"245.00"},{"v":8.18667,"d":"8.19"},{"v":14.8033,"d":"14.80"},{"v":109.7,"d":"109.70"},{"v":1986.624999999895,"d":"1986.62"},7.17]
[1986.09,{"v":238.3,"d":"238.30"},8.23,14.85,{"v":110.2,"d":"110.20"},{"v":1986.7083333332282,"d":"1986.71"},7.45]
[{"v":1986.1,"d":"1986.10"},{"v":237.4,"d":"237.40"},{"v":8.24667,"d":"8.25"},{"v":14.7267,"d":"14.73"},{"v":110.3,"d":"110.30"},{"v":1986.7916666665615,"d":"1986.79"},7.43]
[1986.11,{"v":245.1,"d":"245.10"},{"v":8.26333,"d":"8.26"},{"v":14.6033,"d":"14.60"},{"v":110.4,"d":"110.40"},{"v":1986.8749999998947,"d":"1986.87"},7.25]
[1986.12,{"v":248.6,"d":"248.60"},8.28,14.48,{"v":110.5,"d":"110.50"},{"v":1986.958333333228,"d":"1986.96"},7.11]
[1987.01,{"v":264.5,"d":"264.50"},{"v":8.3,"d":"8.30"},{"v":14.6867,"d":"14.69"},{"v":111.2,"d":"111.20"},{"v":1987.0416666665612,"d":"1987.04"},7.08]
[1987.02,{"v":280.9,"d":"280.90"},8.32,{"v":14.8933,"d":"14.89"},{"v":111.6,"d":"111.60"},{"v":1987.1249999998945,"d":"1987.12"},7.25]
[1987.03,{"v":292.5,"d":"292.50"},8.34,{"v":15.1,"d":"15.10"},{"v":112.1,"d":"112.10"},{"v":1987.2083333332278,"d":"1987.21"},7.25]
[1987.04,{"v":289.3,"d":"289.30"},{"v":8.4,"d":"8.40"},{"v":14.8733,"d":"14.87"},{"v":112.7,"d":"112.70"},{"v":1987.291666666561,"d":"1987.29"},8.02]
[1987.05,{"v":289.1,"d":"289.10"},8.46,{"v":14.6467,"d":"14.65"},{"v":113.1,"d":"113.10"},{"v":1987.3749999998943,"d":"1987.37"},8.61]
[1987.06,{"v":301.4,"d":"301.40"},8.52,14.42,{"v":113.5,"d":"113.50"},{"v":1987.4583333332275,"d":"1987.46"},{"v":8.4,"d":"8.40"}]
[1987.07,{"v":310.1,"d":"310.10"},{"v":8.56667,"d":"8.57"},{"v":14.9,"d":"14.90"},{"v":113.8,"d":"113.80"},{"v":1987.5416666665608,"d":"1987.54"},8.45]
[1987.08,{"v":329.4,"d":"329.40"},{"v":8.61333,"d":"8.61"},15.38,{"v":114.4,"d":"114.40"},{"v":1987.624999999894,"d":"1987.62"},8.76]
[1987.09,{"v":318.7,"d":"318.70"},8.66,15.86,{"v":115,"d":"115.00"},{"v":1987.7083333332273,"d":"1987.71"},9.42]
[{"v":1987.1,"d":"1987.10"},{"v":280.2,"d":"280.20"},8.71,{"v":16.4067,"d":"16.41"},{"v":115.3,"d":"115.30"},{"v":1987.7916666665606,"d":"1987.79"},9.52]
[1987.11,{"v":245,"d":"245.00"},8.76,{"v":16.9533,"d":"16.95"},{"v":115.4,"d":"115.40"},{"v":1987.8749999998938,"d":"1987.87"},8.86]
[1987.12,{"v":241,"d":"241.00"},8.81,{"v":17.5,"d":"17.50"},{"v":115.4,"d":"115.40"},{"v":1987.958333333227,"d":"1987.96"},8.99]
[1988.01,{"v":250.5,"d":"250.50"},{"v":8.85667,"d":"8.86"},{"v":17.8633,"d":"17.86"},{"v":115.7,"d":"115.70"},{"v":1988.0416666665603,"d":"1988.04"},8.67]
[1988.02,{"v":258.1,"d":"258.10"},{"v":8.90333,"d":"8.90"},{"v":18.2267,"d":"18.23"},{"v":116,"d":"116.00"},{"v":1988.1249999998936,"d":"1988.12"},8.21]
[1988.03,{"v":265.7,"d":"265.70"},8.95,18.59,{"v":116.5,"d":"116.50"},{"v":1988.2083333332268,"d":"1988.21"},8.37]
[1988.04,{"v":262.6,"d":"262.60"},{"v":9.04333,"d":"9.04"},{"v":19.6167,"d":"19.62"},{"v":117.1,"d":"117.10"},{"v":1988.29166666656,"d":"1988.29"},8.72]
[1988.05,{"v":256.1,"d":"256.10"},{"v":9.13667,"d":"9.14"},{"v":20.6433,"d":"20.64"},{"v":117.5,"d":"117.50"},{"v":1988.3749999998934,"d":"1988.37"},9.09]
[1988.06,{"v":270.7,"d":"270.70"},9.23,21.67,{"v":118,"d":"118.00"},{"$f":"F1416+1/12","v":{"v":1988.4583333332266,"d":"1988.46"}},8.92]
[1988.07,{"v":269.1,"d":"269.10"},{"v":9.30667,"d":"9.31"},{"v":22.0233,"d":"22.02"},{"v":118.5,"d":"118.50"},{"v":1988.5416666665599,"d":"1988.54"},9.06]
[1988.08,{"v":263.7,"d":"263.70"},{"v":9.38333,"d":"9.38"},{"v":22.3767,"d":"22.38"},{"v":119,"d":"119.00"},{"v":1988.6249999998931,"d":"1988.62"},9.26]
[1988.09,{"v":268,"d":"268.00"},9.46,22.73,{"v":119.8,"d":"119.80"},{"v":1988.7083333332264,"d":"1988.71"},8.98]
[{"v":1988.1,"d":"1988.10"},{"v":277.4,"d":"277.40"},9.55,{"v":23.0733,"d":"23.07"},{"v":120.2,"d":"120.20"},{"v":1988.7916666665596,"d":"1988.79"},{"v":8.8,"d":"8.80"}]
[1988.11,{"v":271,"d":"271.00"},9.64,{"v":23.4167,"d":"23.42"},{"v":120.3,"d":"120.30"},{"v":1988.874999999893,"d":"1988.87"},8.96]
[1988.12,{"v":276.5,"d":"276.50"},9.75,23.75,{"v":120.5,"d":"120.50"},{"v":1988.9583333332262,"d":"1988.96"},9.11]
[1989.01,{"v":285.4,"d":"285.40"},{"v":9.81333,"d":"9.81"},24.16,{"v":121.1,"d":"121.10"},{"v":1989.0416666665594,"d":"1989.04"},9.09]
[1989.02,{"v":294,"d":"294.00"},{"v":9.89667,"d":"9.90"},24.56,{"v":121.6,"d":"121.60"},{"v":1989.1249999998927,"d":"1989.12"},9.17]
[1989.03,{"v":292.7,"d":"292.70"},10.01,24.96,{"v":122.3,"d":"122.30"},{"v":1989.208333333226,"d":"1989.21"},9.36]
[1989.04,{"v":302.3,"d":"302.30"},{"v":10.0867,"d":"10.09"},{"v":25.0467,"d":"25.05"},{"v":123.1,"d":"123.10"},{"v":1989.2916666665592,"d":"1989.29"},9.18]
[1989.05,{"v":313.9,"d":"313.90"},{"v":10.1933,"d":"10.19"},{"v":25.1333,"d":"25.13"},{"v":123.8,"d":"123.80"},{"v":1989.3749999998925,"d":"1989.37"},8.86]
[1989.06,{"v":323.7,"d":"323.70"},10.37,25.22,{"v":124.1,"d":"124.10"},{"v":1989.4583333332257,"d":"1989.46"},8.28]
[1989.07,{"v":331.9,"d":"331.90"},{"v":10.4233,"d":"10.42"},24.71,{"v":124.4,"d":"124.40"},{"v":1989.541666666559,"d":"1989.54"},8.02]
[1989.08,{"v":346.6,"d":"346.60"},{"v":10.5467,"d":"10.55"},{"v":24.2,"d":"24.20"},{"v":124.6,"d":"124.60"},{"v":1989.6249999998922,"d":"1989.62"},8.11]
[1989.09,{"v":347.3,"d":"347.30"},10.73,23.69,{"v":125,"d":"125.00"},{"v":1989.7083333332255,"d":"1989.71"},8.19]
[{"v":1989.1,"d":"1989.10"},{"v":347.4,"d":"347.40"},{"v":10.7967,"d":"10.80"},{"v":23.4267,"d":"23.43"},{"v":125.6,"d":"125.60"},{"v":1989.7916666665587,"d":"1989.79"},8.01]
[1989.11,{"v":340.2,"d":"340.20"},{"v":10.9233,"d":"10.92"},{"v":23.1633,"d":"23.16"},{"v":125.9,"d":"125.90"},{"v":1989.874999999892,"d":"1989.87"},7.87]
[1989.12,{"v":348.6,"d":"348.60"},11.06,22.87,{"v":126.1,"d":"126.10"},{"v":1989.9583333332253,"d":"1989.96"},7.84]
[1990.01,339.97,11.14,22.49,{"v":127.4,"d":"127.40"},{"v":1990.0416666665585,"d":"1990.04"},8.21]
[1990.02,330.45,11.23,22.08,{"v":128,"d":"128.00"},{"v":1990.1249999998918,"d":"1990.12"},8.47]
[1990.03,338.46,11.32,21.67,{"v":128.7,"d":"128.70"},{"v":1990.208333333225,"d":"1990.21"},8.59]
[1990.04,338.18,{"v":11.4367,"d":"11.44"},{"v":21.5333,"d":"21.53"},{"v":128.9,"d":"128.90"},{"v":1990.2916666665583,"d":"1990.29"},8.79]
[1990.05,350.25,{"v":11.5533,"d":"11.55"},{"v":21.3967,"d":"21.40"},{"v":129.2,"d":"129.20"},{"v":1990.3749999998915,"d":"1990.37"},8.76]
[1990.06,360.39,11.66,21.26,{"v":129.9,"d":"129.90"},{"v":1990.4583333332248,"d":"1990.46"},8.48]
[1990.07,360.03,{"v":11.7267,"d":"11.73"},21.42,{"v":130.4,"d":"130.40"},{"v":1990.541666666558,"d":"1990.54"},8.47]
[1990.08,330.75,{"v":11.7833,"d":"11.78"},21.58,{"v":131.6,"d":"131.60"},{"v":1990.6249999998913,"d":"1990.62"},8.75]
[1990.09,315.41,11.83,21.74,{"v":132.7,"d":"132.70"},{"v":1990.7083333332246,"d":"1990.71"},8.89]
[{"v":1990.1,"d":"1990.10"},307.12,{"v":11.9267,"d":"11.93"},{"v":21.6067,"d":"21.61"},{"v":133.5,"d":"133.50"},{"v":1990.7916666665578,"d":"1990.79"},8.72]
[1990.11,315.29,{"v":12.0133,"d":"12.01"},{"v":21.4733,"d":"21.47"},{"v":133.8,"d":"133.80"},{"v":1990.874999999891,"d":"1990.87"},8.39]
[1990.12,328.75,12.09,21.34,{"v":133.8,"d":"133.80"},{"v":1990.9583333332243,"d":"1990.96"},8.08]
[1991.01,325.49,{"v":12.1067,"d":"12.11"},{"v":21.1833,"d":"21.18"},{"v":134.6,"d":"134.60"},{"v":1991.0416666665576,"d":"1991.04"},8.09]
[1991.02,362.26,{"v":12.1133,"d":"12.11"},{"v":21.0267,"d":"21.03"},{"v":134.8,"d":"134.80"},{"v":1991.1249999998909,"d":"1991.12"},7.85]
[1991.03,372.28,12.11,20.94,{"v":135,"d":"135.00"},{"v":1991.2083333332241,"d":"1991.21"},8.11]
[1991.04,379.68,12.13,{"v":20.3633,"d":"20.36"},{"v":135.2,"d":"135.20"},{"v":1991.2916666665574,"d":"1991.29"},8.04]
[1991.05,377.99,12.14,{"v":19.8567,"d":"19.86"},{"v":135.6,"d":"135.60"},{"v":1991.3749999998906,"d":"1991.37"},8.07]
[1991.06,378.29,12.15,19.41,{"v":136,"d":"136.00"},{"v":1991.458333333224,"d":"1991.46"},8.28]
[1991.07,380.23,{"v":12.1933,"d":"12.19"},18.84,{"v":136.2,"d":"136.20"},{"v":1991.5416666665571,"d":"1991.54"},8.27]
[1991.08,{"v":389.4,"d":"389.40"},{"v":12.2367,"d":"12.24"},18.33,{"v":136.6,"d":"136.60"},{"v":1991.6249999998904,"d":"1991.62"},{"v":7.9,"d":"7.90"}]
[1991.09,{"v":387.2,"d":"387.20"},12.28,17.82,{"v":137.2,"d":"137.20"},{"v":1991.7083333332237,"d":"1991.71"},7.65]
[{"v":1991.1,"d":"1991.10"},386.88,{"v":12.2533,"d":"12.25"},{"v":17.2033,"d":"17.20"},{"v":137.4,"d":"137.40"},{"v":1991.791666666557,"d":"1991.79"},7.53]
[1991.11,385.92,{"v":12.2267,"d":"12.23"},{"v":16.5867,"d":"16.59"},{"v":137.8,"d":"137.80"},{"v":1991.8749999998902,"d":"1991.87"},7.42]
[1991.12,388.51,{"v":12.2,"d":"12.20"},15.97,{"v":137.9,"d":"137.90"},{"v":1991.9583333332234,"d":"1991.96"},7.09]
[1992.01,416.08,12.24,{"v":16.0467,"d":"16.05"},{"v":138.1,"d":"138.10"},{"v":1992.0416666665567,"d":"1992.04"},7.03]
[1992.02,412.56,12.28,{"v":16.1233,"d":"16.12"},{"v":138.6,"d":"138.60"},{"v":1992.12499999989,"d":"1992.12"},7.34]
[1992.03,407.36,12.32,16.19,{"v":139.3,"d":"139.30"},{"v":1992.2083333332232,"d":"1992.21"},7.54]
[1992.04,407.41,12.32,{"v":16.4833,"d":"16.48"},{"v":139.5,"d":"139.50"},{"v":1992.2916666665565,"d":"1992.29"},7.48]
[1992.05,414.81,12.32,{"v":16.7667,"d":"16.77"},{"v":139.7,"d":"139.70"},{"v":1992.3749999998897,"d":"1992.37"},7.39]
[1992.06,408.27,12.32,17.05,{"v":140.2,"d":"140.20"},{"v":1992.458333333223,"d":"1992.46"},7.26]
[1992.07,415.05,{"v":12.3433,"d":"12.34"},17.38,{"v":140.5,"d":"140.50"},{"v":1992.5416666665562,"d":"1992.54"},6.84]
[1992.08,417.93,{"v":12.3667,"d":"12.37"},17.71,{"v":140.9,"d":"140.90"},{"v":1992.6249999998895,"d":"1992.62"},6.59]
[1992.09,418.48,{"v":12.4,"d":"12.40"},18.04,{"v":141.3,"d":"141.30"},{"v":1992.7083333332228,"d":"1992.71"},6.42]
[{"v":1992.1,"d":"1992.10"},{"v":412.5,"d":"412.50"},{"v":12.3867,"d":"12.39"},18.39,{"v":141.8,"d":"141.80"},{"v":1992.791666666556,"d":"1992.79"},6.59]
[1992.11,422.84,{"v":12.3833,"d":"12.38"},18.74,{"v":142,"d":"142.00"},{"v":1992.8749999998893,"d":"1992.87"},6.87]
[1992.12,435.64,12.39,19.09,{"v":141.9,"d":"141.90"},{"v":1992.9583333332225,"d":"1992.96"},6.77]
[1993.01,435.23,{"v":12.4133,"d":"12.41"},19.34,{"v":142.6,"d":"142.60"},{"v":1993.0416666665558,"d":"1993.04"},{"v":6.6,"d":"6.60"}]
[1993.02,{"v":441.7,"d":"441.70"},{"v":12.4467,"d":"12.45"},19.59,{"v":143.1,"d":"143.10"},{"v":1993.124999999889,"d":"1993.12"},6.26]
[1993.03,450.16,12.48,19.84,{"v":143.6,"d":"143.60"},{"v":1993.2083333332223,"d":"1993.21"},5.98]
[1993.04,443.08,{"v":12.4933,"d":"12.49"},19.67,{"v":144,"d":"144.00"},{"v":1993.2916666665556,"d":"1993.29"},5.97]
[1993.05,445.25,{"v":12.5067,"d":"12.51"},{"v":19.5,"d":"19.50"},{"v":144.2,"d":"144.20"},{"v":1993.3749999998888,"d":"1993.37"},6.04]
[1993.06,448.06,12.52,19.33,{"v":144.4,"d":"144.40"},{"v":1993.458333333222,"d":"1993.46"},5.96]
[1993.07,447.29,12.52,19.69,{"v":144.4,"d":"144.40"},{"v":1993.5416666665553,"d":"1993.54"},5.81]
[1993.08,454.13,12.52,20.05,{"v":144.8,"d":"144.80"},{"v":1993.6249999998886,"d":"1993.62"},5.68]
[1993.09,459.24,12.52,20.41,{"v":145.1,"d":"145.10"},{"v":1993.7083333332218,"d":"1993.71"},5.36]
[{"v":1993.1,"d":"1993.10"},{"v":463.9,"d":"463.90"},12.54,{"v":20.9,"d":"20.90"},{"v":145.7,"d":"145.70"},{"$f":"F1480+1/12","v":{"v":1993.791666666555,"d":"1993.79"}},5.33]
[1993.11,462.89,12.56,21.39,{"v":145.8,"d":"145.80"},{"v":1993.8749999998884,"d":"1993.87"},5.72]
[1993.12,465.95,12.58,21.89,{"v":145.8,"d":"145.80"},{"v":1993.9583333332216,"d":"1993.96"},5.77]
[1994.01,472.99,{"v":12.6233,"d":"12.62"},{"v":22.1567,"d":"22.16"},{"v":146.2,"d":"146.20"},{"v":1994.0416666665549,"d":"1994.04"},5.75]
[1994.02,471.58,{"v":12.6667,"d":"12.67"},{"v":22.4333,"d":"22.43"},{"v":146.7,"d":"146.70"},{"v":1994.1249999998881,"d":"1994.12"},5.97]
[1994.03,463.81,12.71,22.71,{"v":147.2,"d":"147.20"},{"v":1994.2083333332214,"d":"1994.21"},6.48]
[1994.04,447.23,{"v":12.7533,"d":"12.75"},23.54,{"v":147.4,"d":"147.40"},{"v":1994.2916666665546,"d":"1994.29"},6.97]
[1994.05,{"v":450.9,"d":"450.90"},{"v":12.7967,"d":"12.80"},24.37,{"v":147.5,"d":"147.50"},{"v":1994.374999999888,"d":"1994.37"},7.18]
[1994.06,454.83,12.84,{"v":25.2,"d":"25.20"},{"v":148,"d":"148.00"},{"v":1994.4583333332212,"d":"1994.46"},{"v":7.1,"d":"7.10"}]
[1994.07,{"v":451.4,"d":"451.40"},12.87,25.91,{"v":148.4,"d":"148.40"},{"v":1994.5416666665544,"d":"1994.54"},{"v":7.3,"d":"7.30"}]
[1994.08,464.24,{"v":12.9,"d":"12.90"},26.62,{"v":149,"d":"149.00"},{"v":1994.6249999998877,"d":"1994.62"},7.24]
[1994.09,466.96,12.92,27.33,{"v":149.4,"d":"149.40"},{"v":1994.708333333221,"d":"1994.71"},7.46]
[{"v":1994.1,"d":"1994.10"},463.81,{"v":13.0133,"d":"13.01"},28.42,{"v":149.5,"d":"149.50"},{"v":1994.7916666665542,"d":"1994.79"},7.74]
[1994.11,461.01,{"v":13.0967,"d":"13.10"},29.51,{"v":149.7,"d":"149.70"},{"v":1994.8749999998875,"d":"1994.87"},7.96]
[1994.12,455.19,13.17,{"v":30.6,"d":"30.60"},{"v":149.7,"d":"149.70"},{"v":1994.9583333332207,"d":"1994.96"},7.81]
[1995.01,465.25,13.18,31.25,{"v":150.3,"d":"150.30"},{"v":1995.041666666554,"d":"1995.04"},7.78]
[1995.02,481.92,13.18,{"v":31.9,"d":"31.90"},{"v":150.9,"d":"150.90"},{"v":1995.1249999998872,"d":"1995.12"},7.47]
[1995.03,493.15,13.17,32.55,{"v":151.4,"d":"151.40"},{"v":1995.2083333332205,"d":"1995.21"},{"v":7.2,"d":"7.20"}]
[1995.04,507.91,{"v":13.2433,"d":"13.24"},{"v":33.1767,"d":"33.18"},{"v":151.9,"d":"151.90"},{"v":1995.2916666665537,"d":"1995.29"},7.06]
[1995.05,523.81,{"v":13.3067,"d":"13.31"},{"v":33.8033,"d":"33.80"},{"v":152.2,"d":"152.20"},{"v":1995.374999999887,"d":"1995.37"},6.63]
[1995.06,539.35,13.36,34.43,{"v":152.5,"d":"152.50"},{"v":1995.4583333332203,"d":"1995.46"},6.17]
[1995.07,557.37,13.44,34.68,{"v":152.5,"d":"152.50"},{"v":1995.5416666665535,"d":"1995.54"},6.28]
[1995.08,559.11,13.51,34.93,{"v":152.9,"d":"152.90"},{"v":1995.6249999998868,"d":"1995.62"},6.49]
[1995.09,578.77,13.58,35.18,{"v":153.2,"d":"153.20"},{"v":1995.70833333322,"d":"1995.71"},{"v":6.2,"d":"6.20"}]
[{"v":1995.1,"d":"1995.10"},582.92,13.65,{"v":34.7733,"d":"34.77"},{"v":153.7,"d":"153.70"},{"v":1995.7916666665533,"d":"1995.79"},6.04]
[1995.11,595.53,13.72,{"v":34.3667,"d":"34.37"},{"v":153.6,"d":"153.60"},{"v":1995.8749999998865,"d":"1995.87"},5.93]
[1995.12,614.57,13.79,33.96,{"v":153.5,"d":"153.50"},{"v":1995.9583333332198,"d":"1995.96"},5.71]
[1996.01,614.42,{"v":13.8933,"d":"13.89"},{"v":33.9867,"d":"33.99"},{"v":154.4,"d":"154.40"},{"v":1996.041666666553,"d":"1996.04"},5.65]
[1996.02,649.54,{"v":13.9967,"d":"14.00"},{"v":34.0133,"d":"34.01"},{"v":154.9,"d":"154.90"},{"v":1996.1249999998863,"d":"1996.12"},5.81]
[1996.03,647.07,{"v":14.1,"d":"14.10"},34.04,{"v":155.7,"d":"155.70"},{"v":1996.2083333332196,"d":"1996.21"},6.27]
[1996.04,647.17,{"v":14.1567,"d":"14.16"},34.33,{"v":156.3,"d":"156.30"},{"v":1996.2916666665528,"d":"1996.29"},6.51]
[1996.05,661.23,{"v":14.2133,"d":"14.21"},34.62,{"v":156.6,"d":"156.60"},{"v":1996.374999999886,"d":"1996.37"},6.74]
[1996.06,{"v":668.5,"d":"668.50"},14.27,34.91,{"v":156.7,"d":"156.70"},{"v":1996.4583333332193,"d":"1996.46"},6.91]
[1996.07,644.07,{"v":14.4,"d":"14.40"},{"v":35.2733,"d":"35.27"},{"v":157,"d":"157.00"},{"v":1996.5416666665526,"d":"1996.54"},6.87]
[1996.08,662.68,14.53,{"v":35.6367,"d":"35.64"},{"v":157.3,"d":"157.30"},{"v":1996.6249999998859,"d":"1996.62"},6.64]
[1996.09,674.88,14.66,{"v":36,"d":"36.00"},{"v":157.8,"d":"157.80"},{"v":1996.7083333332191,"d":"1996.71"},6.83]
[{"v":1996.1,"d":"1996.10"},701.46,14.74,36.91,{"v":158.3,"d":"158.30"},{"v":1996.7916666665524,"d":"1996.79"},6.53]
[1996.11,735.67,14.82,37.82,{"v":158.6,"d":"158.60"},{"v":1996.8749999998856,"d":"1996.87"},{"v":6.2,"d":"6.20"}]
[1996.12,743.25,{"v":14.9,"d":"14.90"},38.73,{"v":158.6,"d":"158.60"},{"v":1996.958333333219,"d":"1996.96"},{"v":6.3,"d":"6.30"}]
[1997.01,766.22,{"v":14.9533,"d":"14.95"},{"v":39.2333,"d":"39.23"},{"v":159.1,"d":"159.10"},{"v":1997.0416666665521,"d":"1997.04"},6.58]
[1997.02,798.39,{"v":15.0067,"d":"15.01"},{"v":39.7367,"d":"39.74"},{"v":159.6,"d":"159.60"},{"v":1997.1249999998854,"d":"1997.12"},6.42]
[1997.03,792.16,15.06,40.24,{"v":160,"d":"160.00"},{"v":1997.2083333332187,"d":"1997.21"},6.69]
[1997.04,763.93,{"v":15.0933,"d":"15.09"},{"v":40.3433,"d":"40.34"},{"v":160.2,"d":"160.20"},{"v":1997.291666666552,"d":"1997.29"},6.89]
[1997.05,833.09,{"v":15.1267,"d":"15.13"},{"v":40.4467,"d":"40.45"},{"v":160.1,"d":"160.10"},{"v":1997.3749999998852,"d":"1997.37"},6.71]
[1997.06,876.29,15.16,40.55,{"v":160.3,"d":"160.30"},{"v":1997.4583333332184,"d":"1997.46"},6.49]
[1997.07,925.29,{"v":15.2167,"d":"15.22"},40.58,{"v":160.5,"d":"160.50"},{"v":1997.5416666665517,"d":"1997.54"},6.22]
[1997.08,927.24,{"v":15.2733,"d":"15.27"},40.61,{"v":160.8,"d":"160.80"},{"v":1997.624999999885,"d":"1997.62"},{"v":6.3,"d":"6.30"}]
[1997.09,937.02,15.33,40.64,{"v":161.2,"d":"161.20"},{"v":1997.7083333332182,"d":"1997.71"},6.21]
[{"v":1997.1,"d":"1997.10"},951.16,{"v":15.3867,"d":"15.39"},{"v":40.3333,"d":"40.33"},{"v":161.6,"d":"161.60"},{"v":1997.7916666665515,"d":"1997.79"},6.03]
[1997.11,938.92,{"v":15.4433,"d":"15.44"},{"v":40.0267,"d":"40.03"},{"v":161.5,"d":"161.50"},{"v":1997.8749999998847,"d":"1997.87"},5.88]
[1997.12,962.37,{"v":15.5,"d":"15.50"},39.72,{"v":161.3,"d":"161.30"},{"v":1997.958333333218,"d":"1997.96"},5.81]
[1998.01,963.36,15.55,39.66,{"v":161.6,"d":"161.60"},{"v":1998.0416666665512,"d":"1998.04"},5.54]
[1998.02,1023.74,{"v":15.6,"d":"15.60"},{"v":39.6,"d":"39.60"},{"v":161.9,"d":"161.90"},{"v":1998.1249999998845,"d":"1998.12"},5.57]
[1998.03,1076.83,15.64,39.54,{"v":162.2,"d":"162.20"},{"v":1998.2083333332178,"d":"1998.21"},5.65]
[1998.04,{"v":1112.2,"d":"1112.20"},15.75,39.35,{"v":162.5,"d":"162.50"},{"v":1998.291666666551,"d":"1998.29"},5.64]
[1998.05,1108.42,15.85,39.16,{"v":162.8,"d":"162.80"},{"v":1998.3749999998843,"d":"1998.37"},5.65]
[1998.06,1108.39,15.95,38.97,{"v":163,"d":"163.00"},{"v":1998.4583333332175,"d":"1998.46"},{"v":5.5,"d":"5.50"}]
[1998.07,1156.58,{"v":16.0167,"d":"16.02"},{"v":38.6767,"d":"38.68"},{"v":163.2,"d":"163.20"},{"v":1998.5416666665508,"d":"1998.54"},5.46]
[1998.08,1074.62,{"v":16.0833,"d":"16.08"},{"v":38.3833,"d":"38.38"},{"v":163.4,"d":"163.40"},{"v":1998.624999999884,"d":"1998.62"},5.34]
[1998.09,1020.64,16.14,38.09,{"v":163.6,"d":"163.60"},{"v":1998.7083333332173,"d":"1998.71"},4.81]
[{"v":1998.1,"d":"1998.10"},1032.47,{"v":16.1667,"d":"16.17"},{"v":37.9633,"d":"37.96"},{"v":164,"d":"164.00"},{"v":1998.7916666665506,"d":"1998.79"},4.53]
[1998.11,1144.43,{"v":16.1833,"d":"16.18"},{"v":37.8367,"d":"37.84"},{"v":164,"d":"164.00"},{"v":1998.8749999998838,"d":"1998.87"},4.83]
[1998.12,1190.05,{"v":16.2,"d":"16.20"},37.71,{"v":163.9,"d":"163.90"},{"v":1998.958333333217,"d":"1998.96"},4.65]
[1999.01,1248.77,{"v":16.28333333,"d":"16.28"},{"v":37.93333333,"d":"37.93"},{"v":164.3,"d":"164.30"},{"v":1999.0416666665503,"d":"1999.04"},4.72]
[1999.02,1246.58,{"v":16.36666667,"d":"16.37"},{"v":38.15666667,"d":"38.16"},{"v":164.5,"d":"164.50"},{"$f":"F1544+1/12","v":{"v":1999.1249999998836,"d":"1999.12"}},{"v":5,"d":"5.00"}]
[1999.03,1281.66,16.45,38.38,{"v":165,"d":"165.00"},{"v":1999.2083333332168,"d":"1999.21"},5.23]
[1999.04,1334.76,{"$f":"C1546*2/3+C1549/3","v":16.45},39.26,{"v":166.2,"d":"166.20"},{"v":1999.29166666655,"d":"1999.29"},5.18]
[1999.05,1332.07,{"$f":"C1546/3+C1549*2/3","v":16.45},40.14,{"v":166.2,"d":"166.20"},{"v":1999.3749999998834,"d":"1999.37"},5.54]
[1999.06,1322.55,16.45,41.02,{"v":166.2,"d":"166.20"},{"v":1999.4583333332166,"d":"1999.46"},{"v":5.9,"d":"5.90"}]
[1999.07,1380.99,{"$f":"C1549*2/3+C1552/3","v":{"v":16.513333333333335,"d":"16.51"}},{"v":42,"d":"42.00"},{"v":166.7,"d":"166.70"},{"v":1999.5416666665499,"d":"1999.54"},5.79]
[1999.08,1327.49,{"$f":"C1549/3+C1552*2/3","v":{"v":16.576666666666668,"d":"16.58"}},42.98,{"v":167.1,"d":"167.10"},{"v":1999.6249999998831,"d":"1999.62"},5.94]
[1999.09,1318.17,16.64,43.96,{"v":167.9,"d":"167.90"},{"v":1999.7083333332164,"d":"1999.71"},5.92]
[{"v":1999.1,"d":"1999.10"},1300.01,{"$f":"C1552*2/3+C1555/3","v":{"v":16.656666666666666,"d":"16.66"}},{"$f":"(2*D1552+D1555)/3","v":{"v":45.36333333333334,"d":"45.36"}},{"v":168.2,"d":"168.20"},{"v":1999.7916666665496,"d":"1999.79"},6.11]
[1999.11,{"v":1391,"d":"1391.00"},{"$f":"C1552/3+C1555*2/3","v":{"v":16.673333333333332,"d":"16.67"}},{"$f":"(D1552+2*D1555)/3","v":{"v":46.76666666666667,"d":"46.77"}},{"v":168.3,"d":"168.30"},{"v":1999.874999999883,"d":"1999.87"},6.03]
[1999.12,1428.68,16.69,48.17,{"v":168.3,"d":"168.30"},{"v":1999.9583333332162,"d":"1999.96"},6.28]
[2000.01,1425.59,{"$f":"C1555*2/3+C1558/3","v":{"v":16.713333333333335,"d":"16.71"}},{"$f":"(2*D1555+D1558)/3","v":{"v":49.09666666666667,"d":"49.10"}},{"v":168.8,"d":"168.80"},{"v":2000.0416666665494,"d":"2000.04"},6.66]
[2000.02,1388.87,{"$f":"C1555/3+C1558*2/3","v":{"v":16.736666666666668,"d":"16.74"}},{"$f":"(D1555+2*D1558)/3","v":{"v":50.02333333333333,"d":"50.02"}},{"v":169.8,"d":"169.80"},{"v":2000.1249999998827,"d":"2000.12"},6.52]
[2000.03,1442.21,16.76,50.95,{"v":171.2,"d":"171.20"},{"v":2000.208333333216,"d":"2000.21"},6.26]
[2000.04,1461.36,{"$f":"C1558*2/3+C1561/3","v":{"v":16.740000000000002,"d":"16.74"}},{"$f":"(2*D1558+D1561)/3","v":{"v":51.27333333333333,"d":"51.27"}},{"v":171.3,"d":"171.30"},{"v":2000.2916666665492,"d":"2000.29"},5.99]
[2000.05,1418.48,{"$f":"C1558/3+C1561*2/3","v":16.72},{"$f":"(D1558+2*D1561)/3","v":{"v":51.59666666666667,"d":"51.60"}},{"v":171.5,"d":"171.50"},{"v":2000.3749999998824,"d":"2000.37"},6.44]
[2000.06,1461.96,{"v":16.7,"d":"16.70"},51.92,{"v":172.4,"d":"172.40"},{"v":2000.4583333332157,"d":"2000.46"},{"v":6.1,"d":"6.10"}]
[2000.07,{"v":1473,"d":"1473.00"},{"$f":"C1561*2/3+C1564/3","v":{"v":16.583333333333332,"d":"16.58"}},{"$f":"(2*D1561+D1564)/3","v":{"v":52.51333333333334,"d":"52.51"}},{"v":172.8,"d":"172.80"},{"v":2000.541666666549,"d":"2000.54"},6.05]
[2000.08,1485.46,{"$f":"C1561/3+C1564*2/3","v":{"v":16.46666666666667,"d":"16.47"}},{"$f":"(D1561+2*D1564)/3","v":{"v":53.10666666666666,"d":"53.11"}},{"v":172.8,"d":"172.80"},{"v":2000.6249999998822,"d":"2000.62"},5.83]
[2000.09,1468.05,16.35,{"v":53.7,"d":"53.70"},{"v":173.7,"d":"173.70"},{"v":2000.7083333332155,"d":"2000.71"},{"v":5.8,"d":"5.80"}]
[{"v":2000.1,"d":"2000.10"},1390.14,{"$f":"C1564*2/3+C1567/3","v":{"v":16.323333333333334,"d":"16.32"}},{"$f":"(2*D1564+D1567)/3","v":{"v":52.46666666666667,"d":"52.47"}},{"v":174,"d":"174.00"},{"v":2000.7916666665487,"d":"2000.79"},5.74]
[2000.11,1378.04,{"$f":"C1564/3+C1567*2/3","v":{"v":16.296666666666667,"d":"16.30"}},{"$f":"(D1564+2*D1567)/3","v":{"v":51.23333333333333,"d":"51.23"}},{"v":174.1,"d":"174.10"},{"v":2000.874999999882,"d":"2000.87"},5.72]
[2000.12,1330.93,16.27,{"v":50,"d":"50.00"},{"v":174,"d":"174.00"},{"v":2000.9583333332153,"d":"2000.96"},5.24]
[2001.01,1335.63,{"$f":"C1567*2/3+C1570/3","v":{"v":16.169999999999998,"d":"16.17"}},{"$f":"(2*D1567+D1570)/3","v":48.48},{"v":175.1,"d":"175.10"},{"v":2001.0416666665485,"d":"2001.04"},5.16]
[2001.02,1305.75,{"$f":"C1567/3+C1570*2/3","v":16.07},{"$f":"(D1567+2*D1570)/3","v":46.96},{"v":175.8,"d":"175.80"},{"v":2001.1249999998818,"d":"2001.12"},{"v":5.1,"d":"5.10"}]
[2001.03,1185.85,15.97,45.44,{"v":176.2,"d":"176.20"},{"v":2001.208333333215,"d":"2001.21"},4.89]
[2001.04,1189.84,{"$f":"C1570*2/3+C1573/3","v":{"v":15.876666666666665,"d":"15.88"}},{"$f":"(2*D1570+D1573)/3","v":{"v":42.556666666666665,"d":"42.56"}},{"v":176.9,"d":"176.90"},{"v":2001.2916666665483,"d":"2001.29"},5.14]
[2001.05,1270.37,{"$f":"C1570/3+C1573*2/3","v":{"v":15.783333333333331,"d":"15.78"}},{"$f":"(D1570+2*D1573)/3","v":{"v":39.67333333333333,"d":"39.67"}},{"v":177.7,"d":"177.70"},{"v":2001.3749999998815,"d":"2001.37"},5.39]
[2001.06,1238.71,15.69,36.79,{"v":178,"d":"178.00"},{"v":2001.4583333332148,"d":"2001.46"},5.28]
[2001.07,1204.45,{"$f":"C1573*2/3+C1576/3","v":{"v":15.706666666666667,"d":"15.71"}},{"$f":"(2*D1573+D1576)/3","v":{"v":33.96333333333333,"d":"33.96"}},{"v":177.5,"d":"177.50"},{"v":2001.541666666548,"d":"2001.54"},5.24]
[2001.08,{"v":1178.5,"d":"1178.50"},{"$f":"C1573/3+C1576*2/3","v":{"v":15.723333333333333,"d":"15.72"}},{"$f":"(D1573+2*D1576)/3","v":{"v":31.136666666666667,"d":"31.14"}},{"v":177.5,"d":"177.50"},{"v":2001.6249999998813,"d":"2001.62"},4.97]
[2001.09,1044.64,15.74,28.31,{"v":178.3,"d":"178.30"},{"v":2001.7083333332146,"d":"2001.71"},4.73]
[{"v":2001.1,"d":"2001.10"},1076.59,{"$f":"C1576*2/3+C1579/3","v":{"v":15.740000000000002,"d":"15.74"}},{"$f":"(2*D1576+D1579)/3","v":{"v":27.103333333333335,"d":"27.10"}},{"v":177.7,"d":"177.70"},{"v":2001.7916666665478,"d":"2001.79"},4.57]
[2001.11,1129.68,{"$f":"C1576/3+C1579*2/3","v":{"v":15.740000000000002,"d":"15.74"}},{"$f":"(D1576+2*D1579)/3","v":{"v":25.896666666666665,"d":"25.90"}},{"v":177.4,"d":"177.40"},{"v":2001.874999999881,"d":"2001.87"},4.65]
[2001.12,1144.93,15.74,24.69,{"v":176.7,"d":"176.70"},{"v":2001.9583333332143,"d":"2001.96"},5.09]
[2002.01,1140.21,{"$f":"C1579*2/3+C1582/3","v":{"v":15.736666666666668,"d":"15.74"}},{"$f":"(2*D1579+D1582)/3","v":{"v":24.69333333333333,"d":"24.69"}},{"v":177.1,"d":"177.10"},{"v":2002.0416666665476,"d":"2002.04"},5.04]
[2002.02,1100.67,{"$f":"C1579/3+C1582*2/3","v":{"v":15.733333333333334,"d":"15.73"}},{"$f":"(D1579+2*D1582)/3","v":{"v":24.69666666666667,"d":"24.70"}},{"v":177.8,"d":"177.80"},{"v":2002.1249999998809,"d":"2002.12"},4.91]
[2002.03,1153.79,15.73,{"v":24.7,"d":"24.70"},{"v":178.8,"d":"178.80"},{"v":2002.2083333332141,"d":"2002.21"},5.28]
[2002.04,1111.93,{"$f":"C1582*2/3+C1585/3","v":{"v":15.833333333333332,"d":"15.83"}},{"$f":"(2*D1582+D1585)/3","v":25.38},{"v":179.8,"d":"179.80"},{"v":2002.2916666665474,"d":"2002.29"},5.21]
[2002.05,1079.25,{"$f":"C1582/3+C1585*2/3","v":{"v":15.936666666666667,"d":"15.94"}},{"$f":"(D1582+2*D1585)/3","v":26.06},{"v":179.8,"d":"179.80"},{"v":2002.3749999998806,"d":"2002.37"},5.16]
[2002.06,1014.02,16.04,26.74,{"v":179.9,"d":"179.90"},{"v":2002.458333333214,"d":"2002.46"},4.93]
[2002.07,903.59,{"$f":"C1585*2/3+C1588/3","v":15.96},{"$f":"(2*D1585+D1588)/3","v":27.84},{"v":180.1,"d":"180.10"},{"v":2002.5416666665471,"d":"2002.54"},4.65]
[2002.08,912.55,{"$f":"C1585/3+C1588*2/3","v":{"v":15.879999999999999,"d":"15.88"}},{"$f":"(D1585+2*D1588)/3","v":{"v":28.939999999999998,"d":"28.94"}},{"v":180.7,"d":"180.70"},{"v":2002.6249999998804,"d":"2002.62"},4.26]
[2002.09,867.81,{"v":15.8,"d":"15.80"},30.04,{"v":181,"d":"181.00"},{"v":2002.7083333332137,"d":"2002.71"},3.87]
[{"v":2002.1,"d":"2002.10"},854.63,{"$f":"C1588*2/3+C1591/3","v":15.89},{"$f":"(2*D1588+D1591)/3","v":{"v":29.223333333333333,"d":"29.22"}},{"v":181.3,"d":"181.30"},{"v":2002.791666666547,"d":"2002.79"},3.94]
[2002.11,909.93,{"$f":"C1588/3+C1591*2/3","v":15.98},{"$f":"(D1588+2*D1591)/3","v":{"v":28.406666666666666,"d":"28.41"}},{"v":181.3,"d":"181.30"},{"v":2002.8749999998802,"d":"2002.87"},4.05]
[2002.12,899.18,16.07,27.59,{"v":180.9,"d":"180.90"},{"v":2002.9583333332134,"d":"2002.96"},4.03]
[2003.01,895.84,{"$f":"C1591*2/3+C1594/3","v":{"v":16.119999999999997,"d":"16.12"}},{"$f":"(2*D1591+D1594)/3","v":{"v":28.5,"d":"28.50"}},{"v":181.7,"d":"181.70"},{"v":2003.0416666665467,"d":"2003.04"},4.05]
[2003.02,837.03,{"$f":"C1591/3+C1594*2/3","v":{"v":16.169999999999998,"d":"16.17"}},{"$f":"(D1591+2*D1594)/3","v":29.41},{"v":183.1,"d":"183.10"},{"v":2003.12499999988,"d":"2003.12"},{"v":3.9,"d":"3.90"}]
[2003.03,846.63,16.22,30.32,{"v":184.2,"d":"184.20"},{"v":2003.2083333332132,"d":"2003.21"},3.81]
[2003.04,890.03,{"$f":"C1594*2/3+C1597/3","v":{"v":16.203333333333333,"d":"16.20"}},{"$f":"(2*D1594+D1597)/3","v":31.73},{"v":183.8,"d":"183.80"},{"v":2003.2916666665465,"d":"2003.29"},3.96]
[2003.05,935.96,{"$f":"C1594/3+C1597*2/3","v":{"v":16.186666666666667,"d":"16.19"}},{"$f":"(D1594+2*D1597)/3","v":{"v":33.13999999999999,"d":"33.14"}},{"v":183.5,"d":"183.50"},{"v":2003.3749999998797,"d":"2003.37"},3.57]
[2003.06,{"v":988,"d":"988.00"},16.17,34.55,{"v":183.7,"d":"183.70"},{"v":2003.458333333213,"d":"2003.46"},3.33]
[2003.07,992.54,{"$f":"C1597*2/3+C1600/3","v":{"v":16.310000000000002,"d":"16.31"}},{"$f":"(2*D1597+D1600)/3","v":{"v":35.89333333333333,"d":"35.89"}},{"v":183.9,"d":"183.90"},{"v":2003.5416666665462,"d":"2003.54"},3.98]
[2003.08,989.53,{"$f":"C1597/3+C1600*2/3","v":{"v":16.450000000000003,"d":"16.45"}},{"$f":"(D1597+2*D1600)/3","v":{"v":37.236666666666665,"d":"37.24"}},{"v":184.6,"d":"184.60"},{"v":2003.6249999998795,"d":"2003.62"},4.45]
[2003.09,1019.44,16.59,38.58,{"v":185.2,"d":"185.20"},{"v":2003.7083333332127,"d":"2003.71"},4.27]
[{"v":2003.1,"d":"2003.10"},1038.73,{"$f":"C1600*2/3+C1603/3","v":{"v":16.85666666666667,"d":"16.86"}},{"$f":"(2*D1600+D1603)/3","v":{"v":41.96666666666667,"d":"41.97"}},{"v":185,"d":"185.00"},{"v":2003.791666666546,"d":"2003.79"},4.29]
[2003.11,{"v":1049.9,"d":"1049.90"},{"$f":"C1600/3+C1603*2/3","v":{"v":17.123333333333335,"d":"17.12"}},{"$f":"(D1600+2*D1603)/3","v":{"v":45.35333333333333,"d":"45.35"}},{"v":184.5,"d":"184.50"},{"v":2003.8749999998793,"d":"2003.87"},{"v":4.3,"d":"4.30"}]
[2003.12,1080.64,17.39,48.74,{"v":184.3,"d":"184.30"},{"v":2003.9583333332125,"d":"2003.96"},4.27]
[2004.01,1132.52,{"$f":"C1603*2/3+C1606/3","v":{"v":17.6,"d":"17.60"}},{"$f":"(2*D1603+D1606)/3","v":{"v":49.826666666666675,"d":"49.83"}},{"v":185.2,"d":"185.20"},{"v":2004.0416666665458,"d":"2004.04"},4.15]
[2004.02,1143.36,{"$f":"C1603/3+C1606*2/3","v":{"v":17.810000000000002,"d":"17.81"}},{"$f":"(D1603+2*D1606)/3","v":{"v":50.913333333333334,"d":"50.91"}},{"v":186.2,"d":"186.20"},{"v":2004.124999999879,"d":"2004.12"},4.08]
[2004.03,1123.98,18.02,{"v":52,"d":"52.00"},{"v":187.4,"d":"187.40"},{"v":2004.2083333332123,"d":"2004.21"},3.83]
[2004.04,1133.36,{"$f":"C1606*2/3+C1609/3","v":{"v":18.213333333333335,"d":"18.21"}},{"$f":"(2*D1606+D1609)/3","v":{"v":53.38333333333333,"d":"53.38"}},{"v":188,"d":"188.00"},{"v":2004.2916666665456,"d":"2004.29"},4.35]
[2004.05,1102.78,{"$f":"C1606/3+C1609*2/3","v":{"v":18.406666666666666,"d":"18.41"}},{"$f":"(D1606+2*D1609)/3","v":{"v":54.76666666666667,"d":"54.77"}},{"v":189.1,"d":"189.10"},{"v":2004.3749999998788,"d":"2004.37"},4.72]
[2004.06,1132.76,{"v":18.6,"d":"18.60"},56.15,{"v":189.7,"d":"189.70"},{"$f":"F1608+1/12","v":{"v":2004.458333333212,"d":"2004.46"}},4.73]
[2004.07,1105.85,{"$f":"C1609*2/3+C1612/3","v":{"v":18.78666666666667,"d":"18.79"}},{"$f":"(2*D1609+D1612)/3","v":56.69},{"v":189.4,"d":"189.40"},{"v":2004.5416666665453,"d":"2004.54"},{"v":4.5,"d":"4.50"}]
[2004.08,1088.94,{"$f":"C1609/3+C1612*2/3","v":{"v":18.973333333333333,"d":"18.97"}},{"$f":"(D1609+2*D1612)/3","v":57.23},{"v":189.5,"d":"189.50"},{"v":2004.6249999998786,"d":"2004.62"},4.28]
[2004.09,1117.66,19.16,57.77,{"v":189.9,"d":"189.90"},{"v":2004.7083333332118,"d":"2004.71"},4.13]
[{"v":2004.1,"d":"2004.10"},1117.21,{"$f":"C1612*2/3+C1615/3","v":{"v":19.253333333333334,"d":"19.25"}},{"$f":"(2*D1612+D1615)/3","v":58.03},{"v":190.9,"d":"190.90"},{"v":2004.791666666545,"d":"2004.79"},{"v":4.1,"d":"4.10"}]
[2004.11,1168.94,{"$f":"C1612/3+C1615*2/3","v":{"v":19.346666666666668,"d":"19.35"}},{"$f":"(D1612+2*D1615)/3","v":58.29},{"v":191,"d":"191.00"},{"v":2004.8749999998784,"d":"2004.87"},4.19]
[2004.12,1199.21,19.44,58.55,{"v":190.3,"d":"190.30"},{"v":2004.9583333332116,"d":"2004.96"},4.23]
[2005.01,1181.41,{"$f":"C1615*2/3+C1618/3","v":{"v":19.703333333333333,"d":"19.70"}},{"$f":"(2*D1615+D1618)/3","v":{"v":59.10666666666666,"d":"59.11"}},{"v":190.7,"d":"190.70"},{"v":2005.0416666665449,"d":"2005.04"},4.22]
[2005.02,1199.63,{"$f":"C1615/3+C1618*2/3","v":{"v":19.96666666666667,"d":"19.97"}},{"$f":"(D1615+2*D1618)/3","v":{"v":59.663333333333334,"d":"59.66"}},{"v":191.8,"d":"191.80"},{"v":2005.1249999998781,"d":"2005.12"},4.17]
[2005.03,{"v":1194.9,"d":"1194.90"},20.23,60.22,{"v":193.3,"d":"193.30"},{"v":2005.2083333332114,"d":"2005.21"},{"v":4.5,"d":"4.50"}]
[2005.04,1164.43,{"$f":"C1618*2/3+C1621/3","v":{"v":20.46333333333333,"d":"20.46"}},{"$f":"(2*D1618+D1621)/3","v":{"v":61.23333333333333,"d":"61.23"}},{"v":194.6,"d":"194.60"},{"v":2005.2916666665446,"d":"2005.29"},4.34]
[2005.05,1178.28,{"$f":"C1618/3+C1621*2/3","v":{"v":20.696666666666665,"d":"20.70"}},{"$f":"(D1618+2*D1621)/3","v":{"v":62.24666666666667,"d":"62.25"}},{"v":194.4,"d":"194.40"},{"v":2005.374999999878,"d":"2005.37"},4.14]
[2005.06,1202.25,20.93,63.26,{"v":194.5,"d":"194.50"},{"v":2005.4583333332112,"d":"2005.46"},{"v":4,"d":"4.00"}]
[2005.07,1222.24,{"$f":"C1621*2/3+C1624/3","v":21.11},{"$f":"(2*D1621+D1624)/3","v":64.33},{"v":195.4,"d":"195.40"},{"v":2005.5416666665444,"d":"2005.54"},4.18]
[2005.08,1224.27,{"$f":"C1621/3+C1624*2/3","v":21.29},{"$f":"(D1621+2*D1624)/3","v":{"v":65.39999999999999,"d":"65.40"}},{"v":196.4,"d":"196.40"},{"v":2005.6249999998777,"d":"2005.62"},4.26]
[2005.09,1225.92,21.47,66.47,{"v":198.8,"d":"198.80"},{"v":2005.708333333211,"d":"2005.71"},{"v":4.2,"d":"4.20"}]
[{"v":2005.1,"d":"2005.10"},1191.96,{"$f":"C1624*2/3+C1627/3","v":21.72},{"$f":"(2*D1624+D1627)/3","v":{"v":67.58999999999999,"d":"67.59"}},{"v":199.2,"d":"199.20"},{"v":2005.7916666665442,"d":"2005.79"},4.46]
[2005.11,1237.37,{"$f":"C1624/3+C1627*2/3","v":21.97},{"$f":"(D1624+2*D1627)/3","v":68.71},{"v":197.6,"d":"197.60"},{"v":2005.8749999998774,"d":"2005.87"},4.54]
[2005.12,1262.07,22.22,69.83,{"v":196.8,"d":"196.80"},{"v":2005.9583333332107,"d":"2005.96"},4.47]
[2006.01,1278.73,{"$f":"C1627*2/3+C1630/3","v":{"v":22.406666666666666,"d":"22.41"}},{"$f":"(2*D1627+D1630)/3","v":{"v":70.77666666666666,"d":"70.78"}},{"v":198.3,"d":"198.30"},{"v":2006.041666666544,"d":"2006.04"},4.42]
[2006.02,1276.65,{"$f":"C1627/3+C1630*2/3","v":{"v":22.593333333333334,"d":"22.59"}},{"$f":"(D1627+2*D1630)/3","v":{"v":71.72333333333334,"d":"71.72"}},{"v":198.7,"d":"198.70"},{"v":2006.1249999998772,"d":"2006.12"},4.57]
[2006.03,1293.74,22.78,72.67,{"v":199.8,"d":"199.80"},{"v":2006.2083333332105,"d":"2006.21"},4.72]
[2006.04,1302.17,{"$f":"C1630*2/3+C1633/3","v":{"v":23,"d":"23.00"}},{"$f":"(2*D1630+D1633)/3","v":{"v":73.27666666666666,"d":"73.28"}},{"v":201.5,"d":"201.50"},{"v":2006.2916666665437,"d":"2006.29"},4.99]
[2006.05,1290.01,{"$f":"C1630/3+C1633*2/3","v":23.22},{"$f":"(D1630+2*D1633)/3","v":{"v":73.88333333333333,"d":"73.88"}},{"v":202.5,"d":"202.50"},{"v":2006.374999999877,"d":"2006.37"},5.11]
[2006.06,1253.17,23.44,74.49,{"v":202.9,"d":"202.90"},{"v":2006.4583333332102,"d":"2006.46"},5.11]
[2006.07,1260.24,{"$f":"C1633*2/3+C1636/3","v":23.66},{"$f":"(2*D1633+D1636)/3","v":75.85},{"v":203.5,"d":"203.50"},{"v":2006.5416666665435,"d":"2006.54"},5.09]
[2006.08,1287.15,{"$f":"C1633/3+C1636*2/3","v":23.88},{"$f":"(D1633+2*D1636)/3","v":77.21},{"v":203.9,"d":"203.90"},{"v":2006.6249999998768,"d":"2006.62"},4.88]
[2006.09,1317.74,{"v":24.1,"d":"24.10"},78.57,{"v":202.9,"d":"202.90"},{"v":2006.70833333321,"d":"2006.71"},4.72]
[{"v":2006.1,"d":"2006.10"},1363.38,{"$f":"C1636*2/3+C1639/3","v":24.36},{"$f":"D1636*2/3+D1639/3","v":79.55},{"v":201.8,"d":"201.80"},{"v":2006.7916666665433,"d":"2006.79"},4.73]
[2006.11,1388.64,{"$f":"C1636/3+C1639*2/3","v":{"v":24.619999999999997,"d":"24.62"}},{"$f":"D1636/3+D1639*2/3","v":80.53},{"v":201.5,"d":"201.50"},{"v":2006.8749999998765,"d":"2006.87"},{"v":4.6,"d":"4.60"}]
[2006.12,1416.42,24.88,81.51,{"v":201.8,"d":"201.80"},{"v":2006.9583333332098,"d":"2006.96"},4.56]
[2007.01,1424.16,{"$f":"C1639*2/3+C1642/3","v":{"v":25.083333333333332,"d":"25.08"}},{"$f":"D1639*2/3+D1642/3","v":{"v":82.05666666666667,"d":"82.06"}},202.416,{"v":2007.041666666543,"d":"2007.04"},4.76]
[2007.02,{"v":1444.8,"d":"1444.80"},{"$f":"C1639/3+C1642*2/3","v":{"v":25.286666666666665,"d":"25.29"}},{"$f":"D1639/3+D1642*2/3","v":{"v":82.60333333333334,"d":"82.60"}},203.499,{"v":2007.1249999998763,"d":"2007.12"},4.72]
[2007.03,1406.95,25.49,83.15,205.352,{"v":2007.2083333332096,"d":"2007.21"},4.56]
[2007.04,1463.64,{"$f":"C1642*2/3+C1645/3","v":{"v":25.71666666666667,"d":"25.72"}},{"$f":"D1642*2/3+D1645/3","v":{"v":83.74000000000001,"d":"83.74"}},206.686,{"v":2007.2916666665428,"d":"2007.29"},4.69]
[2007.05,1511.14,{"$f":"C1642/3+C1645*2/3","v":{"v":25.943333333333335,"d":"25.94"}},{"$f":"D1642/3+D1645*2/3","v":{"v":84.33000000000001,"d":"84.33"}},207.949,{"v":2007.374999999876,"d":"2007.37"},4.75]
[2007.06,1514.19,26.17,84.92,208.352,{"v":2007.4583333332093,"d":"2007.46"},{"v":5.1,"d":"5.10"}]
[2007.07,1520.71,{"$f":"C1645*2/3+C1648/3","v":{"v":26.440000000000005,"d":"26.44"}},{"$f":"D1645*2/3+D1648/3","v":{"v":82.81333333333333,"d":"82.81"}},208.299,{"v":2007.5416666665426,"d":"2007.54"},{"v":5,"d":"5.00"}]
[2007.08,1454.62,{"$f":"C1645/3+C1648*2/3","v":26.71},{"$f":"D1645/3+D1648*2/3","v":{"v":80.70666666666666,"d":"80.71"}},207.917,{"v":2007.6249999998759,"d":"2007.62"},4.67]
[2007.09,1497.12,26.98,{"v":78.6,"d":"78.60"},208.49,{"v":2007.708333333209,"d":"2007.71"},4.52]
[{"v":2007.1,"d":"2007.10"},1539.66,{"$f":"C1648*2/3+C1651/3","v":{"v":27.230000000000004,"d":"27.23"}},{"$f":"D1648*2/3+D1651/3","v":{"v":74.46000000000001,"d":"74.46"}},208.936,{"v":2007.7916666665424,"d":"2007.79"},4.53]
[2007.11,1463.39,{"$f":"C1648/3+C1651*2/3","v":{"v":27.480000000000004,"d":"27.48"}},{"$f":"D1648/3+D1651*2/3","v":{"v":70.32000000000001,"d":"70.32"}},210.177,{"v":2007.8749999998756,"d":"2007.87"},4.15]
[2007.12,1479.22,27.73,66.18,210.036,{"v":2007.9583333332089,"d":"2007.96"},{"v":4.1,"d":"4.10"}]
[2008.01,1378.76,{"$f":"C1651*2/3+C1654/3","v":27.92},{"$f":"D1651*2/3+D1654/3","v":64.25},211.08,{"v":2008.0416666665421,"d":"2008.04"},3.74]
[2008.02,1354.87,{"$f":"C1651/3+C1654*2/3","v":28.11},{"$f":"D1651/3+D1654*2/3","v":62.32},211.693,{"v":2008.1249999998754,"d":"2008.12"},3.74]
[2008.03,1316.94,28.3,60.39,213.528,{"v":2008.2083333332087,"d":"2008.21"},3.51]
[2008.04,1370.47,{"$f":"C1654*2/3+C1657/3","v":{"v":28.436666666666667,"d":"28.44"}},{"$f":"D1654*2/3+D1657/3","v":{"v":57.383333333333326,"d":"57.38"}},214.823,{"v":2008.291666666542,"d":"2008.29"},3.68]
[2008.05,1403.22,{"$f":"C1654/3+C1657*2/3","v":{"v":28.573333333333334,"d":"28.57"}},{"$f":"D1654/3+D1657*2/3","v":{"v":54.376666666666665,"d":"54.38"}},216.632,{"v":2008.3749999998752,"d":"2008.37"},3.88]
[2008.06,1341.25,28.71,51.37,218.815,{"v":2008.4583333332084,"d":"2008.46"},{"v":4.1,"d":"4.10"}]
[2008.07,1257.33,{"$f":"C1657*2/3+C1660/3","v":{"v":28.756666666666668,"d":"28.76"}},{"$f":"D1657*2/3+D1660/3","v":{"v":49.56333333333333,"d":"49.56"}},219.964,{"v":2008.5416666665417,"d":"2008.54"},4.01]
[2008.08,1281.47,{"$f":"C1657/3+C1660*2/3","v":{"v":28.803333333333335,"d":"28.80"}},{"$f":"D1657/3+D1660*2/3","v":{"v":47.75666666666667,"d":"47.76"}},219.086,{"v":2008.624999999875,"d":"2008.62"},3.89]
[2008.09,1216.95,28.85,{"$f":"45.95","v":45.95},218.783,{"v":2008.7083333332082,"d":"2008.71"},3.69]
[{"v":2008.1,"d":"2008.10"},968.8,{"$f":"C1660*2/3+C1663/3","v":{"v":28.696666666666665,"d":"28.70"}},{"$f":"D1660*2/3+D1663/3","v":{"v":35.593333333333334,"d":"35.59"}},216.573,{"v":2008.7916666665415,"d":"2008.79"},3.81]
[2008.11,883.04,{"$f":"C1660/3+C1663*2/3","v":{"v":28.543333333333333,"d":"28.54"}},{"$f":"D1660/3+D1663*2/3","v":{"v":25.236666666666668,"d":"25.24"}},212.425,{"v":2008.8749999998747,"d":"2008.87"},3.53]
[2008.12,877.56,28.39,14.88,210.228,{"v":2008.958333333208,"d":"2008.96"},2.42]
[2009.01,865.58,{"$f":"C1663*2/3+C1666/3","v":{"v":28.013333333333335,"d":"28.01"}},{"$f":"D1663*2/3+D1666/3","v":{"v":12.206666666666667,"d":"12.21"}},211.143,{"v":2009.0416666665412,"d":"2009.04"},2.52]
[2009.02,805.23,{"$f":"C1663/3+C1666*2/3","v":{"v":27.63666666666667,"d":"27.64"}},{"$f":"D1663/3+D1666*2/3","v":{"v":9.533333333333333,"d":"9.53"}},212.193,{"v":2009.1249999998745,"d":"2009.12"},2.87]
[2009.03,757.13,27.26,6.86,212.709,{"v":2009.2083333332077,"d":"2009.21"},2.82]
[2009.04,848.15,{"$f":"C1666*2/3+C1669/3","v":{"v":26.703333333333333,"d":"26.70"}},{"$f":"D1666*2/3+D1669/3","v":{"v":7.076666666666666,"d":"7.08"}},213.24,{"v":2009.291666666541,"d":"2009.29"},2.93]
[2009.05,902.41,{"$f":"C1666/3+C1669*2/3","v":{"v":26.14666666666667,"d":"26.15"}},{"$f":"D1666/3+D1669*2/3","v":{"v":7.293333333333333,"d":"7.29"}},213.856,{"v":2009.3749999998743,"d":"2009.37"},3.29]
[2009.06,926.12,25.59,7.51,215.693,{"v":2009.4583333332075,"d":"2009.46"},3.72]
[2009.07,935.82,{"$f":"C1669*2/3+C1672/3","v":{"v":25.026666666666664,"d":"25.03"}},{"$f":"D1669*2/3+D1672/3","v":{"v":9.186666666666667,"d":"9.19"}},215.351,{"v":2009.5416666665408,"d":"2009.54"},3.56]
[2009.08,1009.73,{"$f":"C1669/3+C1672*2/3","v":{"v":24.46333333333333,"d":"24.46"}},{"$f":"D1669/3+D1672*2/3","v":{"v":10.863333333333333,"d":"10.86"}},215.834,{"v":2009.624999999874,"d":"2009.62"},3.59]
[2009.09,1044.55,23.9,12.54,215.969,{"v":2009.7083333332073,"d":"2009.71"},3.4]
[{"v":2009.1,"d":"2009.10"},1067.66,{"$f":"C1672*2/3+C1675/3","v":{"v":23.403333333333332,"d":"23.40"}},{"$f":"D1672*2/3+D1675/3","v":{"v":25.349999999999998,"d":"25.35"}},216.177,{"$f":"F1672+1/12","v":{"v":2009.7916666665406,"d":"2009.79"}},3.39]
[2009.11,1088.07,{"$f":"C1672/3+C1675*2/3","v":{"v":22.906666666666666,"d":"22.91"}},{"$f":"D1672/3+D1675*2/3","v":38.16},216.33,{"v":2009.8749999998738,"d":"2009.87"},3.4]
[2009.12,1110.38,22.41,50.97,215.949,{"v":2009.958333333207,"d":"2009.96"},3.59]
[2010.01,1123.58,{"$f":"C1675*2/3+C1678/3","v":22.24},{"$f":"D1675*2/3+D1678/3","v":{"v":54.28999999999999,"d":"54.29"}},216.687,{"v":2010.0416666665403,"d":"2010.04"},3.73]
[2010.02,1089.16,{"$f":"C1675/3+C1678*2/3","v":22.07},{"$f":"D1675/3+D1678*2/3","v":57.61},216.741,{"v":2010.1249999998736,"d":"2010.12"},3.69]
[2010.03,1152.05,21.9,60.93,217.631,{"v":2010.2083333332068,"d":"2010.21"},3.73]
[2010.04,1197.32,{"$f":"C1678*2/3+C1681/3","v":{"v":21.946666666666665,"d":"21.95"}},{"$f":"D1678*2/3+D1681/3","v":{"v":62.986666666666665,"d":"62.99"}},218.009,{"v":2010.29166666654,"d":"2010.29"},3.85]
[2010.05,1125.06,{"$f":"C1678/3+C1681*2/3","v":{"v":21.993333333333332,"d":"21.99"}},{"$f":"D1678/3+D1681*2/3","v":{"v":65.04333333333332,"d":"65.04"}},218.178,{"v":2010.3749999998734,"d":"2010.37"},3.42]
[2010.06,1083.36,22.04,67.1,217.965,{"v":2010.4583333332066,"d":"2010.46"},3.2]
[2010.07,1079.8,{"$f":"C1681*2/3+C1684/3","v":{"v":22.143333333333334,"d":"22.14"}},{"$f":"D1681*2/3+D1684/3","v":{"v":68.68666666666667,"d":"68.69"}},218.011,{"v":2010.5416666665399,"d":"2010.54"},3.01]
[2010.08,1087.28,{"$f":"C1681/3+C1684*2/3","v":{"v":22.246666666666666,"d":"22.25"}},{"$f":"D1681/3+D1684*2/3","v":{"v":70.27333333333333,"d":"70.27"}},218.312,{"v":2010.6249999998731,"d":"2010.62"},2.7]
[2010.09,1122.08,22.35,71.86,218.439,{"v":2010.7083333332064,"d":"2010.71"},2.65]
[{"v":2010.1,"d":"2010.10"},1171.58,{"$f":"C1684*2/3+C1687/3","v":{"v":22.476666666666667,"d":"22.48"}},{"$f":"D1684*2/3+D1687/3","v":73.69},218.711,{"v":2010.7916666665396,"d":"2010.79"},2.54]
[2010.11,1198.89,{"$f":"C1684/3+C1687*2/3","v":{"v":22.603333333333335,"d":"22.60"}},{"$f":"D1684/3+D1687*2/3","v":75.52},218.803,{"v":2010.874999999873,"d":"2010.87"},2.76]
[2010.12,1241.53,22.73,77.35,219.179,{"v":2010.9583333332062,"d":"2010.96"},3.29]
[2011.01,1282.62,{"$f":"C1687*2/3+C1690/3","v":{"v":22.963333333333335,"d":"22.96"}},{"$f":"D1687*2/3+D1690/3","v":78.67},220.223,{"v":2011.0416666665394,"d":"2011.04"},3.39]
[2011.02,1321.12,{"$f":"C1687/3+C1690*2/3","v":{"v":23.196666666666665,"d":"23.20"}},{"$f":"D1687/3+D1690*2/3","v":{"v":79.99000000000001,"d":"79.99"}},221.309,{"v":2011.1249999998727,"d":"2011.12"},3.58]
[2011.03,1304.49,23.43,81.31,223.467,{"v":2011.208333333206,"d":"2011.21"},3.41]
[2011.04,1331.51,{"$f":"C1690*2/3+C1693/3","v":{"v":23.733333333333334,"d":"23.73"}},{"$f":"D1690*2/3+D1693/3","v":{"v":82.16333333333334,"d":"82.16"}},224.906,{"v":2011.2916666665392,"d":"2011.29"},3.46]
[2011.05,1338.31,{"$f":"C1690/3+C1693*2/3","v":{"v":24.036666666666665,"d":"24.04"}},{"$f":"D1690/3+D1693*2/3","v":{"v":83.01666666666667,"d":"83.02"}},225.964,{"v":2011.3749999998724,"d":"2011.37"},3.17]
[2011.06,1287.29,24.34,83.87,225.722,{"v":2011.4583333332057,"d":"2011.46"},3]
[2011.07,1325.19,{"$f":"C1693*2/3+C1696/3","v":{"v":24.619999999999997,"d":"24.62"}},{"$f":"D1693*2/3+D1696/3","v":{"v":84.90666666666667,"d":"84.91"}},225.922,{"v":2011.541666666539,"d":"2011.54"},3]
[2011.08,1185.31,{"$f":"C1693/3+C1696*2/3","v":{"v":24.9,"d":"24.90"}},{"$f":"D1693/3+D1696*2/3","v":{"v":85.94333333333334,"d":"85.94"}},226.545,{"v":2011.6249999998722,"d":"2011.62"},2.3]
[2011.09,1173.88,25.18,86.98,226.889,{"v":2011.7083333332055,"d":"2011.71"},1.98]
[{"v":2011.1,"d":"2011.10"},1207.22,{"$f":"C1696*2/3+C1699/3","v":{"v":25.596666666666664,"d":"25.60"}},{"$f":"D1696*2/3+D1699/3","v":86.97},226.421,{"v":2011.7916666665387,"d":"2011.79"},2.15]
[2011.11,1226.42,{"$f":"C1696/3+C1699*2/3","v":{"v":26.013333333333335,"d":"26.01"}},{"$f":"D1696/3+D1699*2/3","v":{"v":86.96000000000001,"d":"86.96"}},226.23,{"v":2011.874999999872,"d":"2011.87"},2.01]
[2011.12,1243.32,26.43,86.95,225.672,{"v":2011.9583333332052,"d":"2011.96"},1.98]
[2012.01,1300.58,{"$f":"C1699*2/3+C1702/3","v":{"v":26.736666666666668,"d":"26.74"}},{"$f":"D1699*2/3+D1702/3","v":87.48},226.665,{"v":2012.0416666665385,"d":"2012.04"},1.97]
[2012.02,1352.49,{"$f":"C1699/3+C1702*2/3","v":{"v":27.043333333333337,"d":"27.04"}},{"$f":"D1699/3+D1702*2/3","v":88.01},227.663,{"v":2012.1249999998718,"d":"2012.12"},1.97]
[2012.03,1389.24,27.35,88.54,229.392,{"v":2012.208333333205,"d":"2012.21"},2.17]
[2012.04,1386.43,{"$f":"C1702*2/3+C1705/3","v":{"v":27.673333333333332,"d":"27.67"}},{"$f":"D1702*2/3+D1705/3","v":{"v":88.33333333333334,"d":"88.33"}},230.085,{"v":2012.2916666665383,"d":"2012.29"},2.05]
[2012.05,1341.27,{"$f":"C1702/3+C1705*2/3","v":{"v":27.996666666666666,"d":"28.00"}},{"$f":"D1702/3+D1705*2/3","v":{"v":88.12666666666667,"d":"88.13"}},229.815,{"v":2012.3749999998715,"d":"2012.37"},1.8]
[2012.06,1323.48,28.32,87.92,229.478,{"v":2012.4583333332048,"d":"2012.46"},1.62]
[2012.07,1359.78,{"$f":"C1705*2/3+C1708/3","v":{"v":28.743333333333332,"d":"28.74"}},{"$f":"D1705*2/3+D1708/3","v":{"v":87.44666666666667,"d":"87.45"}},229.104,{"v":2012.541666666538,"d":"2012.54"},1.53]
[2012.08,1403.45,{"$f":"C1705/3+C1708*2/3","v":{"v":29.166666666666664,"d":"29.17"}},{"$f":"D1705/3+D1708*2/3","v":{"v":86.97333333333333,"d":"86.97"}},230.379,{"v":2012.6249999998713,"d":"2012.62"},1.68]
[2012.09,1443.42,29.59,86.5,231.407,{"v":2012.7083333332046,"d":"2012.71"},1.72]
[{"v":2012.1,"d":"2012.10"},1437.82,{"$f":"C1708*2/3+C1711/3","v":{"v":30.14333333333333,"d":"30.14"}},{"$f":"D1708*2/3+D1711/3","v":{"v":86.50333333333333,"d":"86.50"}},231.317,{"v":2012.7916666665378,"d":"2012.79"},1.75]
[2012.11,1394.51,{"$f":"C1708/3+C1711*2/3","v":{"v":30.696666666666665,"d":"30.70"}},{"$f":"D1708/3+D1711*2/3","v":{"v":86.50666666666667,"d":"86.51"}},230.221,{"v":2012.874999999871,"d":"2012.87"},1.65]
[2012.12,1422.29,31.25,86.51,229.601,{"v":2012.9583333332043,"d":"2012.96"},1.72]
[2013.01,1480.4,{"$f":"C1711*2/3+C1714/3","v":{"v":31.536666666666665,"d":"31.54"}},{"$f":"D1711*2/3+D1714/3","v":{"v":86.90666666666667,"d":"86.91"}},230.28,{"v":2013.0416666665376,"d":"2013.04"},1.91]
[2013.02,1512.31,{"$f":"C1711/3+C1714*2/3","v":{"v":31.82333333333333,"d":"31.82"}},{"$f":"D1711/3+D1714*2/3","v":{"v":87.30333333333334,"d":"87.30"}},232.166,{"v":2013.1249999998709,"d":"2013.12"},1.98]
[2013.03,1550.83,32.11,87.7,232.773,{"v":2013.208333333204,"d":"2013.21"},1.96]
[2013.04,1570.7,{"$f":"C1714*2/3+C1717/3","v":{"v":32.49666666666667,"d":"32.50"}},{"$f":"D1714*2/3+D1717/3","v":{"v":88.78333333333333,"d":"88.78"}},232.531,{"v":2013.2916666665374,"d":"2013.29"},1.76]
[2013.05,1639.84,{"$f":"C1714/3+C1717*2/3","v":{"v":32.88333333333334,"d":"32.88"}},{"$f":"D1714/3+D1717*2/3","v":{"v":89.86666666666667,"d":"89.87"}},232.945,{"v":2013.3749999998706,"d":"2013.37"},1.93]
[2013.06,1618.77,33.27,90.95,233.504,{"v":2013.4583333332039,"d":"2013.46"},2.3]
[2013.07,1668.68,{"$f":"C1717*2/3+C1720/3","v":{"v":33.64666666666667,"d":"33.65"}},{"$f":"D1717*2/3+D1720/3","v":92.09},233.596,{"v":2013.5416666665371,"d":"2013.54"},2.58]
[2013.08,1670.09,{"$f":"C1717/3+C1720*2/3","v":{"v":34.02333333333333,"d":"34.02"}},{"$f":"D1717/3+D1720*2/3","v":93.23},233.877,{"v":2013.6249999998704,"d":"2013.62"},2.74]
[2013.09,1687.17,34.4,94.37,234.149,{"v":2013.7083333332037,"d":"2013.71"},2.81]
[{"v":2013.1,"d":"2013.10"},1720.03,{"$f":"C1720*2/3+C1723/3","v":{"v":34.596666666666664,"d":"34.60"}},{"$f":"D1720*2/3+D1723/3","v":{"v":96.31333333333333,"d":"96.31"}},233.546,{"v":2013.791666666537,"d":"2013.79"},2.62]
[2013.11,1783.54,{"$f":"C1720/3+C1723*2/3","v":{"v":34.79333333333334,"d":"34.79"}},{"$f":"D1720/3+D1723*2/3","v":{"v":98.25666666666666,"d":"98.26"}},233.069,{"v":2013.8749999998702,"d":"2013.87"},2.72]
[2013.12,1807.78,34.99,100.2,233.049,{"v":2013.9583333332034,"d":"2013.96"},2.9]
[2014.01,1822.36,{"$f":"C1723*2/3+C1726/3","v":{"v":35.403333333333336,"d":"35.40"}},{"$f":"D1723*2/3+D1726/3","v":{"v":100.41666666666666,"d":"100.42"}},233.916,{"v":2014.0416666665367,"d":"2014.04"},2.86]
[2014.02,1817.04,{"$f":"C1723/3+C1726*2/3","v":{"v":35.81666666666666,"d":"35.82"}},{"$f":"D1723/3+D1726*2/3","v":{"v":100.63333333333333,"d":"100.63"}},234.781,{"v":2014.12499999987,"d":"2014.12"},2.71]
[2014.03,1863.52,36.23,100.85,236.293,{"v":2014.2083333332032,"d":"2014.21"},2.72]
[2014.04,1864.26,{"$f":"C1726*2/3+C1729/3","v":{"v":36.61333333333333,"d":"36.61"}},{"$f":"D1726*2/3+D1729/3","v":{"v":101.60666666666667,"d":"101.61"}},237.072,{"v":2014.2916666665365,"d":"2014.29"},2.71]
[2014.05,1889.77,{"$f":"C1726/3+C1729*2/3","v":{"v":36.99666666666667,"d":"37.00"}},{"$f":"D1726/3+D1729*2/3","v":{"v":102.36333333333334,"d":"102.36"}},237.9,{"v":2014.3749999998697,"d":"2014.37"},2.56]
[2014.06,1947.09,37.38,103.12,238.343,{"v":2014.458333333203,"d":"2014.46"},2.6]
[2014.07,1973.1,{"$f":"C1729*2/3+C1732/3","v":37.75},{"$f":"D1729*2/3+D1732/3","v":{"v":104.06666666666666,"d":"104.07"}},238.25,{"v":2014.5416666665362,"d":"2014.54"},2.54]
[2014.08,1961.53,{"$f":"C1729/3+C1732*2/3","v":{"v":38.120000000000005,"d":"38.12"}},{"$f":"D1729/3+D1732*2/3","v":{"v":105.01333333333334,"d":"105.01"}},237.852,{"v":2014.6249999998695,"d":"2014.62"},2.42]
[2014.09,1993.23,38.49,105.96,238.031,{"v":2014.7083333332027,"d":"2014.71"},2.53]
[{"v":2014.1,"d":"2014.10"},1937.27,{"$f":"C1732*2/3+C1735/3","v":{"v":38.806666666666665,"d":"38.81"}},{"$f":"D1732*2/3+D1735/3","v":{"v":104.74333333333334,"d":"104.74"}},237.433,{"v":2014.791666666536,"d":"2014.79"},2.3]
[2014.11,2044.57,{"$f":"C1732/3+C1735*2/3","v":{"v":39.123333333333335,"d":"39.12"}},{"$f":"D1732/3+D1735*2/3","v":{"v":103.52666666666667,"d":"103.53"}},236.151,{"v":2014.8749999998693,"d":"2014.87"},2.33]
[2014.12,2054.27,39.44,102.31,234.812,{"v":2014.9583333332025,"d":"2014.96"},2.21]
[2015.01,2028.18,{"$f":"C1735*2/3+C1738/3","v":{"v":39.89666666666667,"d":"39.90"}},{"$f":"D1735*2/3+D1738/3","v":{"v":101.28999999999999,"d":"101.29"}},233.707,{"v":2015.0416666665358,"d":"2015.04"},1.88]
[2015.02,2082.2,{"$f":"C1735/3+C1738*2/3","v":{"v":40.35333333333333,"d":"40.35"}},{"$f":"D1735/3+D1738*2/3","v":{"v":100.27000000000001,"d":"100.27"}},234.722,{"$f":"F1736+1/12","v":{"v":2015.124999999869,"d":"2015.12"}},1.98]
[2015.03,2079.99,40.81,99.25,236.119,{"v":2015.2083333332023,"d":"2015.21"},2.04]
[2015.04,2094.86,{"$f":"C1738*2/3+C1741/3","v":{"v":41.120000000000005,"d":"41.12"}},{"$f":"D1738*2/3+D1741/3","v":{"v":97.80333333333334,"d":"97.80"}},236.599,{"v":2015.2916666665355,"d":"2015.29"},1.94]
[2015.05,2111.94,{"$f":"C1738/3+C1741*2/3","v":41.43},{"$f":"D1738/3+D1741*2/3","v":{"v":96.35666666666667,"d":"96.36"}},237.805,{"v":2015.3749999998688,"d":"2015.37"},2.2]
[2015.06,2099.29,41.74,94.91,238.638,{"v":2015.458333333202,"d":"2015.46"},2.36]
[2015.07,2094.14,{"$f":"C1741*2/3+C1744/3","v":{"v":41.99666666666667,"d":"42.00"}},{"$f":"D1741*2/3+D1744/3","v":{"v":93.49333333333334,"d":"93.49"}},238.654,{"v":2015.5416666665353,"d":"2015.54"},2.32]
[2015.08,2039.87,{"$f":"C1741/3+C1744*2/3","v":{"v":42.25333333333333,"d":"42.25"}},{"$f":"D1741/3+D1744*2/3","v":{"v":92.07666666666667,"d":"92.08"}},238.316,{"v":2015.6249999998686,"d":"2015.62"},2.17]
[2015.09,1944.41,42.51,90.66,237.945,{"v":2015.7083333332018,"d":"2015.71"},2.17]
[{"v":2015.1,"d":"2015.10"},2024.81,{"$f":"C1744*2/3+C1747/3","v":{"v":42.803333333333335,"d":"42.80"}},{"$f":"D1744*2/3+D1747/3","v":{"v":89.28333333333333,"d":"89.28"}},237.838,{"v":2015.791666666535,"d":"2015.79"},2.07]
[2015.11,2080.62,{"$f":"C1744/3+C1747*2/3","v":{"v":43.096666666666664,"d":"43.10"}},{"$f":"D1744/3+D1747*2/3","v":{"v":87.90666666666667,"d":"87.91"}},237.336,{"v":2015.8749999998684,"d":"2015.87"},2.26]
[2015.12,2054.08,43.39,86.53,236.525,{"v":2015.9583333332016,"d":"2015.96"},2.24]
[2016.01,1918.6,{"$f":"C1747*2/3+C1750/3","v":{"v":43.553333333333335,"d":"43.55"}},{"$f":"D1747*2/3+D1750/3","v":{"v":86.5,"d":"86.50"}},236.916,{"v":2016.0416666665349,"d":"2016.04"},2.09]
[2016.02,1904.42,{"$f":"C1747/3+C1750*2/3","v":{"v":43.71666666666667,"d":"43.72"}},{"$f":"D1747/3+D1750*2/3","v":86.47},237.111,{"v":2016.1249999998681,"d":"2016.12"},1.78]
[2016.03,2021.95,43.88,86.44,238.132,{"v":2016.2083333332014,"d":"2016.21"},1.89]
[2016.04,2075.54,{"$f":"C1750*2/3+C1753/3","v":{"v":44.07333333333334,"d":"44.07"}},{"$f":"D1750*2/3+D1753/3","v":{"v":86.6,"d":"86.60"}},239.261,{"v":2016.2916666665346,"d":"2016.29"},1.81]
[2016.05,2065.55,{"$f":"C1750/3+C1753*2/3","v":{"v":44.266666666666666,"d":"44.27"}},{"$f":"D1750/3+D1753*2/3","v":{"v":86.75999999999999,"d":"86.76"}},240.229,{"v":2016.374999999868,"d":"2016.37"},1.81]
[2016.06,2083.89,44.46,86.92,241.018,{"v":2016.4583333332012,"d":"2016.46"},1.64]
[2016.07,2148.9,{"$f":"C1753*2/3+C1756/3","v":44.65},{"$f":"D1753*2/3+D1756/3","v":{"v":87.64333333333333,"d":"87.64"}},240.628,{"v":2016.5416666665344,"d":"2016.54"},1.5]
[2016.08,2170.95,{"$f":"C1753/3+C1756*2/3","v":44.84},{"$f":"D1753/3+D1756*2/3","v":{"v":88.36666666666667,"d":"88.37"}},240.849,{"v":2016.6249999998677,"d":"2016.62"},1.56]
[2016.09,2157.69,45.03,89.09,241.428,{"v":2016.708333333201,"d":"2016.71"},1.63]
[{"v":2016.1,"d":"2016.10"},2143.02,{"$f":"C1756*2/3+C1759/3","v":{"v":45.25333333333333,"d":"45.25"}},{"$f":"D1756*2/3+D1759/3","v":90.91},241.729,{"v":2016.7916666665342,"d":"2016.79"},1.76]
[2016.11,2164.99,{"$f":"C1756/3+C1759*2/3","v":{"v":45.47666666666667,"d":"45.48"}},{"$f":"D1756/3+D1759*2/3","v":92.73},241.353,{"v":2016.8749999998674,"d":"2016.87"},2.14]
[2016.12,2246.63,45.7,94.55,241.432,{"v":2016.9583333332007,"d":"2016.96"},2.49]
[2017.01,2275.12,{"$f":"C1759*2/3+C1762/3","v":{"v":45.92666666666667,"d":"45.93"}},{"$f":"D1759*2/3+D1762/3","v":{"v":96.46333333333334,"d":"96.46"}},242.839,{"v":2017.041666666534,"d":"2017.04"},2.43]
[2017.02,2329.91,{"$f":"C1759/3+C1762*2/3","v":{"v":46.153333333333336,"d":"46.15"}},{"$f":"D1759/3+D1762*2/3","v":{"v":98.37666666666667,"d":"98.38"}},243.603,{"v":2017.1249999998672,"d":"2017.12"},2.42]
[2017.03,2366.82,46.38,100.29,243.801,{"v":2017.2083333332005,"d":"2017.21"},2.48]
[2017.04,2359.31,{"$f":"C1762*2/3+C1765/3","v":{"v":46.660000000000004,"d":"46.66"}},{"$f":"D1762*2/3+D1765/3","v":{"v":101.53333333333333,"d":"101.53"}},244.524,{"v":2017.2916666665337,"d":"2017.29"},2.3]
[2017.05,2395.35,{"$f":"C1762/3+C1765*2/3","v":46.94},{"$f":"D1762/3+D1765*2/3","v":{"v":102.77666666666667,"d":"102.78"}},244.733,{"v":2017.374999999867,"d":"2017.37"},2.3]
[2017.06,2433.99,47.22,104.02,244.955,{"v":2017.4583333332002,"d":"2017.46"},2.19]
[2017.07,2454.1,{"$f":"C1765*2/3+C1768/3","v":{"v":47.53666666666667,"d":"47.54"}},{"$f":"D1765*2/3+D1768/3","v":{"v":105.03999999999999,"d":"105.04"}},244.786,{"v":2017.5416666665335,"d":"2017.54"},2.32]
[2017.08,2456.22,{"$f":"C1765/3+C1768*2/3","v":{"v":47.85333333333334,"d":"47.85"}},{"$f":"D1765/3+D1768*2/3","v":106.06},245.519,{"v":2017.6249999998668,"d":"2017.62"},2.21]
[2017.09,2492.84,48.17,107.08,246.819,{"v":2017.7083333332,"d":"2017.71"},{"v":2.2,"d":"2.20"}]
[{"v":2017.1,"d":"2017.10"},2557,{"$f":"C1768*2/3+C1771/3","v":{"v":48.42333333333333,"d":"48.42"}},{"$f":"D1768*2/3+D1771/3","v":{"v":108.01333333333334,"d":"108.01"}},246.663,{"v":2017.7916666665333,"d":"2017.79"},2.36]
[2017.11,2593.61,{"$f":"C1768/3+C1771*2/3","v":{"v":48.67666666666666,"d":"48.68"}},{"$f":"D1768/3+D1771*2/3","v":{"v":108.94666666666666,"d":"108.95"}},246.669,{"v":2017.8749999998665,"d":"2017.87"},2.35]
[2017.12,2664.34,48.93,109.88,246.524,{"v":2017.9583333331998,"d":"2017.96"},2.4]
[2018.01,2789.8,{"v":49.28666666666666,"d":"49.29"},{"v":111.73333333333332,"d":"111.73"},247.867,{"v":2018.041666666533,"d":"2018.04"},2.58]
[2018.02,2705.16,49.64333333333333,113.58666666666666,248.991,{"v":2018.1249999998663,"d":"2018.12"},2.86]
[2018.03,2702.77,{"v":50,"d":"50.00"},115.44,249.554,{"v":2018.2083333331996,"d":"2018.21"},2.84]
[2018.04,2653.63,50.33,117.78666666666666,250.546,{"v":2018.2916666665328,"d":"2018.29"},2.87]
[2018.05,2701.49,50.66,{"v":120.13333333333333,"d":"120.13"},251.588,{"v":2018.374999999866,"d":"2018.37"},{"v":2.976,"d":"2.98"}]
[2018.06,2754.35,50.99,122.48,251.989,{"v":2018.4583333331993,"d":"2018.46"},2.91]
[2018.07,2793.64,51.44,{"v":125.11666666666667,"d":"125.12"},252.006,{"v":2018.5416666665326,"d":"2018.54"},2.89]
[2018.08,2857.82,51.89,127.75333333333333,252.146,{"v":2018.6249999998658,"d":"2018.62"},2.89]
[2018.09,2901.5,52.34,130.39,252.439,{"v":2018.708333333199,"d":"2018.71"},{"v":3,"d":"3.00"}]
[{"v":2018.1,"d":"2018.10"},2785.46,52.81,131.53,252.885,{"v":2018.7916666665324,"d":"2018.79"},3.15]
[2018.11,2723.23,53.28,132.67,252.038,{"v":2018.8749999998656,"d":"2018.87"},3.12]
[2018.12,2567.31,53.75,133.81,251.233,{"v":2018.9583333331989,"d":"2018.96"},2.83]
[]
[null,{"$f":"B1783/4.4","v":583.4795454545454}]

{"sheet":"Transactioncosts","index":1,"n_rows":149,"n_cols":12,"rows_kept":149}
["Avg in BP \n1925-2000",{"$f":"AVERAGE(G56:G131)","v":{"v":84.87938596491229,"d":"84.88"}},"Year","Estimated TC in BP per anchorpoint","Slope btw. Anchorpoints","Interpolated TC in BP per year","Transactioncosts per year",null,"Year","Estimated TC in BP","Slope btw. Anchorpoints","Interpolated TC in BP per year"]
["Anchorpoint:",1,1871,70,0,null,{"$f":"IF(F2=\"\",D2,F2)","v":70},null,1871,70,null,{"$f":"IF(J2<>\"-\",J2,L1+K2)","v":70}]
[null,null,1872,"-",{"$f":"(D31-D2)/(C31-C2)","v":0},{"$f":"IF(D3<>\"-\",D3,G2+E3)","v":70},70,null,"1872-1899","-",0,{"$f":"TEXT(L2+K3,0)&\"-\"&TEXT(L4-K3,0)","v":"70-70"}]
[null,null,1873,"-",{"$f":"E3","v":0},{"$f":"IF(D4<>\"-\",D4,G3+E4)","v":70},{"$f":"IF(F4=\"\",D4,F4)","v":70},null,1900,70,null,{"$f":"IF(J4<>\"-\",J4,L3+K4)","v":70}]
[null,null,1874,"-",{"$f":"E4","v":0},70,70,null,1901,null,{"$f":"(J6-J4)/(I6-I4)","v":15},{"$f":"TEXT(L4+K5,0)&\"-\"&TEXT(L6-K5,0)","v":"85-85"}]
[null,null,1875,"-",0,70,70,null,1902,100,null,{"$f":"IF(J6<>\"-\",J6,L5+K6)","v":100}]
[null,null,1876,"-",0,70,70,null,"1903-1904",null,{"$f":"(J8-J6)/(I8-I6)","v":{"v":-23.333333333333332,"d":"-23"}},{"$f":"TEXT(L6+K7,0)&\"-\"&TEXT(L8-K7,0)","v":"77-53"}]
[null,null,1877,"-",0,70,70,null,1905,30,null,{"$f":"IF(J8<>\"-\",J8,L7+K8)","v":30}]
[null,null,1878,"-",0,70,70,null,1906,null,{"$f":"(J10-J8)/(I10-I8)","v":{"v":22.5,"d":"23"}},{"$f":"TEXT(L8+K9,0)&\"-\"&TEXT(L10-K9,0)","v":"53-53"}]
[null,null,1879,"-",0,70,70,null,1907,75,null,{"$f":"IF(J10<>\"-\",J10,L9+K10)","v":75}]
[null,null,1880,"-",0,70,70,null,"1908-1909",null,{"$f":"(J12-J10)/(I12-I10)","v":{"v":-8.333333333333334,"d":"-8"}},{"$f":"TEXT(L10+K11,0)&\"-\"&TEXT(L12-K11,0)","v":"67-58"}]
[null,null,1881,"-",0,70,70,null,1910,50,null,{"$f":"IF(J12<>\"-\",J12,L11+K12)","v":50}]
[null,null,1882,"-",0,70,70,null,"1911-1914",null,{"$f":"(J14-J12)/(I14-I12)","v":10},{"$f":"TEXT(L12+K13,0)&\"-\"&TEXT(L14-K13,0)","v":"60-90"}]
[null,null,1883,"-",0,70,70,null,1915,100,null,{"$f":"IF(J14<>\"-\",J14,L13+K14)","v":100}]
[null,null,1884,"-",0,70,70,null,"1916-1924",null,{"$f":"(J16-J14)/(I16-I14)","v":-5},{"$f":"TEXT(L14+K15,0)&\"-\"&TEXT(L16-K15,0)","v":"95-55"}]
[null,null,1885,"-",0,70,70,null,1925,50,null,{"$f":"IF(J16<>\"-\",J16,L3+K16)","v":50}]
[null,null,1886,"-",0,70,70,null,"1926-1929","-",{"$f":"(J18-J16)/(I18-I16)","v":{"v":2.4,"d":"2"}},{"$f":"TEXT(L16+K17,0)&\"-\"&TEXT(L18-K17,0)","v":"52-60"}]
[null,null,1887,"-",0,70,70,null,1930,62,null,{"$f":"IF(J18<>\"-\",J18,L17+K18)","v":62}]
[null,null,1888,"-",0,70,70,null,{"$f":"TEXT(I18,0)&\"-\"&TEXT(I20,0)","v":"1930-1933"},"-",{"$f":"(J20-J18)/(I20-I18)","v":{"v":25.666666666666668,"d":"26"}},{"$f":"TEXT(L18+K19,0)&\"-\"&TEXT(L20-K19,0)","v":"88-113"}]
[null,null,1889,"-",0,70,70,null,1933,139,null,{"$f":"IF(J20<>\"-\",J20,L19+K20)","v":139}]
[null,null,1890,"-",0,70,70,null,{"$f":"TEXT(I20,0)&\"-\"&TEXT(I22,0)","v":"1933-1935"},"-",{"$f":"(J22-J20)/(I22-I20)","v":{"v":-24.5,"d":"-25"}},{"$f":"TEXT(L20+K21,0)&\"-\"&TEXT(L22-K21,0)","v":"115-115"}]
[null,null,1891,"-",0,70,70,null,1935,90,null,{"$f":"IF(J22<>\"-\",J22,L21+K22)","v":90}]
[null,null,1892,"-",0,70,70,null,{"$f":"TEXT(I22,0)&\"-\"&TEXT(I24,0)","v":"1935-1940"},"-",{"$f":"(J24-J22)/(I24-I22)","v":{"v":0.2,"d":"0"}},{"$f":"TEXT(L22+K23,0)&\"-\"&TEXT(L24-K23,0)","v":"90-91"}]
[null,null,1893,"-",0,70,70,null,1940,91,null,{"$f":"IF(J24<>\"-\",J24,L23+K24)","v":91}]
[null,null,1894,"-",0,70,70,null,{"$f":"TEXT(I24,0)&\"-\"&TEXT(I26,0)","v":"1940-1945"},"-",{"$f":"(J26-J24)/(I26-I24)","v":{"v":-0.4,"d":"-0"}},{"$f":"TEXT(L24+K25,0)&\"-\"&TEXT(L26-K25,0)","v":"91-89"}]
[null,null,1895,"-",0,70,70,null,1945,89,null,{"$f":"IF(J26<>\"-\",J26,L25+K26)","v":89}]
[null,null,1896,"-",0,70,70,null,{"$f":"TEXT(I26,0)&\"-\"&TEXT(I28,0)","v":"1945-1950"},"-",{"$f":"(J28-J26)/(I28-I26)","v":{"v":1.4,"d":"1"}},{"$f":"TEXT(L26+K27,0)&\"-\"&TEXT(L28-K27,0)","v":"90-95"}]
[null,null,1897,"-",0,70,70,null,1950,96,null,{"$f":"IF(J28<>\"-\",J28,#REF!+K28)","v":96}]
[null,null,1898,"-",0,70,70,null,{"$f":"TEXT(I28,0)&\"-\"&TEXT(I30,0)","v":"1950-1955"},"-",{"$f":"(J30-J28)/(I30-I28)","v":{"v":0.8,"d":"1"}},{"$f":"TEXT(L28+K29,0)&\"-\"&TEXT(L30-K29,0)","v":"97-99"}]
[null,null,1899,"-",0,70,70,null,1955,100,null,{"$f":"IF(J30<>\"-\",J30,#REF!+K30)","v":100}]
["Anchorpoint:",2,1900,70,0,null,70,null,{"$f":"TEXT(I30,0)&\"-\"&TEXT(I32,0)","v":"1955-1960"},"-",{"$f":"(J32-J30)/(I32-I30)","v":{"v":1.4,"d":"1"}},{"$f":"TEXT(L30+K31,0)&\"-\"&TEXT(L32-K31,0)","v":"101-106"}]
[null,null,1901,"-",{"$f":"(D33-D31)/(C33-C31)","v":15},{"$f":"IF(D32<>\"-\",D32,G31+E32)","v":85},85,null,1960,107,null,{"$f":"IF(J32<>\"-\",J32,#REF!+K32)","v":107}]
["Anchorpoint:",3,1902,100,null,null,{"$f":"IF(F33=\"\",D33,F33)","v":100},null,{"$f":"TEXT(I32,0)&\"-\"&TEXT(I34,0)","v":"1960-1965"},"-",{"$f":"(J34-J32)/(I34-I32)","v":{"v":0.6,"d":"1"}},{"$f":"TEXT(L32+K33,0)&\"-\"&TEXT(L34-K33,0)","v":"108-109"}]
[null,null,1903,"-",{"$f":"(D33-D36)/(C33-C36)","v":{"v":-23.333333333333332,"d":"-23"}},{"$f":"IF(D34<>\"-\",D34,G33+E34)","v":{"v":76.66666666666667,"d":"77"}},{"v":76.66666666666667,"d":"77"},null,1965,110,null,{"$f":"IF(J34<>\"-\",J34,#REF!+K34)","v":110}]
[null,null,1904,"-",{"v":-23.333333333333332,"d":"-23"},{"$f":"IF(D35<>\"-\",D35,G34+E35)","v":{"v":53.33333333333334,"d":"53"}},{"v":53.33333333333334,"d":"53"},null,{"$f":"TEXT(I34,0)&\"-\"&TEXT(I36,0)","v":"1965-1970"},"-",{"$f":"(J36-J34)/(I36-I34)","v":{"v":0.4,"d":"0"}},{"$f":"TEXT(L34+K35,0)&\"-\"&TEXT(L36-K35,0)","v":"110-112"}]
["Anchorpoint:",4,1905,30,null,null,{"$f":"IF(F36=\"\",D36,F36)","v":30},null,1970,112,null,{"$f":"IF(J36<>\"-\",J36,#REF!+K36)","v":112}]
[null,null,1906,"-",{"$f":"(D36-D38)/(C36-C38)","v":{"v":22.5,"d":"23"}},{"$f":"IF(D37<>\"-\",D37,G36+E37)","v":{"v":52.5,"d":"53"}},{"v":52.5,"d":"53"},null,{"$f":"TEXT(I36,0)&\"-\"&TEXT(I38,0)","v":"1970-1975"},"-",{"$f":"(J38-J36)/(I38-I36)","v":{"v":1.6,"d":"2"}},{"$f":"TEXT(L36+K37,0)&\"-\"&TEXT(L38-K37,0)","v":"114-118"}]
["Anchorpoint:",5,1907,75,null,null,{"$f":"IF(F38=\"\",D38,F38)","v":75},null,1975,120,null,{"$f":"IF(J38<>\"-\",J38,#REF!+K38)","v":120}]
[null,null,1908,"-",{"$f":"(D38-D41)/(C38-C41)","v":{"v":-8.333333333333334,"d":"-8"}},{"$f":"IF(D39<>\"-\",D39,G38+E39)","v":{"v":66.66666666666667,"d":"67"}},{"v":66.66666666666667,"d":"67"},null,{"$f":"TEXT(I38,0)&\"-\"&TEXT(I40,0)","v":"1975-1980"},"-",{"$f":"(J40-J38)/(I40-I38)","v":-7},{"$f":"TEXT(L38+K39,0)&\"-\"&TEXT(L40-K39,0)","v":"113-92"}]
[null,null,1909,"-",{"v":-8.333333333333334,"d":"-8"},{"$f":"IF(D40<>\"-\",D40,G39+E40)","v":{"v":58.333333333333336,"d":"58"}},{"v":58.333333333333336,"d":"58"},null,1980,85,null,{"$f":"IF(J40<>\"-\",J40,#REF!+K40)","v":85}]
["Anchorpoint:",6,1910,50,null,null,{"$f":"IF(F41=\"\",D41,F41)","v":50},null,{"$f":"TEXT(I40,0)&\"-\"&TEXT(I42,0)","v":"1980-1985"},"-",{"$f":"(J42-J40)/(I42-I40)","v":-5},{"$f":"TEXT(L40+K41,0)&\"-\"&TEXT(L42-K41,0)","v":"80-65"}]
[null,null,1911,"-",{"$f":"(D41-D46)/(C41-C46)","v":10},{"$f":"IF(D42<>\"-\",D42,G41+E42)","v":60},60,null,1985,60,null,{"$f":"IF(J42<>\"-\",J42,#REF!+K42)","v":60}]
[null,null,1912,"-",10,{"$f":"IF(D43<>\"-\",D43,G42+E43)","v":70},70,null,{"$f":"TEXT(I42,0)&\"-\"&TEXT(I44,0)","v":"1985-1990"},"-",{"$f":"(J44-J42)/(I44-I42)","v":{"v":-1.4,"d":"-1"}},{"$f":"TEXT(L42+K43,0)&\"-\"&TEXT(L44-K43,0)","v":"59-54"}]
[null,null,1913,"-",10,{"$f":"IF(D44<>\"-\",D44,G43+E44)","v":80},80,null,1990,53,null,{"$f":"IF(J44<>\"-\",J44,#REF!+K44)","v":53}]
[null,null,1914,"-",10,{"$f":"IF(D45<>\"-\",D45,G44+E45)","v":90},90,null,{"$f":"TEXT(I44,0)&\"-\"&TEXT(I46,0)","v":"1990-1995"},"-",{"$f":"(J46-J44)/(I46-I44)","v":{"v":-3.2,"d":"-3"}},{"$f":"TEXT(L44+K45,0)&\"-\"&TEXT(L46-K45,0)","v":"50-40"}]
["Anchorpoint:",7,1915,100,10,null,100,null,1995,37,null,{"$f":"IF(J46<>\"-\",J46,L51+K46)","v":37}]
[null,null,1916,"-",{"$f":"(D46-D56)/(C46-C56)","v":-5},{"$f":"IF(D47<>\"-\",D47,G46+E47)","v":95},95,null,{"$f":"TEXT(I46,0)&\"-\"&TEXT(I48,0)","v":"1995-2000"},"-",{"$f":"(J48-J46)/(I48-I46)","v":{"v":-3.4,"d":"-3"}},{"$f":"TEXT(L46+K47,0)&\"-\"&TEXT(L48-K47,0)","v":"34-23"}]
[null,null,1917,"-",-5,90,90,null,2000,20,null,{"$f":"IF(J48<>\"-\",J48,#REF!+K48)","v":20}]
[null,null,1918,"-",-5,85,85,null,{"$f":"TEXT(I48,0)&\"-\"&TEXT(I50,0)","v":"2000-2018"},"-",0,{"$f":"TEXT(L48+K49,0)&\"-\"&TEXT(L50-K49,0)","v":"20-20"}]
[null,null,1919,"-",-5,80,80,null,2018,"-",null,20]
[null,null,1920,"-",-5,75,75]
[null,null,1921,"-",-5,70,70]
[null,null,1922,"-",-5,65,65]
[null,null,1923,"-",-5,60,60]
[null,null,1924,"-",-5,55,55]
["Anchorpoint:",8,1925,50,null,null,50]
[null,null,1926,"-",{"$f":"(D56-D61)/(C56-C61)","v":{"v":2.4,"d":"2"}},{"$f":"IF(D57<>\"-\",D57,G56+E57)","v":{"v":52.4,"d":"52"}},{"v":52.4,"d":"52"}]
[null,null,1927,"-",{"$f":"E57","v":{"v":2.4,"d":"2"}},{"$f":"IF(D58<>\"-\",D58,G57+E58)","v":{"v":54.8,"d":"55"}},{"v":54.8,"d":"55"}]
[null,null,1928,"-",{"$f":"E58","v":{"v":2.4,"d":"2"}},{"$f":"IF(D59<>\"-\",D59,G58+E59)","v":{"v":57.199999999999996,"d":"57"}},{"v":57.199999999999996,"d":"57"}]
[null,null,1929,"-",{"$f":"E59","v":{"v":2.4,"d":"2"}},{"$f":"IF(D60<>\"-\",D60,G59+E60)","v":{"v":59.599999999999994,"d":"60"}},{"v":59.599999999999994,"d":"60"}]
["Anchorpoint:",9,1930,62,null,null,62]
[null,null,1931,"-",{"$f":"(D63-D61)/(C63-C61)","v":{"v":38.5,"d":"39"}},{"$f":"IF(D62<>\"-\",D62,G61+E62)","v":{"v":100.5,"d":"101"}},{"v":100.5,"d":"101"}]
["Anchorpoint:",10,1932,139,null,null,139]
[null,null,1933,"-",{"$f":"(D66-D63)/(C66-C63)","v":{"v":-16.333333333333332,"d":"-16"}},{"$f":"IF(D64<>\"-\",D64,G63+E64)","v":{"v":122.66666666666667,"d":"123"}},{"v":122.66666666666667,"d":"123"}]
[null,null,1934,"-",0,{"$f":"IF(D65<>\"-\",D65,G64+E65)","v":{"v":122.66666666666667,"d":"123"}},{"v":122.66666666666667,"d":"123"}]
["Anchorpoint:",11,1935,90,null,null,90]
[null,null,1936,"-",{"$f":"(D71-D66)/(C71-C66)","v":{"v":0.2,"d":"0"}},{"$f":"IF(D67<>\"-\",D67,G66+E67)","v":{"v":90.2,"d":"90"}},{"$f":"IF(F67=\"\",D67,F67)","v":{"v":90.2,"d":"90"}}]
[null,null,1937,"-",{"$f":"E67","v":{"v":0.2,"d":"0"}},{"$f":"IF(D68<>\"-\",D68,G67+E68)","v":{"v":90.4,"d":"90"}},{"v":90.4,"d":"90"}]
[null,null,1938,"-",{"$f":"E68","v":{"v":0.2,"d":"0"}},{"$f":"IF(D69<>\"-\",D69,G68+E69)","v":{"v":90.60000000000001,"d":"91"}},{"v":90.60000000000001,"d":"91"}]
[null,null,1939,"-",{"$f":"E69","v":{"v":0.2,"d":"0"}},{"$f":"IF(D70<>\"-\",D70,G69+E70)","v":{"v":90.80000000000001,"d":"91"}},{"v":90.80000000000001,"d":"91"}]
["Anchorpoint:",12,1940,91,null,null,91]
[null,null,1941,"-",{"$f":"(D76-D71)/(C76-C71)","v":{"v":-0.4,"d":"-0"}},{"$f":"IF(D72<>\"-\",D72,G71+E72)","v":{"v":90.6,"d":"91"}},{"v":90.6,"d":"91"}]
[null,null,1942,"-",{"$f":"E72","v":{"v":-0.4,"d":"-0"}},{"$f":"IF(D73<>\"-\",D73,G72+E73)","v":{"v":90.19999999999999,"d":"90"}},{"v":90.19999999999999,"d":"90"}]
[null,null,1943,"-",{"$f":"E73","v":{"v":-0.4,"d":"-0"}},{"$f":"IF(D74<>\"-\",D74,G73+E74)","v":{"v":89.79999999999998,"d":"90"}},{"v":89.79999999999998,"d":"90"}]
[null,null,1944,"-",{"$f":"E74","v":{"v":-0.4,"d":"-0"}},{"$f":"IF(D75<>\"-\",D75,G74+E75)","v":{"v":89.39999999999998,"d":"89"}},{"v":89.39999999999998,"d":"89"}]
["Anchorpoint:",13,1945,89,null,null,89]
[null,null,1946,"-",{"$f":"(D81-D76)/(C81-C76)","v":{"v":1.4,"d":"1"}},{"$f":"IF(D77<>\"-\",D77,G76+E77)","v":{"v":90.4,"d":"90"}},{"v":90.4,"d":"90"}]
[null,null,1947,"-",{"$f":"E77","v":{"v":1.4,"d":"1"}},{"$f":"IF(D78<>\"-\",D78,G77+E78)","v":{"v":91.80000000000001,"d":"92"}},{"v":91.80000000000001,"d":"92"}]
[null,null,1948,"-",{"$f":"E78","v":{"v":1.4,"d":"1"}},{"$f":"IF(D79<>\"-\",D79,G78+E79)","v":{"v":93.20000000000002,"d":"93"}},{"v":93.20000000000002,"d":"93"}]
[null,null,1949,"-",{"$f":"E79","v":{"v":1.4,"d":"1"}},{"$f":"IF(D80<>\"-\",D80,G79+E80)","v":{"v":94.60000000000002,"d":"95"}},{"v":94.60000000000002,"d":"95"}]
["Anchorpoint:",14,1950,96,null,null,96]
[null,null,1951,"-",{"$f":"(D86-D81)/(C86-C81)","v":{"v":0.8,"d":"1"}},{"$f":"IF(D82<>\"-\",D82,G81+E82)","v":{"v":96.8,"d":"97"}},{"v":96.8,"d":"97"}]
[null,null,1952,"-",{"$f":"E82","v":{"v":0.8,"d":"1"}},{"$f":"IF(D83<>\"-\",D83,G82+E83)","v":{"v":97.6,"d":"98"}},{"v":97.6,"d":"98"}]
[null,null,1953,"-",{"$f":"E83","v":{"v":0.8,"d":"1"}},{"$f":"IF(D84<>\"-\",D84,G83+E84)","v":{"v":98.39999999999999,"d":"98"}},{"v":98.39999999999999,"d":"98"}]
[null,null,1954,"-",{"$f":"E84","v":{"v":0.8,"d":"1"}},{"$f":"IF(D85<>\"-\",D85,G84+E85)","v":{"v":99.19999999999999,"d":"99"}},{"v":99.19999999999999,"d":"99"}]
["Anchorpoint:",15,1955,100,null,null,100]
[null,null,1956,"-",{"$f":"(D91-D86)/(C91-C86)","v":{"v":1.4,"d":"1"}},{"$f":"IF(D87<>\"-\",D87,G86+E87)","v":{"v":101.4,"d":"101"}},{"v":101.4,"d":"101"}]
[null,null,1957,"-",{"$f":"E87","v":{"v":1.4,"d":"1"}},{"$f":"IF(D88<>\"-\",D88,G87+E88)","v":{"v":102.80000000000001,"d":"103"}},{"v":102.80000000000001,"d":"103"}]
[null,null,1958,"-",{"$f":"E88","v":{"v":1.4,"d":"1"}},{"$f":"IF(D89<>\"-\",D89,G88+E89)","v":{"v":104.20000000000002,"d":"104"}},{"v":104.20000000000002,"d":"104"}]
[null,null,1959,"-",{"$f":"E89","v":{"v":1.4,"d":"1"}},{"$f":"IF(D90<>\"-\",D90,G89+E90)","v":{"v":105.60000000000002,"d":"106"}},{"v":105.60000000000002,"d":"106"}]
["Anchorpoint:",16,1960,107,null,null,107]
[null,null,1961,"-",{"$f":"(D96-D91)/(C96-C91)","v":{"v":0.6,"d":"1"}},{"$f":"IF(D92<>\"-\",D92,G91+E92)","v":{"v":107.6,"d":"108"}},{"v":107.6,"d":"108"}]
[null,null,1962,"-",{"$f":"E92","v":{"v":0.6,"d":"1"}},{"$f":"IF(D93<>\"-\",D93,G92+E93)","v":{"v":108.19999999999999,"d":"108"}},{"v":108.19999999999999,"d":"108"}]
[null,null,1963,"-",{"$f":"E93","v":{"v":0.6,"d":"1"}},{"$f":"IF(D94<>\"-\",D94,G93+E94)","v":{"v":108.79999999999998,"d":"109"}},{"v":108.79999999999998,"d":"109"}]
[null,null,1964,"-",{"$f":"E94","v":{"v":0.6,"d":"1"}},{"$f":"IF(D95<>\"-\",D95,G94+E95)","v":{"v":109.39999999999998,"d":"109"}},{"v":109.39999999999998,"d":"109"}]
["Anchorpoint:",17,1965,110,null,null,110]
[null,null,1966,"-",{"$f":"(D101-D96)/(C101-C96)","v":{"v":0.4,"d":"0"}},{"$f":"IF(D97<>\"-\",D97,G96+E97)","v":{"v":110.4,"d":"110"}},{"v":110.4,"d":"110"}]
[null,null,1967,"-",{"$f":"E97","v":{"v":0.4,"d":"0"}},{"$f":"IF(D98<>\"-\",D98,G97+E98)","v":{"v":110.80000000000001,"d":"111"}},{"v":110.80000000000001,"d":"111"}]
[null,null,1968,"-",{"$f":"E98","v":{"v":0.4,"d":"0"}},{"$f":"IF(D99<>\"-\",D99,G98+E99)","v":{"v":111.20000000000002,"d":"111"}},{"v":111.20000000000002,"d":"111"}]
[null,null,1969,"-",{"$f":"E99","v":{"v":0.4,"d":"0"}},{"$f":"IF(D100<>\"-\",D100,G99+E100)","v":{"v":111.60000000000002,"d":"112"}},{"v":111.60000000000002,"d":"112"}]
["Anchorpoint:",18,1970,112,null,null,112]
[null,null,1971,"-",{"$f":"(D106-D101)/(C106-C101)","v":{"v":1.6,"d":"2"}},{"$f":"IF(D102<>\"-\",D102,G101+E102)","v":{"v":113.6,"d":"114"}},{"v":113.6,"d":"114"}]
[null,null,1972,"-",{"$f":"E102","v":{"v":1.6,"d":"2"}},{"$f":"IF(D103<>\"-\",D103,G102+E103)","v":{"v":115.19999999999999,"d":"115"}},{"v":115.19999999999999,"d":"115"}]
[null,null,1973,"-",{"$f":"E103","v":{"v":1.6,"d":"2"}},{"$f":"IF(D104<>\"-\",D104,G103+E104)","v":{"v":116.79999999999998,"d":"117"}},{"v":116.79999999999998,"d":"117"}]
[null,null,1974,"-",{"$f":"E104","v":{"v":1.6,"d":"2"}},{"$f":"IF(D105<>\"-\",D105,G104+E105)","v":{"v":118.39999999999998,"d":"118"}},{"v":118.39999999999998,"d":"118"}]
["Anchorpoint:",19,1975,120,null,null,120]
[null,null,1976,"-",{"$f":"(D111-D106)/(C111-C106)","v":-7},{"$f":"IF(D107<>\"-\",D107,G106+E107)","v":113},113]
[null,null,1977,"-",{"$f":"E107","v":-7},{"$f":"IF(D108<>\"-\",D108,G107+E108)","v":106},106]
[null,null,1978,"-",{"$f":"E108","v":-7},{"$f":"IF(D109<>\"-\",D109,G108+E109)","v":99},99]
[null,null,1979,"-",{"$f":"E109","v":-7},{"$f":"IF(D110<>\"-\",D110,G109+E110)","v":92},92]
["Anchorpoint:",20,1980,85,null,null,85]
[null,null,1981,"-",{"$f":"(D116-D111)/(C116-C111)","v":-5},{"$f":"IF(D112<>\"-\",D112,G111+E112)","v":80},80]
[null,null,1982,"-",{"$f":"E112","v":-5},{"$f":"IF(D113<>\"-\",D113,G112+E113)","v":75},75]
[null,null,1983,"-",{"$f":"E113","v":-5},{"$f":"IF(D114<>\"-\",D114,G113+E114)","v":70},70]
[null,null,1984,"-",{"$f":"E114","v":-5},{"$f":"IF(D115<>\"-\",D115,G114+E115)","v":65},65]
["Anchorpoint:",21,1985,60,null,null,60]
[null,null,1986,"-",{"$f":"(D121-D116)/(C121-C116)","v":{"v":-1.4,"d":"-1"}},{"$f":"IF(D117<>\"-\",D117,G116+E117)","v":{"v":58.6,"d":"59"}},{"v":58.6,"d":"59"}]
[null,null,1987,"-",{"$f":"E117","v":{"v":-1.4,"d":"-1"}},{"$f":"IF(D118<>\"-\",D118,G117+E118)","v":{"v":57.2,"d":"57"}},{"v":57.2,"d":"57"}]
[null,null,1988,"-",{"$f":"E118","v":{"v":-1.4,"d":"-1"}},{"$f":"IF(D119<>\"-\",D119,G118+E119)","v":{"v":55.800000000000004,"d":"56"}},{"v":55.800000000000004,"d":"56"}]
[null,null,1989,"-",{"$f":"E119","v":{"v":-1.4,"d":"-1"}},{"$f":"IF(D120<>\"-\",D120,G119+E120)","v":{"v":54.400000000000006,"d":"54"}},{"v":54.400000000000006,"d":"54"}]
["Anchorpoint:",22,1990,53,null,null,53]
[null,null,1991,"-",{"$f":"(D126-D121)/(C126-C121)","v":{"v":-3.2,"d":"-3"}},{"$f":"IF(D122<>\"-\",D122,G121+E122)","v":{"v":49.8,"d":"50"}},{"v":49.8,"d":"50"}]
[null,null,1992,"-",{"$f":"E122","v":{"v":-3.2,"d":"-3"}},{"$f":"IF(D123<>\"-\",D123,G122+E123)","v":{"v":46.599999999999994,"d":"47"}},{"v":46.599999999999994,"d":"47"}]
[null,null,1993,"-",{"$f":"E123","v":{"v":-3.2,"d":"-3"}},{"$f":"IF(D124<>\"-\",D124,G123+E124)","v":{"v":43.39999999999999,"d":"43"}},{"v":43.39999999999999,"d":"43"}]
[null,null,1994,"-",{"$f":"E124","v":{"v":-3.2,"d":"-3"}},{"$f":"IF(D125<>\"-\",D125,G124+E125)","v":{"v":40.19999999999999,"d":"40"}},{"v":40.19999999999999,"d":"40"}]
["Anchorpoint:",23,1995,37,null,null,37]
[null,null,1996,"-",{"$f":"(D131-D126)/(C131-C126)","v":{"v":-3.4,"d":"-3"}},{"$f":"IF(D127<>\"-\",D127,G126+E127)","v":{"v":33.6,"d":"34"}},{"v":33.6,"d":"34"}]
[null,null,1997,"-",{"$f":"E127","v":{"v":-3.4,"d":"-3"}},{"$f":"IF(D128<>\"-\",D128,G127+E128)","v":{"v":30.200000000000003,"d":"30"}},{"v":30.200000000000003,"d":"30"}]
[null,null,1998,"-",{"$f":"E128","v":{"v":-3.4,"d":"-3"}},{"$f":"IF(D129<>\"-\",D129,G128+E129)","v":{"v":26.800000000000004,"d":"27"}},{"v":26.800000000000004,"d":"27"}]
[null,null,1999,"-",{"$f":"E129","v":{"v":-3.4,"d":"-3"}},{"$f":"IF(D130<>\"-\",D130,G129+E130)","v":{"v":23.400000000000006,"d":"23"}},{"v":23.400000000000006,"d":"23"}]
["Anchorpoint:",24,2000,20,null,null,{"$f":"IF(F131=\"\",D131,F131)","v":20}]
[null,null,2001,"-",0,{"$f":"IF(D132<>\"-\",D132,G131+E132)","v":20},20]
[null,null,2002,"-",0,20,20]
[null,null,2003,"-",0,20,20]
[null,null,2004,"-",0,20,20]
[null,null,2005,"-",0,20,20]
[null,null,2006,"-",0,20,20]
[null,null,2007,"-",0,20,20]
[null,null,2008,"-",0,20,20]
[null,null,2009,"-",0,20,20]
[null,null,2010,"-",0,20,20]
[null,null,2011,"-",0,20,20]
[null,null,2012,"-",0,20,20]
[null,null,2013,"-",0,20,20]
[null,null,2014,"-",0,20,20]
[null,null,2015,"-",0,20,20]
[null,null,2016,"-",0,20,20]
[null,null,2017,"-",0,20,20]
["Anchorpoint:",25,2018,20,null,null,20]